Workbook

Sheet Intro
B19: Overview Northern Hemisphere apple and pear stocks 2025-2026 | G19: APRIL
B21: Content: | C21: US situation
C22: European situation per country
C23: European situation per variety
C24: European countries by variety
B26: Sources: | C26: US: | D26: Washington Apple Commission, Pear Bureau Northwest
C27: Austria: | D27: Landeskammer für Land- und Forstwirtschaft Steiermark
C28: Belgium: | D28: VBT
C29: Czech Republic: | D29: Central Institute for Supervising and Testing in Agriculture, Division of perennial plants
C30: Denmark: | D30: SAPA
C31: France: | D31: ANPP
C32: Germany: | D32: AMI
C33: Italy: | D33: ASSOMELA, CSO
C34: Poland: | D34: SOCIETY FOR PROMOTION OF DWARF FRUIT ORCHARDS
C35: Portugal: | D35: ANP - Associação Nacional de Produtores de Pera Rocha
C36: Spain: | D36: AFRUCAT
C37: Switzerland: | D37: SWISSCOFEL
C38: The Netherlands: | D38: Productschap Tuinbouw
C39: United Kingdom: | D39: British Apples & Pears

Sheet US
A1: Variety (Ton) | B1: %YOY | C1: Moved 2026 | D1: Moved 2025 | E1: 46113 | F1: 45748 | G1: 45383 | H1: 45017 | I1: 44652 | J1: 44287 | K1: 43922 | L1: 43556 | M1: 43191 | N1: 42826 | O1: 42461 | P1: 42095 | Q1: 41730 | R1: 41365 | S1: 41000 | T1: 40634 | U1: 40269 | V1: 39904 | W1: 39539 | X1: 39173
A2: Braeburn | B2: =IFERROR(((E2-F2)/F2),"") | C2: 0 | D2: 0 | I2: 981.02511 | J2: 2359.603 | K2: 3525 | L2: 4116 | M2: 3354 | N2: 5221 | O2: 2515 | P2: 14540 | Q2: 4097 | R2: 10271 | S2: 8099 | T2: 22143.376 | U2: 16464.61 | V2: 23267.695 | W2: 18465.517 | X2: 13072.595
A3: Cortland | B3: =IFERROR(((E3-F3)/F3),"") -> 0.048476857 | C3: -205.23513 | D3: -738.65975 | E3: 1166.4854 | F3: 1112.5523 | G3: 1575.4125 | H3: 1169.9336 | I3: 839.76283 | J3: 1715.769 | K3: 877 | L3: 2477 | M3: 1277 | N3: 858 | O3: 2401 | P3: 1467 | Q3: 1925 | R3: 133 | S3: 838 | T3: 1276.7695 | U3: 1048.0944 | V3: 2000.9074 | W3: 2115.245 | X3: 838.4755
A4: Cosmic Crisp | B4: =IFERROR(((E4-F4)/F4),"") -> 0.088469544 | C4: -26634.939 | D4: -25455.595 | E4: 161170.44 | F4: 148070.69 | G4: 99790.317 | H4: 68547.56 | I4: 43166.724 | J4: 11070.773 | K4: 0
A5: Empire | B5: =IFERROR(((E5-F5)/F5),"") -> 0.090200284 | C5: -1979.5007 | D5: -3486.6729 | E5: 4435.2162 | F5: 4068.2582 | G5: 8059.5889 | H5: 6744.0876 | I5: 6051.779 | J5: 8504.295 | K5: 4211 | L5: 12691 | M5: 10405 | N5: 6041 | O5: 7089 | P5: 10157 | Q5: 13682 | R5: 1448 | S5: 8918 | T5: 8899.274 | U5: 18027.223 | V5: 12367.514 | W5: 11262.25 | X5: 15931.034
A6: Fuji | B6: =IFERROR(((E6-F6)/F6),"") -> -0.15571278 | C6: -23263.029 | D6: -29722.782 | E6: 102596.3 | F6: 121518.25 | G6: 125556.27 | H6: 110071.79 | I6: 107040.04 | J6: 138523.03 | K6: 146809 | L6: 119064 | M6: 137910 | N6: 107077 | O6: 91699 | P6: 109230 | Q6: 87487 | R6: 140483 | S6: 79865 | T6: 108125.23 | U6: 76720.508 | V6: 108239.56 | W6: 64067.151 | X6: 65401.089
A7: Gala | B7: =IFERROR(((E7-F7)/F7),"") -> -0.23595186 | C7: -39570.468 | D7: -47694.106 | E7: 157533.67 | F7: 206182.91 | G7: 197796.8 | H7: 197347.6 | I7: 160397.37 | J7: 183478.05 | K7: 235154 | L7: 187094 | M7: 205160 | N7: 183607 | O7: 127277 | P7: 182788 | Q7: 127772 | R7: 134804 | S7: 112946 | T7: 95662.432 | U7: 86915.608 | V7: 84457.35 | W7: 62161.525 | X7: 45315.789
A8: Golden Delicious | B8: =IFERROR(((E8-F8)/F8),"") -> -0.11342697 | C8: -9891.9215 | D8: -8765.424 | E8: 44588.069 | F8: 50292.607 | G8: 54620.758 | H8: 37208.654 | I8: 46510.039 | J8: 42853.034 | K8: 82838 | L8: 44420 | M8: 72814 | N8: 58617 | O8: 78836 | P8: 126248 | Q8: 102256 | R8: 115367 | S8: 94919 | T8: 99702.359 | U8: 98368.421 | V8: 134232.3 | W8: 104123.41 | X8: 76853.902
A9: Granny Smith | B9: =IFERROR(((E9-F9)/F9),"") -> 0.068548186 | C9: -41543.529 | D9: -32234.717 | E9: 170191.66 | F9: 159273.74 | G9: 173230.2 | H9: 100577.96 | I9: 161009.36 | J9: 108267.96 | K9: 153117 | L9: 114014 | M9: 192564 | N9: 92194 | O9: 149058 | P9: 136348 | Q9: 132841 | R9: 101113 | S9: 99359 | T9: 95395.644 | U9: 85086.207 | V9: 135032.67 | W9: 85657.895 | X9: 101855.72
A10: Honey crisp | B10: =IFERROR(((E10-F10)/F10),"") -> 0.33154465 | C10: -23360.208 | D10: -26752.96 | E10: 120688.88 | F10: 90638.255 | G10: 171123.33 | H10: 86713.355 | I10: 111545.46 | J10: 108575.79 | K10: 85677 | L10: 70546 | M10: 64505 | N10: 27784 | O10: 30852 | P10: 12749 | Q10: 6250 | R10: 667
A11: Idared | B11: =IFERROR(((E11-F11)/F11),"") -> 0.73885536 | C11: -108.30425 | D11: -1352.5743 | E11: 455.52558 | F11: 261.96864 | G11: 1467.6417 | H11: 1536.2439 | I11: 914.76614 | J11: 1587.844 | K11: 1448 | L11: 858 | M11: 1201 | N11: 1810 | O11: 1563 | P11: 2782 | Q11: 5488 | R11: 534 | S11: 3449 | T11: 609.80036 | U11: 3868.4211 | V11: 4535.3902 | W11: 3144.2831 | X11: 3182.3956
A12: Jonagold | B12: =IFERROR(((E12-F12)/F12),"") | C12: 0 | D12: 0 | L12: 4840 | M12: 4593 | N12: 6022 | O12: 3335 | P12: 9890 | Q12: 9338 | R12: 4593 | S12: 5164 | T12: 6040.8348 | U12: 5240.4719 | V12: 4649.7278 | W12: 2305.8076 | X12: 3144.2831
A13: Jonathan | B13: =IFERROR(((E13-F13)/F13),"") -> -0.24469397 | C13: -97.235689 | D13: -237.29776 | E13: 326.77974 | F13: 432.64547 | G13: 857.823 | H13: 808.97655 | I13: 527.59509 | J13: 739.135 | K13: 1772 | L13: 1696 | M13: 0 | N13: 229 | O13: 1582 | P13: 1601 | Q13: 2401 | R13: 38 | S13: 2496 | T13: 876.58802 | U13: 6117.0599 | V13: 1295.8258 | W13: 743.19419 | X13: 1314.882
A14: McIntosh | B14: =IFERROR(((E14-F14)/F14),"") -> -0.4280903 | C14: -3697.5281 | D14: -3337.5807 | E14: 5004.6851 | F14: 8750.831 | G14: 9467.0869 | H14: 8146.4609 | I14: 7773.6357 | J14: 9554.2 | K14: 10672 | L14: 14368 | M14: 12444 | N14: 9204 | O14: 14769 | P14: 17799 | Q14: 18408 | R14: 2172 | S14: 9776 | T14: 7717.7858 | U14: 20275.862 | V14: 14101.633 | W14: 12291.289 | X14: 11891.107
A15: Mutsu/Crispin | B15: =IFERROR(((E15-F15)/F15),"") -> -0.097110374 | C15: -32.881818 | D15: -713.96981 | E15: 217.86586 | F15: 241.29844 | G15: 551.12289 | H15: 452.28693 | I15: 400.1066 | J15: 524.104 | K15: 610 | L15: 991 | M15: 1525 | N15: 1067 | O15: 648 | P15: 762 | Q15: 1162 | R15: 819 | S15: 2344 | T15: 2134.3013 | U15: 2362.9764 | V15: 2763.1579 | W15: 3887.4773 | X15: 2115.245
A16: Newtown Pippin | B16: =IFERROR(((E16-F16)/F16),"") -> -0.18046678 | C16: -81.899731 | D16: -88.948557 | E16: 322.43614 | F16: 393.43876 | G16: 554.38059 | H16: 439.99911 | I16: 624.39262 | J16: 515.681 | K16: 267 | L16: 324 | M16: 0 | N16: 0 | O16: 0 | P16: 0 | Q16: 0 | R16: 400 | S16: 591 | T16: 1372.0508 | U16: 0 | V16: 2210.5263 | W16: 171.50635 | X16: 57.168784
A17: Northern Spy | B17: =IFERROR(((E17-F17)/F17),"") | C17: 0 | D17: 0 | M17: 0 | N17: 0 | O17: 0 | P17: 0 | Q17: 305 | R17: 19 | S17: 0 | T17: 0 | U17: 38.112523 | V17: 0 | W17: 38.112523 | X17: 38.112523
A18: Cripps Pink | B18: =IFERROR(((E18-F18)/F18),"") -> -0.15689358 | C18: -17940.442 | D18: -22075.15 | E18: 110766.77 | F18: 131379.34 | G18: 93423.837 | H18: 73391.989 | I18: 86047.094 | J18: 69373.405 | K18: 56064 | L18: 56788 | M18: 48841 | N18: 55930 | O18: 45468 | P18: 36417 | Q18: 26202 | R18: 25307 | S18: 19876 | T18: 22829.401 | U18: 24868.421 | V18: 18179.673 | W18: 18789.474 | X18: 7355.7169
A19: Red Delicious | B19: =IFERROR(((E19-F19)/F19),"") -> -0.23675396 | C19: -28368.341 | D19: -40435.092 | E19: 156920.57 | F19: 205596.31 | G19: 224438.39 | H19: 168714.15 | I19: 196256.52 | J19: 221327.67 | K19: 260461 | L19: 285996 | M19: 298383 | N19: 385946 | O19: 278431 | P19: 445383 | Q19: 332589 | R19: 382383 | S19: 333713 | T19: 293142.47 | U19: 334227.77 | V19: 341354.81 | W19: 275134.3 | X19: 313437.39
A20: Rome | B20: =IFERROR(((E20-F20)/F20),"") -> -0.38629437 | C20: -128.09811 | D20: -1245.4322 | E20: 521.72739 | F20: 850.12645 | G20: 1787.2011 | H20: 2526.661 | I20: 2055.7043 | J20: 1472.82 | K20: 2801 | L20: 3506 | M20: 3468 | N20: 5031 | O20: 3525 | P20: 4326 | Q20: 2801 | R20: 2211 | S20: 4554 | T20: 1448.2759 | U20: 3773.1397 | V20: 5126.1343 | W20: 5659.7096 | X20: 5450.0907
A21: Rome Sport | B21: =IFERROR(((E21-F21)/F21),"") -> -0.54610707 | C21: -11.25907 | D21: -12.211614 | E21: 291.53561 | F21: 642.3004 | G21: 394.39131 | H21: 335.21928 | I21: 120.05865 | J21: 54.158 | K21: 572 | L21: 267 | M21: 229 | N21: 2725 | O21: 1563 | P21: 1677 | Q21: 3544 | R21: 229 | S21: 3544 | T21: 1791.2886 | U21: 3620.6897 | V21: 3372.9583 | W21: 2324.8639 | X21: 5011.7967
A22: Spartan | B22: =IFERROR(((E22-F22)/F22),"") -> -0.18763737 | C22: -226.49591 | D22: -530.20503 | E22: 1380.0457 | F22: 1698.805 | G22: 2990.2451 | H22: 1790.8208 | I22: 2065.9537 | J22: 1062.196 | K22: 591 | L22: 2039 | M22: 2172 | N22: 858 | O22: 2554 | P22: 2630 | Q22: 1791 | R22: 229 | S22: 991 | T22: 1867.5136 | U22: 3182.3956 | V22: 2305.8076 | W22: 1657.8947 | X22: 2877.4955
A23: Stayman | B23: =IFERROR(((E23-F23)/F23),"") -> -0.32102161 | C23: -24.556584 | D23: -5.3913989 | E23: 98.75976 | F23: 145.45347 | G23: 117.14386 | H23: 116.24847 | I23: 113.42894 | J23: 98.54 | K23: 76 | L23: 210 | M23: 229 | N23: 133 | O23: 286 | P23: 419 | Q23: 38 | R23: 152 | S23: 267 | T23: 304.90018 | U23: 533.57532 | V23: 438.29401 | W23: 724.13793 | X23: 590.7441
A24: Winesap | B24: =IFERROR(((E24-F24)/F24),"") | C24: 0 | D24: 0 | M24: 0 | N24: 0 | O24: 0 | P24: 0 | Q24: 0 | R24: 0 | S24: 0 | T24: 0 | U24: 0 | V24: 76.225045 | W24: 0 | X24: 19.056261
A25: York | B25: =IFERROR(((E25-F25)/F25),"") -> -0.16171729 | C25: -116.83904 | D25: -126.89791 | E25: 470.55672 | F25: 561.33417 | G25: 570.36428 | H25: 437.23674 | I25: 482.82552 | J25: 533.937 | K25: 133 | L25: 362 | M25: 19 | N25: 57 | O25: 57 | P25: 57 | Q25: 0 | R25: 95 | S25: 191 | T25: 228.67514 | U25: 19.056261 | V25: 57.168784 | W25: 19.056261 | X25: 38.112523
A26: Others | B26: =IFERROR(((E26-F26)/F26),"") -> -0.1953195 | C26: -29693.558 | D26: -26222.64 | E26: 105640.99 | F26: 131283.15 | G26: 132591.3 | H26: 88231.234 | I26: 79615.822 | J26: =51247.966+12649 -> 63896.966 | K26: =(13930+58026) -> 71956 | L26: =39332+9376 -> 48708 | M26: 107325 | N26: 60466 | O26: 52652 | P26: 47564 | Q26: 36721 | R26: 22925 | S26: 14140 | T26: 15187.84 | U26: 17341.198 | V26: 19170.599 | W26: 11662.432 | X26: 14196.915
A27: TOTAL | B27: =IFERROR(((E27-F27)/F27),"") -> -0.093878287 | C27: -246976.27 | D27: -271234.31 | E27: =SUM(E2:E26) -> 1144789 | F27: =SUM(F2:F26) -> 1263394.3 | G27: =SUM(G2:G26) -> 1300963.6 | H27: =SUM(H2:H26) -> 955308.47 | I27: =SUM(I2:I26) -> 1014539.5 | J27: =SUM(J2:J26) -> 976088.96 | K27: =SUM(K2:K26) -> 1119631 | L27: =SUM(L2:L26) -> 975375 | ... X27: =SUM(X2:X26) -> 689989.11
A30: Pear Stocks (Ton) | B30: %YOY | C30: Moved 2026 | D30: Moved 2025 | E30: 46113 | F30: 45748 | G30: 45383 | H30: 45017 | I30: 44652 | J30: 44287 | K30: 43922 | L30: 43556 | M30: 43191 | N30: 42826 | O30: 42461 | P30: 42095 | Q30: 41730 | R30: 41365 | S30: 41000 | T30: 40634 | U30: 40269 | V30: 39904 | W30: 39539 | X30: 39173
A31: Anjou | B31: =IFERROR(((E31-F31)/F31),"") -> 0.75010989 | C31: -16940.98 | D31: -10801.5 | E31: 50644.54 | F31: 28937.92 | G31: 29661.02 | H31: 44139.08 | I31: 51702.66 | J31: 40935.8 | K31: 53752.56 | L31: 55255 | M31: 50746.32 | N31: 45305.42 | O31: 39072.84 | P31: 64343.18 | Q31: 57674.68 | R31: 51093.88 | S31: 66380.48 | T31: 59116.16 | U31: 56464.34 | V31: 43632.4 | W31: 50935.24 | X31: 30827.6
A32: Bosc | B32: =IFERROR(((E32-F32)/F32),"") -> 175.90084 | C32: -6125.46 | D32: -1263.62 | E32: 16770.2 | F32: 94.8 | G32: 6624.5 | H32: 2357.26 | I32: 4793.22 | J32: 5709 | K32: 3253.34 | L32: 10086 | M32: 1915.32 | N32: 7533.16 | O32: 6274.02 | P32: 5956.06 | Q32: 6974.92 | R32: 1595.36 | S32: 10983.28 | T32: 1298.88 | U32: 2212.5 | V32: 5489.88 | W32: 1641.96 | X32: 634.94
A33: Red Anjou | B33: =IFERROR(((E33-F33)/F33),"") -> 0.75449858 | C33: -1545.5 | D33: -1591.46 | E33: 6390.34 | F33: 3642.26 | G33: 9407.08 | H33: 4536.16 | I33: 6187.18 | J33: 3640.66 | K33: 5718 | L33: 5424 | M33: 4505.98 | N33: 4949.78 | O33: 1749.2 | P33: 5960.62 | Q33: 4497.58 | R33: 3113.86 | S33: 4775.12 | T33: 3670.46 | U33: 2345 | V33: 4424.98 | W33: 3653.84 | X33: 2265.58
A34: Comice | B34: =IFERROR(((E34-F34)/F34),"") | C34: -189.9 | D34: -16.64 | E34: 275.68 | F34: 0 | G34: 38.94 | H34: 0 | I34: 8.92 | J34: 0 | K34: 11.1 | L34: 6 | M34: 0 | N34: 1.54 | O34: 0 | P34: 29.58 | Q34: 84.3 | R34: 12.5 | S34: 253.6 | T34: 15.42 | U34: 0.52 | V34: 90.98 | W34: 1.96 | X34: 28.06
A35: Concorde | B35: =IFERROR(((E35-F35)/F35),"") | C35: -172.68 | D35: 0 | F35: 0 | G35: 0 | H35: 0 | I35: 0 | J35: 0 | K35: 0 | L35: 4 | M35: 0 | N35: 0 | O35: 0 | P35: 0 | Q35: 0 | R35: 0 | S35: 70.06 | T35: 0
A36: Seckel | B36: =IFERROR(((E36-F36)/F36),"") | C36: -18.94 | D36: 0 | E36: 39.98 | F36: 0 | G36: 0 | H36: 0 | I36: 0 | J36: 0 | K36: 0 | L36: 1 | M36: 14 | N36: 0 | O36: 0 | P36: 7 | Q36: 46.86 | R36: 0.68 | S36: 21.34 | T36: 5.6 | U36: 11.22 | V36: 0 | W36: 0 | X36: 13.18
A37: Forelle | B37: =IFERROR(((E37-F37)/F37),"") | C37: -85.32 | D37: -3.8 | E37: 71.26 | F37: 0 | G37: 53.74 | H37: 0 | I37: 0 | J37: 0 | K37: 0 | L37: 2 | M37: 0 | N37: 4 | O37: 0
A38: Other Reds | B38: =IFERROR(((E38-F38)/F38),"") | C38: 0 | D38: 0 | J38: 0 | M38: 0 | N38: 0 | O38: 0 | S38: 21.24 | T38: 0 | U38: 6.14 | V38: 16.26 | W38: 0 | X38: 0
A39: Other Winter Varities | B39: =IFERROR(((E39-F39)/F39),"") | C39: -16.84 | D39: -2 | E39: 161.9 | F39: 0 | G39: 35.1 | H39: 44.86 | I39: 9.74 | J39: 0 | K39: 0 | L39: 13 | M39: 14.68 | N39: 6 | O39: 30.26 | P39: 64.28 | Q39: 18.64 | R39: 54.72 | S39: 7.14 | T39: 0.08 | U39: 0.74 | V39: 116.66 | W39: 49.3 | X39: 189.06
A40: Northwest Bartletts (Williams) | B40: =IFERROR(((E40-F40)/F40),"") -> 222.79715 | C40: -3060.8 | D40: -262.78 | E40: 1257.74 | F40: 5.62 | G40: 11.78 | H40: 19.32 | I40: 780.34 | J40: 0 | K40: 0 | L40: 0 | M40: 13.54 | N40: 0 | O40: 0 | P40: 0 | Q40: 0 | R40: 0 | S40: 0 | T40: 0 | U40: 0 | V40: 0 | W40: 3 | X40: 0
A41: TOTAL | B41: =IFERROR(((E41-F41)/F41),"") -> 1.3136552 | C41: -28156.42 | D41: -13941.8 | E41: =SUM(E31:E40) -> 75611.64 | F41: =SUM(F31:F40) -> 32680.6 | G41: =SUM(G31:G40) -> 45832.16 | H41: =SUM(H31:H40) -> 51096.68 | I41: =SUM(I31:I40) -> 63482.06 | J41: =SUM(J31:J40) -> 50285.46 | K41: =SUM(K31:K40) -> 62735 | L41: =SUM(L31:L40) -> 70791 | ... X41: =SUM(X31:X40) -> 33958.42

Sheet Europe - country
A1: Apple stocks (Ton) | B1: %YOY | C1: Moved 2026 | D1: Moved 2025 | E1: 46113 | F1: 45748 | G1: 45383 | H1: 45017 | I1: 44652 | J1: 44287 | K1: 43922 | L1: 43556 | M1: 43191 | N1: 42826 | O1: 42461 | P1: 42095 | Q1: 41730 | R1: 41365 | S1: 41000 | T1: 40634 | U1: 40269 | V1: 39904 | W1: 39539 | X1: 39173
A2: Austria (Steiermark) | B2: =IFERROR(((E2-F2)/F2),"") -> 1.5526526 | C2: -15672.395 | D2: -10652.01 | E2: =Austria!E$21 -> 65647.078 | F2: =Austria!F$21 -> 25717.2 | G2: =Austria!G$21 -> 50972.536 | H2: =Austria!H$21 -> 68727.708 | I2: =Austria!I$21 -> 55777.917 | J2: =Austria!J$21 -> 57735.25 | K2: =Austria!K$21 -> 43068 | L2: =Austria!L$21 -> 73183.84 | ... U2: =Austria!U$21 -> 82632 | V2: 78965 | W2: 62632 | X2: 60027
A3: Belgium | B3: =IFERROR(((E3-F3)/F3),"") -> 0.50128133 | C3: -14273.129 | D3: -9567.9425 | E3: =Belgium!E$10 -> 47075.138 | F3: =Belgium!F$10 -> 31356.64 | G3: =Belgium!G$10 -> 46165.781 | H3: =Belgium!H$10 -> 42807.143 | I3: =Belgium!I$10 -> 85276.48 | J3: =Belgium!J$10 -> 51241 | K3: =Belgium!K$10 -> 76208 | L3: =Belgium!L$10 -> 73268 | ... U3: =Belgium!U$10 -> 92731 | V3: 136700 | W3: 128100 | X3: 112200
A4: Czech Republic | B4: =IFERROR(((E4-F4)/F4),"") -> 2.3998405 | C4: -6318 | D4: -2718 | E4: ='Czech Republic'!E$12 -> 17057 | F4: ='Czech Republic'!F$12 -> 5017 | G4: ='Czech Republic'!G$12 -> 15679 | H4: ='Czech Republic'!H$12 -> 21091 | I4: ='Czech Republic'!I$12 -> 21783 | J4: ='Czech Republic'!J$12 -> 18076 | K4: ='Czech Republic'!K$12 -> 12807 | L4: ='Czech Republic'!L$12 -> 26740 | ... U4: ='Czech Republic'!U$12 -> 14995 | V4: 16065 | W4: 5802 | X4: 13783
A5: Denmark | B5: =IFERROR(((E5-F5)/F5),"") -> -0.62583634 | C5: -1578 | D5: -1433 | E5: =Denmark!E$20 -> 1454 | F5: =Denmark!F$20 -> 3886 | G5: =Denmark!G$20 -> 611 | H5: =Denmark!H$20 -> 2735 | I5: =Denmark!I$20 -> 3865 | J5: =Denmark!J$20 -> 1402 | K5: =Denmark!K$20 -> 624 | L5: =Denmark!L$20 -> 4451 | ... U5: =Denmark!U$20 -> 1347 | V5: 1703 | W5: 338 | X5: 0
A6: France | B6: =IFERROR(((E6-F6)/F6),"") -> 0.074457252 | C6: -102185.23 | D6: -107738.78 | E6: =France!E$26 -> 337237.61 | F6: =France!F$26 -> 313867.87 | G6: =France!G$26 -> 301451 | H6: =France!H$26 -> 255395 | I6: =France!I$26 -> 305549 | J6: =France!J$26 -> 244376 | K6: =France!K$26 -> 335762 | L6: =France!L$26 -> 305009 | ... U6: =France!U$26 -> 285689
A7: Germany | B7: =IFERROR(((E7-F7)/F7),"") -> 0.89210611 | C7: -50682 | D7: -36167 | E7: =Germany!E$21 -> 216754 | F7: =Germany!F$21 -> 114557 | G7: =Germany!G$21 -> 128329 | H7: =Germany!H$21 -> 162299 | I7: =Germany!I$21 -> 172707 | J7: =Germany!J$21 -> 139630 | K7: =Germany!K$21 -> 121414 | L7: =Germany!L$21 -> 188961 | ... U7: =Germany!U$21 -> 157794 | V7: 137522 | W7: 113628 | X7: 121361
A8: Italy | B8: =IFERROR(((E8-F8)/F8),"") -> 0.032959255 | C8: -207180 | D8: -212387.53 | E8: =Italy!E20 -> 666088 | F8: =Italy!F20 -> 644834.73 | G8: =Italy!G20 -> 636932.46 | H8: =Italy!H20 -> 544568.3 | I8: =Italy!I20 -> 619673.2 | J8: =Italy!J20 -> 607116.2 | K8: =Italy!K20 -> 556714.01 | L8: =Italy!L$20 -> 692394.6 | M8: =Italy!M$20 -> 326613 | N8: =Italy!N$20 -> 673776.65 | O8: =Italy!O$20 -> 681203.51 | P8: =Italy!P$20 -> 707376 | Q8: =Italy!Q$20 -> 608664 | R8: =Italy!R$20 -> 472911 | S8: =Italy!S$20 -> 596108 | ... U8: =Italy!U$20 -> 585606.16 | V8: 615685.2 | W8: 484917.1 | X8: 495348
A9: Poland | B9: =IFERROR(((E9-F9)/F9),"") -> 0.34300792 | C9: -115000 | D9: -171000 | E9: =Poland!E$18 -> 509000 | F9: =Poland!F$18 -> 379000 | G9: =Poland!G$18 -> 505000 | H9: =Poland!H$18 -> 563000 | I9: =Poland!I$18 -> 617000 | J9: =Poland!J$18 -> 592000 | K9: =Poland!K$18 -> 329000 | L9: =Poland!L$18 -> 665000 | ... U9: =Poland!U$18 -> 250000 | V9: 165000 | W9: 80000 | X9: 110000
A10: Portugal | B10: =IFERROR(((E10-F10)/F10),"") | C10: 0 | D10: 0
A11: Slovakia | B11: =IFERROR(((E11-F11)/F11),"") | C11: 0 | D11: 0
A12: Spain (Catalonia) | B12: =IFERROR(((E12-F12)/F12),"") -> -0.058495101 | C12: -27292.375 | D12: -32574.081 | E12: =Spain!E$8 -> 106836.89 | F12: =Spain!F$8 -> 113474.6 | G12: =Spain!G$8 -> 113005 | H12: =Spain!H$8 -> 82678.901 | I12: =Spain!I$8 -> 140221.2 | J12: =Spain!J$8 -> 88447.894 | K12: =Spain!K$8 -> 147270.06 | L12: =Spain!L$8 -> 111614 | ... U12: =Spain!U$8 -> 74812.849 | V12: 106287.42 | W12: 76346 | X12: 64969
A13: Switzerland | B13: =IFERROR(((E13-F13)/F13),"") -> -0.035382528 | C13: -9648 | D13: -8883 | E13: =Switzerland!E$19 -> 36968 | F13: =Switzerland!F$19 -> 38324 | G13: =Switzerland!G$19 -> 25592 | H13: =Switzerland!H$19 -> 27005 | I13: =Switzerland!I$19 -> 33445 | J13: =Switzerland!J$19 -> 31469 | K13: =Switzerland!K$19 -> 28580 | L13: =Switzerland!L$19 -> 37244 | ... U13: =Switzerland!U$19 -> 34082 | V13: 29195 | W13: 31751 | X13: 31042
A14: The Netherlands | B14: =IFERROR(((E14-F14)/F14),"") -> 0.73017083 | C14: -19960.17 | D14: -16882.9 | E14: =Netherlands!E$8 -> 88603.952 | F14: =Netherlands!F$8 -> 51211.1 | G14: =Netherlands!G$8 -> 50005.5 | H14: =Netherlands!H$8 -> 69367 | I14: =Netherlands!I$8 -> 83696 | J14: =Netherlands!J$8 -> 59451 | K14: =Netherlands!K$8 -> 89243 | L14: =Netherlands!L$8 -> 78571 | ... U14: =Netherlands!U$8 -> 125000 | V14: 120000 | W14: 113000 | X14: 105000
A15: United Kingdom** | B15: =IFERROR(((E15-F15)/F15),"") -> 0.35260712 | C15: -20050 | D15: -19141 | E15: =UK!E$12 -> 60260 | F15: =UK!F$12 -> 44551 | G15: =UK!G$12 -> 22478 | H15: =UK!H$12 -> 50486 | I15: =UK!I$12 -> 33375 | J15: =UK!J$12 -> 23686 | K15: =UK!K$12 -> 22953 | L15: =UK!L$12 -> 41193 | ... U15: =UK!U$12 -> 31500 | V15: 31000 | W15: 22500 | X15: 25000
A16: TOTAL | B16: =IFERROR(((E16-F16)/F16),"") -> 0.21926898 | C16: -589839.3 | D16: -629145.24 | E16: =SUM(E2:E15) -> 2152981.7 | F16: =SUM(F2:F15) -> 1765797.1 | G16: =SUM(G2:G15) -> 1896221.3 | H16: =SUM(H2:H15) -> 1890160.1 | I16: =SUM(I2:I15) -> 2172368.8 | J16: =SUM(J2:J15) -> 1914630.3 | K16: =SUM(K2:K15) -> 1763643.1 | L16: =SUM(L2:L15) -> 2297629.4 | ... X16: =SUM(X2:X15) -> 1138730
A19: Pear Stocks (Ton) | B19: %YOY | C19: Moved 2026 | D19: Moved 2025 | E19: 46113 | F19: 45748 | G19: 45383 | H19: 45017 | I19: 44652 | J19: 44287 | K19: 43922 | L19: 43556 | M19: 43191 | N19: 42826 | O19: 42461 | P19: 42095 | Q19: 41730 | R19: 41365 | S19: 41000 | T19: 40634 | U19: 40269 | V19: 39904 | W19: 39539 | X19: 39173
A20: Belgium | B20: =IFERROR(((E20-F20)/F20),"") -> 0.71021932 | C20: -38097.831 | D20: -30741.679 | E20: =Belgium!E$20 -> 52468.084 | F20: =Belgium!F$20 -> 30679.155 | G20: =Belgium!G$20 -> 36623.381 | H20: =Belgium!H$20 -> 30814.7 | I20: =Belgium!I$20 -> 78763.542 | J20: =Belgium!J$20 -> 91428 | K20: =Belgium!K$20 -> 58200 | L20: =Belgium!L$20 -> 71097 | ... T20: =Belgium!T$20 -> 50300 | U20: 44300 | V20: 8500 | W20: 62800 | X20: 68000
A21: Czech Republic | B21: =IFERROR(((E21-F21)/F21),"") -> -0.089775561 | C21: -372 | D21: -203 | E21: ='Czech Republic'!E$21 -> 365 | F21: ='Czech Republic'!F$21 -> 401 | G21: ='Czech Republic'!G$21 -> 577 | H21: ='Czech Republic'!H$21 -> 65 | I21: ='Czech Republic'!I$21 -> 88 | J21: ='Czech Republic'!J$21 -> 911 | K21: ='Czech Republic'!K$21 -> 722 | L21: ='Czech Republic'!L$21 -> 1133 | ... T21: ='Czech Republic'!T$21 -> 18 | U21: 0 | V21: 0 | W21: 0 | X21: 0
A22: Denmark | B22: =IFERROR(((E22-F22)/F22),"") | C22: 0 | D22: 0 | E22: =Denmark!E$27 -> 0 | F22: =Denmark!F$27 -> 0 | G22: =Denmark!G$27 -> 0 | H22: =Denmark!H$27 -> 0 | I22: =Denmark!I$27 -> 0 | J22: =Denmark!J$27 -> 0 | K22: =Denmark!K$27 -> 19 | L22: =Denmark!L$27 -> 121 | ... T22: =Denmark!T$27 -> 0 | U22: 0 | V22: 0 | W22: 0 | X22: 0
A23: France | B23: =IFERROR(((E23-F23)/F23),"") -> 0.065068679 | C23: -2471.2187 | D23: -3425.2802 | E23: =France!E$38 -> 3030.2482 | F23: =France!F$38 -> 2845.12 | G23: =France!G$38 -> 1612 | H23: =France!H$38 -> 745 | I23: =France!I$38 -> 403 | J23: =France!J$38 -> 1283 | K23: =France!K$38 -> 968 | L23: =France!L$38 -> 1889 | ... X23: =France!X$38 -> 0
A24: Germany | B24: =IFERROR(((E24-F24)/F24),"") -> -0.18726236 | C24: -1588 | D24: -1011 | E24: =Germany!E$26 -> 855 | F24: =Germany!F$26 -> 1052 | G24: =Germany!G$26 -> 1319 | H24: =Germany!H$26 -> 158 | I24: =Germany!I$26 -> 583 | J24: =Germany!J$26 -> 612 | K24: =Germany!K$26 -> 394 | L24: =Germany!L$26 -> 821 | ... T24: =Germany!T$26 -> 9 | U24: 147 | V24: 111 | W24: 184 | X24: 84
A25: Italy | B25: =IFERROR(((E25-F25)/F25),"") -> -0.63814103 | C25: -13040.164 | D25: -17500.664 | E25: =Italy!E$29 -> 5266.2531 | F25: =Italy!F$29 -> 14553.331 | G25: =Italy!G$29 -> 0 | H25: =Italy!H$29 -> 8573.5368
A26: Poland | B26: =IFERROR(((E26-F26)/F26),"") -> 2 | C26: -8500 | D26: -8500 | E26: =Poland!E$25 -> 9000 | F26: =Poland!F$25 -> 3000 | G26: =Poland!G$25 -> 4000 | H26: =Poland!H$25 -> 1000 | I26: =Poland!I$25 -> 1000 | J26: =Poland!J$25 -> 1000 | K26: =Poland!K$25 -> 0 | L26: =Poland!L$25 -> 0 | ... T26: =Poland!T$25 -> 0 | U26: 4000 | V26: 1000 | W26: 0 | X26: 2000
A27: Portugal | B27: =IFERROR(((E27-F27)/F27),"") | C27: 0 | D27: -35838 | E27: =Portugal!E$14 -> 0 | F27: =Portugal!F$14 -> 0 | G27: =Portugal!G$14 -> 0 | H27: =Portugal!H$14 -> 0 | I27: =Portugal!I$14 -> 0 | J27: =Portugal!J$14 -> 0 | K27: =Portugal!K$14 -> 0 | L27: =Portugal!L$14 -> 24870 | ... T27: =Portugal!T$14 -> 7940
A28: Slovakia | B28: =IFERROR(((E28-F28)/F28),"") | C28: 0 | D28: 0
A29: Spain (Catalonia) | B29: =IFERROR(((E29-F29)/F29),"") -> 0.48860793 | C29: -7633.4265 | D29: -5504.6491 | E29: =Spain!E$17 -> 17108.689 | F29: =Spain!F$17 -> 11493.079 | G29: =Spain!G$17 -> 25581 | H29: =Spain!H$17 -> 17496.722 | I29: =Spain!I$17 -> 28430.54 | J29: =Spain!J$17 -> 25404.808 | K29: =Spain!K$17 -> 28465.832 | L29: =Spain!L$17 -> 26398 | ... T29: =Spain!T$17 -> 50980 | U29: 35176.849 | V29: 36206.771 | W29: 34091 | X29: 40882
A30: Switzerland | B30: =IFERROR(((E30-F30)/F30),"") -> -0.99237732 | C30: -748 | D30: -2349 | E30: =Switzerland!E$28 -> 16 | F30: =Switzerland!F$28 -> 2099 | G30: =Switzerland!G$28 -> 254 | H30: =Switzerland!H$28 -> 63 | I30: =Switzerland!I$28 -> 713 | J30: =Switzerland!J$28 -> 1635 | K30: =Switzerland!K$28 -> 2459 | L30: =Switzerland!L$28 -> 2014 | ... T30: =Switzerland!T$28 -> 79 | U30: 1633 | V30: 0 | W30: 1756 | X30: 33
A31: The Netherlands | B31: =IFERROR(((E31-F31)/F31),"") -> 0.25892284 | C31: -32938.51 | D31: -28935.5 | E31: =Netherlands!E$15 -> 118884.49 | F31: =Netherlands!F$15 -> 94433.5 | G31: =Netherlands!G$15 -> 109763.3 | H31: =Netherlands!H$15 -> 100080 | I31: =Netherlands!I$15 -> 91427 | J31: =Netherlands!J$15 -> 106333 | K31: =Netherlands!K$15 -> 91301 | L31: =Netherlands!L$15 -> 107627 | ... T31: =Netherlands!T$15 -> 59000 | U31: 64000 | V31: 22000 | W31: 41000 | X31: 47000
A32: United Kingdom | B32: =IFERROR(((E32-F32)/F32),"") -> 1.1889862 | C32: -2343 | D32: -2091 | E32: =UK!E$19 -> 5247 | F32: =UK!F$19 -> 2397 | G32: =UK!G$19 -> 957 | H32: =UK!H$19 -> 2080 | I32: =UK!I$19 -> 1393 | J32: =UK!J$19 -> 1823 | K32: =UK!K$19 -> 143 | L32: =UK!L$19 -> 751 | ... T32: =UK!T$19 -> 2500 | U32: 2900 | V32: 1000 | W32: 800 | X32: 1000
A33: TOTAL | B33: =IFERROR(((E33-F33)/F33),"") -> 0.30246466 | C33: -107732.15 | D33: -136099.77 | E33: =SUM(E20:E32) -> 212240.76 | F33: =SUM(F20:F32) -> 162953.18 | G33: =SUM(G20:G32) -> 180686.68 | H33: =SUM(H20:H32) -> 161075.96 | I33: =SUM(I20:I32) -> 202801.08 | J33: =SUM(J20:J32) -> 230429.81 | K33: =SUM(K20:K32) -> 182671.83 | L33: =SUM(L20:L32) -> 236721 | ... X33: =SUM(X20:X32) -> 158999
B34: * Portugal: Rocha stocks are compared per two months, in this case to stocks of 1 January
B35: ** As of the 2016/ 2017 season, the UK works with a different methodology, which is why the figures are not comparable.
B36: *** Starting from the 2022-2023 season, Italian pears work with a different methodology, which is why the figures are not comparable with previous years.
G37: 256760.38 | H37: -124362.92
G38: 31554.083 | H38: 1877.2259
G40: =G16+G33-'Europe - variety'!G32-'Europe - variety'!G44 -> 0 | H40: =H16+H33-'Europe - variety'!H32-'Europe - variety'!H44 -> 0
F44: =F16+F33+G16+G33-'Europe - variety'!F32-'Europe - variety'!G32-'Europe - variety'!F44-'Europe - variety'!G44 -> 6.693881e-10

Sheet Europe - variety
A1: Variety (Ton) | B1: %YOY | C1: Moved 2026 | D1: Moved 2025 | E1: 46113 | F1: 45748 | G1: 45383 | H1: 45017 | I1: 44652 | J1: 44287 | K1: 43922 | L1: 43556 | M1: 43191 | N1: 42826 | O1: 42461 | P1: 42095 | Q1: 41730 | R1: 41365 | S1: 41000 | T1: 40634 | U1: 40269 | V1: 39904
A2: Annurca | B2: =IFERROR(((E2-F2)/F2),"") | C2: -500 | D2: -500 | E2: =Italy!E$2 -> 0 | F2: =Italy!F$2 -> 0 | G2: =Italy!G$2 -> 0 | H2: =Italy!H$2 -> 0 | I2: =Italy!I$2 -> 0 | J2: =Italy!J$2 -> 0 | K2: =Italy!K$2 -> 0 | L2: =Italy!L$2 -> 0 | ... V2: =Italy!V$2 -> 0
A3: Boskoop | B3: =IFERROR(((E3-F3)/F3),"") -> 3.6192882 | C3: -4099.2611 | D3: -1610.7708 | E3: =Austria!E$3+Belgium!E$2+Denmark!E$2+France!E$4+Germany!E$2+Switzerland!E$2+Netherlands!E$2+Poland!E$2 -> 6365.1879 | F3: =Austria!F$3+Belgium!F$2+Denmark!F$2+France!F$4+Germany!F$2+Switzerland!F$2+Netherlands!F$2+Poland!F$2 -> 1377.9586 | G3: =Austria!G$3+Belgium!G$2+Denmark!G$2+France!G$4+Germany!G$2+Switzerland!G$2+Netherlands!G$2+Poland!G$2 -> 2600.8569 | H3: =Austria!H$3+Belgium!H$2+Denmark!H$2+France!H$4+Germany!H$2+Switzerland!H$2+Netherlands!H$2+Poland!H$2 -> 4375.1302 | I3: =Austria!I$3+Belgium!I$2+Denmark!I$2+France!I$4+Germany!I$2+Switzerland!I$2+Netherlands!I$2+Poland!I$2 -> 8034.3458 | J3: =Austria!J$3+Belgium!J$2+Denmark!J$2+France!J$4+Germany!J$2+Switzerland!J$2+Netherlands!J$2+Poland!J$2 -> 1477 | K3: =Austria!K$3+Belgium!K$2+Denmark!K$2+France!K$4+Germany!K$2+Switzerland!K$2+Netherlands!K$2+Poland!K$2 -> 1701 | L3: =Austria!L$3+Belgium!L$2+Denmark!L$2+France!L$4+Germany!L$2+Switzerland!L$2+Netherlands!L$2+Poland!L$2 -> 6209 | ... V3: =Austria!V$3+Belgium!V$2+Denmark!V$2+France!V$4+Germany!V$2+Switzerland!V$2+Netherlands!V$2+Poland!V$2 -> 7428
A4: Braeburn | B4: =IFERROR(((E4-F4)/F4),"") -> 0.29202677 | C4: -22539.075 | D4: -19460.91 | E4: =Austria!E$4+France!E$5+Germany!E$3+Italy!E$3+Switzerland!E$3+UK!E$2+'Czech Republic'!E$2 -> 63952.249 | F4: =Austria!F$4+France!F$5+Germany!F$3+Italy!F$3+Switzerland!F$3+UK!F$2+'Czech Republic'!F$2 -> 49497.619 | G4: =Austria!G$4+France!G$5+Germany!G$3+Italy!G$3+Switzerland!G$3+UK!G$2+'Czech Republic'!G$2 -> 47283.29 | H4: =Austria!H$4+France!H$5+Germany!H$3+Italy!H$3+Switzerland!H$3+UK!H$2+'Czech Republic'!H$2 -> 52739.685 | I4: =Austria!I$4+France!I$5+Germany!I$3+Italy!I$3+Switzerland!I$3+UK!I$2+'Czech Republic'!I$2 -> 68452.808 | J4: =Austria!J$4+France!J$5+Germany!J$3+Italy!J$3+Switzerland!J$3+UK!J$2+'Czech Republic'!J$2 -> 52991.65 | K4: =Austria!K$4+France!K$5+Germany!K$3+Italy!K$3+Switzerland!K$3+UK!K$2+'Czech Republic'!K$2 -> 63241.38 | L4: =Austria!L$4+France!L$5+Germany!L$3+Italy!L$3+Switzerland!L$3+UK!L$2+'Czech Republic'!L$2 -> 83418.58 | ... V4: =Austria!V$4+France!V$5+Germany!V$3+Italy!V$3+Switzerland!V$3+UK!V$2+'Czech Republic'!V$2 -> 38049.77
A5: Bramley | B5: =IFERROR(((E5-F5)/F5),"") -> -0.30474569 | C5: -963 | D5: -500 | E5: =UK!E$3 -> 3267 | F5: =UK!F$3 -> 4699 | G5: =UK!G$3 -> 1532 | H5: =UK!H$3 -> 5093 | I5: =UK!I$3 -> 1922 | J5: =UK!J$3 -> 4489 | K5: =UK!K$3 -> 2005 | L5: =UK!L$3 -> 19800 | ... V5: =UK!V$3 -> 28000
A6: Cameo | B6: =IFERROR(((E6-F6)/F6),"") -> -0.084578804 | C6: -1579 | D6: -909 | E6: =France!E6+UK!E4 -> 2695 | F6: =France!F6+UK!F4 -> 2944 | G6: =France!G6+UK!G4 -> 336 | H6: =France!H6+UK!H4 -> 2827 | I6: =France!I6+UK!I4 -> 1070 | J6: =France!J6+UK!J4 -> 2109 | K6: =France!K6+UK!K4 -> 647 | L6: =France!L6+UK!L4 -> 1314 | ... V6: =France!V6+UK!V4 -> 0
A7: Cortland | B7: =IFERROR(((E7-F7)/F7),"") | C7: 0 | D7: 0 | E7: =Poland!E$3 -> 0 | F7: =Poland!F$3 -> 0 | G7: =Poland!G$3 -> 0 | H7: =Poland!H$3 -> 0 | I7: =Poland!I$3 -> 0 | J7: =Poland!J$3 -> 0 | K7: =Poland!K$3 -> 0 | L7: =Poland!L$3 -> 0 | ... V7: =Poland!V$3 -> 1000
A8: Cox Orange | B8: =IFERROR(((E8-F8)/F8),"") | C8: -530 | D8: -163 | E8: =Belgium!E$3+Denmark!E$4+Germany!E$4+Switzerland!E$4+UK!E$5 -> 313 | F8: =Belgium!F$3+Denmark!F$4+Germany!F$4+Switzerland!F$4+UK!F$5 -> 0 | G8: =Belgium!G$3+Denmark!G$4+Germany!G$4+Switzerland!G$4+UK!G$5 -> 0 | H8: =Belgium!H$3+Denmark!H$4+Germany!H$4+Switzerland!H$4+UK!H$5 -> 433 | I8: =Belgium!I$3+Denmark!I$4+Germany!I$4+Switzerland!I$4+UK!I$5 -> 111 | J8: =Belgium!J$3+Denmark!J$4+Germany!J$4+Switzerland!J$4+UK!J$5 -> 92 | K8: =Belgium!K$3+Denmark!K$4+Germany!K$4+Switzerland!K$4+UK!K$5 -> 142 | L8: =Belgium!L$3+Denmark!L$4+Germany!L$4+Switzerland!L$4+UK!L$5 -> 316 | ... V8: =Belgium!V$3+Denmark!V$4+Germany!V$4+Switzerland!V$4+UK!V$5 -> 713
A9: Cripps Pink | B9: =IFERROR(((E9-F9)/F9),"") -> 0.37215131 | C9: -51359.046 | D9: -47884.458 | E9: =France!E$8+Italy!E$4 -> 154178.39 | F9: =France!F$8+Italy!F$4 -> 112362.53 | G9: =France!G$8+Italy!G$4 -> 105384.93 | H9: =France!H$8+Italy!H$4 -> 93363.097 | I9: =France!I$8+Italy!I$4 -> 62140.6 | J9: =France!J$8+Italy!J$4 -> 70998.2 | K9: =France!K$8+Italy!K$4 -> 59131.3 | L9: =France!L$8+Italy!L$4 -> 65506.2 | ... V9: =France!V$8+Italy!V$4 -> 0
A10: Elstar | B10: =IFERROR(((E10-F10)/F10),"") -> 0.90714689 | C10: -25522.103 | D10: -22532.872 | E10: =Austria!E$5+Belgium!E$4+Denmark!E$5+France!E$9+Germany!E$5+Italy!E$5+Switzerland!E$5+Netherlands!E$3+Poland!E$4 -> 73754.407 | F10: =Austria!F$5+Belgium!F$4+Denmark!F$5+France!F$9+Germany!F$5+Italy!F$5+Switzerland!F$5+Netherlands!F$3+Poland!F$4 -> 38672.641 | G10: =Austria!G$5+Belgium!G$4+Denmark!G$5+France!G$9+Germany!G$5+Italy!G$5+Switzerland!G$5+Netherlands!G$3+Poland!G$4 -> 33305.863 | H10: =Austria!H$5+Belgium!H$4+Denmark!H$5+France!H$9+Germany!H$5+Italy!H$5+Switzerland!H$5+Netherlands!H$3+Poland!H$4 -> 64204.945 | I10: =Austria!I$5+Belgium!I$4+Denmark!I$5+France!I$9+Germany!I$5+Italy!I$5+Switzerland!I$5+Netherlands!I$3+Poland!I$4 -> 55549.435 | J10: =Austria!J$5+Belgium!J$4+Denmark!J$5+France!J$9+Germany!J$5+Italy!J$5+Switzerland!J$5+Netherlands!J$3+Poland!J$4 -> 32062.4 | K10: =Austria!K$5+Belgium!K$4+Denmark!K$5+France!K$9+Germany!K$5+Italy!K$5+Switzerland!K$5+Netherlands!K$3+Poland!K$4 -> 53711 | L10: =Austria!L$5+Belgium!L$4+Denmark!L$5+France!L$9+Germany!L$5+Italy!L$5+Switzerland!L$5+Netherlands!L$3+Poland!L$4 -> 39955.4 | ... V10: =Austria!V$5+Belgium!V$4+Denmark!V$5+France!V$9+Germany!V$5+Italy!V$5+Switzerland!V$5+Netherlands!V$3+Poland!V$4 -> 44568
A11: Fuji | B11: =IFERROR(((E11-F11)/F11),"") -> 0.40895664 | C11: -25225.215 | D11: -29804.873 | E11: =Austria!E$7+Denmark!E$6+France!E$10+Germany!E$6+Italy!E$6+Spain!E$2 -> 72438.349 | F11: =Austria!F$7+Denmark!F$6+France!F$10+Germany!F$6+Italy!F$6+Spain!F$2 -> 51412.76 | G11: =Austria!G$7+Denmark!G$6+France!G$10+Germany!G$6+Italy!G$6+Spain!G$2 -> 49068.053 | H11: =Austria!H$7+Denmark!H$6+France!H$10+Germany!H$6+Italy!H$6+Spain!H$2 -> 47891.622 | I11: =Austria!I$7+Denmark!I$6+France!I$10+Germany!I$6+Italy!I$6+Spain!I$2 -> 75522.876 | J11: =Austria!J$7+Denmark!J$6+France!J$10+Germany!J$6+Italy!J$6+Spain!J$2 -> 66008.182 | K11: =Austria!K$7+Denmark!K$6+France!K$10+Germany!K$6+Italy!K$6+Spain!K$2 -> 71462.457 | L11: =Austria!L$7+Denmark!L$6+France!L$10+Germany!L$6+Italy!L$6+Spain!L$2 -> 87706.96 | ... V11: =Austria!V$7+Denmark!V$6+France!V$10+Germany!V$6+Italy!V$6+Spain!V$2 -> 41853.56
A12: Gala | B12: =IFERROR(((E12-F12)/F12),"") -> 0.62791482 | C12: -64331.344 | D12: -68468.542 | E12: =Austria!E$8+'Czech Republic'!E$3+Denmark!E$7+France!E$11+Germany!E$7+Italy!E$7+Spain!E$3+Switzerland!E$6+UK!E$6+Poland!E$5 -> 136646.29 | F12: =Austria!F$8+'Czech Republic'!F$3+Denmark!F$7+France!F$11+Germany!F$7+Italy!F$7+Spain!F$3+Switzerland!F$6+UK!F$6+Poland!F$5 -> 83939.457 | G12: =Austria!G$8+'Czech Republic'!G$3+Denmark!G$7+France!G$11+Germany!G$7+Italy!G$7+Spain!G$3+Switzerland!G$6+UK!G$6+Poland!G$5 -> 113927.3 | H12: =Austria!H$8+'Czech Republic'!H$3+Denmark!H$7+France!H$11+Germany!H$7+Italy!H$7+Spain!H$3+Switzerland!H$6+UK!H$6+Poland!H$5 -> 123425.56 | I12: =Austria!I$8+'Czech Republic'!I$3+Denmark!I$7+France!I$11+Germany!I$7+Italy!I$7+Spain!I$3+Switzerland!I$6+UK!I$6+Poland!I$5 -> 161622.4 | J12: =Austria!J$8+'Czech Republic'!J$3+Denmark!J$7+France!J$11+Germany!J$7+Italy!J$7+Spain!J$3+Switzerland!J$6+UK!J$6+Poland!J$5 -> 120800.34 | K12: =Austria!K$8+'Czech Republic'!K$3+Denmark!K$7+France!K$11+Germany!K$7+Italy!K$7+Spain!K$3+Switzerland!K$6+UK!K$6+Poland!K$5 -> 102043.18 | L12: =Austria!L$8+'Czech Republic'!L$3+Denmark!L$7+France!L$11+Germany!L$7+Italy!L$7+Spain!L$3+Switzerland!L$6+UK!L$6+Poland!L$5 -> 114199.9 | ... V12: =Austria!V$8+'Czech Republic'!V$3+Denmark!V$7+France!V$11+Germany!V$7+Italy!V$7+Spain!V$3+Switzerland!V$6+UK!V$6+Poland!V$5 -> 37450.174
A13: Gloster | B13: =IFERROR(((E13-F13)/F13),"") -> 0.0094433952 | C13: -3017 | D13: -4017 | E13: =Austria!E$9+Belgium!E$5+'Czech Republic'!E$4+Denmark!E$8+Germany!E$8+Italy!E$8+Poland!E$6 -> 9086 | F13: =Austria!F$9+Belgium!F$5+'Czech Republic'!F$4+Denmark!F$8+Germany!F$8+Italy!F$8+Poland!F$6 -> 9001 | G13: =Austria!G$9+Belgium!G$5+'Czech Republic'!G$4+Denmark!G$8+Germany!G$8+Italy!G$8+Poland!G$6 -> 7001 | H13: =Austria!H$9+Belgium!H$5+'Czech Republic'!H$4+Denmark!H$8+Germany!H$8+Italy!H$8+Poland!H$6 -> 10081 | I13: =Austria!I$9+Belgium!I$5+'Czech Republic'!I$4+Denmark!I$8+Germany!I$8+Italy!I$8+Poland!I$6 -> 20094 | J13: =Austria!J$9+Belgium!J$5+'Czech Republic'!J$4+Denmark!J$8+Germany!J$8+Italy!J$8+Poland!J$6 -> 45095 | K13: =Austria!K$9+Belgium!K$5+'Czech Republic'!K$4+Denmark!K$8+Germany!K$8+Italy!K$8+Poland!K$6 -> 40106 | L13: =Austria!L$9+Belgium!L$5+'Czech Republic'!L$4+Denmark!L$8+Germany!L$8+Italy!L$8+Poland!L$6 -> 41037 | ... V13: =Austria!V$9+Belgium!V$5+'Czech Republic'!V$4+Denmark!V$8+Germany!V$8+Italy!V$8+Poland!V$6 -> 7925.11
A14: Golden Delicious | B14: =IFERROR(((E14-F14)/F14),"") -> -0.017033064 | C14: -113714.04 | D14: -143223.6 | E14: =Austria!E$10+Belgium!E$6+'Czech Republic'!E$5+France!E$12+Germany!E$9+Italy!E$9+Spain!E$4+Switzerland!E$8+Netherlands!E$4+Poland!E$7 -> 537850.51 | F14: =Austria!F$10+Belgium!F$6+'Czech Republic'!F$5+France!F$12+Germany!F$9+Italy!F$9+Spain!F$4+Switzerland!F$8+Netherlands!F$4+Poland!F$7 -> 547170.5 | G14: =Austria!G$10+Belgium!G$6+'Czech Republic'!G$5+France!G$12+Germany!G$9+Italy!G$9+Spain!G$4+Switzerland!G$8+Netherlands!G$4+Poland!G$7 -> 682578.7 | H14: =Austria!H$10+Belgium!H$6+'Czech Republic'!H$5+France!H$12+Germany!H$9+Italy!H$9+Spain!H$4+Switzerland!H$8+Netherlands!H$4+Poland!H$7 -> 482981.94 | I14: =Austria!I$10+Belgium!I$6+'Czech Republic'!I$5+France!I$12+Germany!I$9+Italy!I$9+Spain!I$4+Switzerland!I$8+Netherlands!I$4+Poland!I$7 -> 647835.78 | J14: =Austria!J$10+Belgium!J$6+'Czech Republic'!J$5+France!J$12+Germany!J$9+Italy!J$9+Spain!J$4+Switzerland!J$8+Netherlands!J$4+Poland!J$7 -> 513961.03 | K14: =Austria!K$10+Belgium!K$6+'Czech Republic'!K$5+France!K$12+Germany!K$9+Italy!K$9+Spain!K$4+Switzerland!K$8+Netherlands!K$4+Poland!K$7 -> 646374.18 | L14: =Austria!L$10+Belgium!L$6+'Czech Republic'!L$5+France!L$12+Germany!L$9+Italy!L$9+Spain!L$4+Switzerland!L$8+Netherlands!L$4+Poland!L$7 -> 669581.6 | ... V14: =Austria!V$10+Belgium!V$6+'Czech Republic'!V$5+France!V$12+Germany!V$9+Italy!V$9+Spain!V$4+Switzerland!V$8+Netherlands!V$4+Poland!V$7 -> 604548.23
A15: Granny Smith | B15: =IFERROR(((E15-F15)/F15),"") -> -0.069836612 | C15: -24704.936 | D15: -30559.916 | E15: =Austria!E$11+France!E$14+Italy!E$10+Spain!E$5+Switzerland!E$9+Denmark!E$9 -> 85819.869 | F15: =Austria!F$11+France!F$14+Italy!F$10+Spain!F$5+Switzerland!F$9+Denmark!F$9 -> 92263.219 | G15: =Austria!G$11+France!G$14+Italy!G$10+Spain!G$5+Switzerland!G$9+Denmark!G$9 -> 61689.218 | H15: =Austria!H$11+France!H$14+Italy!H$10+Spain!H$5+Switzerland!H$9+Denmark!H$9 -> 77397.629 | I15: =Austria!I$11+France!I$14+Italy!I$10+Spain!I$5+Switzerland!I$9+Denmark!I$9 -> 75791.139 | J15: =Austria!J$11+France!J$14+Italy!J$10+Spain!J$5+Switzerland!J$9+Denmark!J$9 -> 93651.106 | K15: =Austria!K$11+France!K$14+Italy!K$10+Spain!K$5+Switzerland!K$9+Denmark!K$9 -> 70886.895 | L15: =Austria!L$11+France!L$14+Italy!L$10+Spain!L$5+Switzerland!L$9 -> 84279.94 | M15: =Austria!M$11+France!M$14+Italy!M$10+Spain!M$5+Switzerland!M$9 -> 82648 | N15: =Austria!N$11+France!N$14+Italy!N$10+Spain!N$5+Switzerland!N$9 -> 68011.808 | O15: =Austria!O$11+France!O$14+Italy!O$10+Spain!O$5+Switzerland!O$9 -> 94799.062 | P15: =Austria!P$11+France!P$14+Italy!P$10+Spain!P$5+Switzerland!P$9 -> 78545.597 | Q15: =Austria!Q$11+France!Q$14+Italy!Q$10+Spain!Q$5+Switzerland!Q$9 -> 81197.309 | R15: =Austria!R$11+France!R$14+Italy!R$10+Spain!R$5+Switzerland!R$9 -> 41960.158 | S15: =Austria!S$11+France!S$14+Italy!S$10+Spain!S$5+Switzerland!S$9 -> 57382.785 | ... V15: =Austria!V$11+France!V$14+Italy!V$10+Spain!V$5+Switzerland!V$9 -> 26188.702
A16: Holsteiner Cox | B16: =IFERROR(((E16-F16)/F16),"") | C16: -164 | D16: 0 | E16: =Denmark!E$10+Germany!E$10 -> 120 | F16: =Denmark!F$10+Germany!F$10 -> 0 | G16: =Denmark!G$10+Germany!G$10 -> 4 | H16: =Denmark!H$10+Germany!H$10 -> 0 | I16: =Denmark!I$10+Germany!I$10 -> 20 | J16: =Denmark!J$10+Germany!J$10 -> 0 | K16: =Denmark!K$10+Germany!K$10 -> 0 | L16: =Denmark!L$10+Germany!L$10 -> 35 | ... V16: =Denmark!V$10+Germany!V$10 -> 0
A17: Idared | B17: =IFERROR(((E17-F17)/F17),"") -> 0.46246493 | C17: -20432.734 | D17: -25372.24 | E17: =Austria!E$12+'Czech Republic'!E$6+Denmark!E$11+France!E$16+Germany!E$11+Italy!E$11+Switzerland!E$10+Poland!E$8 -> 120041 | F17: =Austria!F$12+'Czech Republic'!F$6+Denmark!F$11+France!F$16+Germany!F$11+Italy!F$11+Switzerland!F$10+Poland!F$8 -> 82081.287 | G17: =Austria!G$12+'Czech Republic'!G$6+Denmark!G$11+France!G$16+Germany!G$11+Italy!G$11+Switzerland!G$10+Poland!G$8 -> 89067.475 | H17: =Austria!H$12+'Czech Republic'!H$6+Denmark!H$11+France!H$16+Germany!H$11+Italy!H$11+Switzerland!H$10+Poland!H$8 -> 124392.12 | I17: =Austria!I$12+'Czech Republic'!I$6+Denmark!I$11+France!I$16+Germany!I$11+Italy!I$11+Switzerland!I$10+Poland!I$8 -> 153078.17 | J17: =Austria!J$12+'Czech Republic'!J$6+Denmark!J$11+France!J$16+Germany!J$11+Italy!J$11+Switzerland!J$10+Poland!J$8 -> 153487.45 | K17: =Austria!K$12+'Czech Republic'!K$6+Denmark!K$11+France!K$16+Germany!K$11+Italy!K$11+Switzerland!K$10+Poland!K$8 -> 89378 | L17: =Austria!L$12+'Czech Republic'!L$6+Denmark!L$11+France!L$16+Germany!L$11+Italy!L$11+Switzerland!L$10+Poland!L$8 -> 213639.58 | ... V17: =Austria!V$12+'Czech Republic'!V$6+Denmark!V$11+France!V$16+Germany!V$11+Italy!V$11+Switzerland!V$10+Poland!V$8 -> 116812.52
A18: Jonagold | B18: =IFERROR(((E18-F18)/F18),"") -> 0.41678744 | C18: -17291.583 | D18: -21262.666 | E18: =Austria!E$13+Belgium!E$7+'Czech Republic'!E$7+Denmark!E$13+France!E$18+Germany!E$13+Italy!E$12+Switzerland!E$11+Netherlands!E$5+UK!E$7+Poland!E$9 -> 110713.33 | F18: =Austria!F$13+Belgium!F$7+'Czech Republic'!F$7+Denmark!F$13+France!F$18+Germany!F$13+Italy!F$12+Switzerland!F$11+Netherlands!F$5+UK!F$7+Poland!F$9 -> 78143.923 | G18: =Austria!G$13+Belgium!G$7+'Czech Republic'!G$7+Denmark!G$13+France!G$18+Germany!G$13+Italy!G$12+Switzerland!G$11+Netherlands!G$5+UK!G$7+Poland!G$9 -> 83770.433 | H18: =Austria!H$13+Belgium!H$7+'Czech Republic'!H$7+Denmark!H$13+France!H$18+Germany!H$13+Italy!H$12+Switzerland!H$11+Netherlands!H$5+UK!H$7+Poland!H$9 -> 97434.993 | I18: =Austria!I$13+Belgium!I$7+'Czech Republic'!I$7+Denmark!I$13+France!I$18+Germany!I$13+Italy!I$12+Switzerland!I$11+Netherlands!I$5+UK!I$7+Poland!I$9 -> 153856.7 | J18: =Austria!J$13+Belgium!J$7+'Czech Republic'!J$7+Denmark!J$13+France!J$18+Germany!J$13+Italy!J$12+Switzerland!J$11+Netherlands!J$5+UK!J$7+Poland!J$9 -> 111056.65 | K18: =Austria!K$13+Belgium!K$7+'Czech Republic'!K$7+Denmark!K$13+France!K$18+Germany!K$13+Italy!K$12+Switzerland!K$11+Netherlands!K$5+UK!K$7+Poland!K$9 -> 105428.2 | L18: =Austria!L$13+Belgium!L$7+'Czech Republic'!L$7+Denmark!L$13+France!L$18+Germany!L$13+Italy!L$12+Switzerland!L$11+Netherlands!L$5+UK!L$7+Poland!L$9 -> 137900.48 | ... V18: =Austria!V$13+Belgium!V$7+'Czech Republic'!V$7+Denmark!V$13+France!V$18+Germany!V$13+Italy!V$12+Switzerland!V$11+Netherlands!V$5+UK!V$7+Poland!V$9 -> 218512.68
A19: Jonagored | B19: =IFERROR(((E19-F19)/F19),"") -> 0.28256202 | C19: -4031.4623 | D19: -1353.5003 | E19: =Austria!E$14+Belgium!E$8+Denmark!E$14+Germany!E$14+UK!E$8 -> 20859.146 | F19: =Austria!F$14+Belgium!F$8+Denmark!F$14+Germany!F$14+UK!F$8 -> 16263.655 | G19: =Austria!G$14+Belgium!G$8+Denmark!G$14+Germany!G$14+UK!G$8 -> 17132.125 | H19: =Austria!H$14+Belgium!H$8+Denmark!H$14+Germany!H$14+UK!H$8 -> 20399.45 | I19: =Austria!I$14+Belgium!I$8+Denmark!I$14+Germany!I$14+UK!I$8 -> 39095.624 | J19: =Austria!J$14+Belgium!J$8+Denmark!J$14+Germany!J$14+UK!J$8 -> 31068 | K19: =Austria!K$14+Belgium!K$8+Denmark!K$14+Germany!K$14+UK!K$8 -> 42551 | L19: =Austria!L$14+Belgium!L$8+Denmark!L$14+Germany!L$14+UK!L$8 -> 61120 | ... V19: =Austria!V$14+Belgium!V$8+Denmark!V$14+Germany!V$14+UK!V$8 -> 64784
A20: Jonathan | B20: =IFERROR(((E20-F20)/F20),"") | C20: 0 | D20: 0 | E20: =Italy!E$13 -> 0 | F20: =Italy!F$13 -> 0 | G20: =Italy!G$13 -> 0 | H20: =Italy!H$13 -> 0 | I20: =Italy!I$13 -> 0 | J20: =Italy!J$13 -> 0 | K20: =Italy!K$13 -> 0 | L20: =Italy!L$13 -> 0 | ... Q20: =Italy!Q$13 -> 0 | R20: =Italy!R$13+Poland!R$10 -> 60000 | S20: =Italy!S$13+Poland!S$10 -> 60002.004 | T20: =Italy!T$13+Poland!T$10 -> 0 | U20: =Italy!U$13+Poland!U$10 -> 2 | V20: =Italy!V$13+Poland!V$10 -> 1003
A21: Lobo | B21: =IFERROR(((E21-F21)/F21),"") | C21: 0 | D21: 0 | E21: =Poland!E$11 -> 0 | F21: =Poland!F$11 -> 0 | G21: =Poland!G$11 -> 0 | H21: =Poland!H$11 -> 0 | I21: =Poland!I$11 -> 0 | J21: =Poland!J$11 -> 0 | K21: =Poland!K$11 -> 0 | L21: =Poland!L$11 -> 0 | ... V21: =Poland!V$11 -> 10000
A22: Morgendurf/imperat | B22: =IFERROR(((E22-F22)/F22),"") -> 0.042018682 | C22: -2439 | D22: -2188.5763 | E22: =Italy!E$14 -> 4875 | F22: =Italy!F$14 -> 4678.419 | G22: =Italy!G$14 -> 4722.135 | H22: =Italy!H$14 -> 5236.9367 | I22: =Italy!I$14 -> 7206.0954 | J22: =Italy!J$14 -> 8024.3 | K22: =Italy!K$14 -> 5192.5961 | L22: =Italy!L$14 -> 7615.2 | ... V22: =Italy!V$14 -> 23702.27
A23: Pinova | B23: =IFERROR(((E23-F23)/F23),"") -> 0.40902822 | C23: -12408.374 | D23: -14597.187 | E23: =Austria!E$16+Denmark!E$16+Germany!E$15+Switzerland!E$14+Poland!E$12+Italy!E$15 -> 51466.889 | F23: =Austria!F$16+Denmark!F$16+Germany!F$15+Switzerland!F$14+Poland!F$12+Italy!F$15 -> 36526.514 | G23: =Austria!G$16+Denmark!G$16+Germany!G$15+Switzerland!G$14+Poland!G$12+Italy!G$15 -> 52861.097 | H23: =Austria!H$16+Denmark!H$16+Germany!H$15+Switzerland!H$14+Poland!H$12+Italy!H$15 -> 54013.733 | I23: =Austria!I$16+Denmark!I$16+Germany!I$15+Switzerland!I$14+Poland!I$12+Italy!I$15 -> 47032.058 | J23: =Austria!J$16+Denmark!J$16+Germany!J$15+Switzerland!J$14+Poland!J$12+Italy!J$15 -> 40789.45 | K23: =Austria!K$16+Denmark!K$16+Germany!K$15+Switzerland!K$14+Poland!K$12+Italy!K$15 -> 27555.4 | L23: =Austria!L$16+Denmark!L$16+Germany!L$15+Switzerland!L$14+Poland!L$12+Italy!L$15 -> 33669.14 | M23: =Austria!M$16+Denmark!M$16+Germany!M$15+Switzerland!M$14+Poland!M$12 -> 2926 | N23: =Austria!N$16+Denmark!N$16+Germany!N$15+Switzerland!N$14+Poland!N$12 -> 7341.18 | O23: =Austria!O$16+Denmark!O$16+Germany!O$15+Switzerland!O$14+Poland!O$12 -> 9958.06 | P23: =Austria!P$16+Denmark!P$16+Germany!P$15+Switzerland!P$14+Poland!P$12 -> 9437.14 | Q23: =Austria!Q$16+Denmark!Q$16+Germany!Q$15+Switzerland!Q$14+Poland!Q$12 -> 7449.06 | R23: =Austria!R$15+Denmark!R$16+Germany!R$15+Switzerland!R$14 -> 6429 | S23: =Austria!S$16+Denmark!S$16+Germany!S$15+Switzerland!S$14 -> 6342 | T23: =Austria!T$16+Denmark!T$16+Germany!T$15+Switzerland!T$14 -> 5343 | U23: =Austria!U$16+Denmark!U$16+Germany!U$15+Switzerland!U$14 -> 6017 | V23: =Austria!V$16+Denmark!V$16+Germany!V$15+Switzerland!V$14 -> 5457
A24: Red Delicious | B24: =IFERROR(((E24-F24)/F24),"") -> -0.38221674 | C24: -22243.818 | D24: -32359.59 | E24: ='Czech Republic'!E$8+France!E$19+Italy!E$16+Spain!E$6+Poland!E$13 -> 33888.514 | F24: ='Czech Republic'!F$8+France!F$19+Italy!F$16+Spain!F$6+Poland!F$13 -> 54855.021 | G24: ='Czech Republic'!G$8+France!G$19+Italy!G$16+Spain!G$6+Poland!G$13 -> 48310.829 | H24: ='Czech Republic'!H$8+France!H$19+Italy!H$16+Spain!H$6+Poland!H$13 -> 79684.636 | I24: ='Czech Republic'!I$8+France!I$19+Italy!I$16+Spain!I$6+Poland!I$13 -> 70006.958 | J24: ='Czech Republic'!J$8+France!J$19+Italy!J$16+Spain!J$6+Poland!J$13 -> 82974.195 | K24: ='Czech Republic'!K$8+France!K$19+Italy!K$16+Spain!K$6+Poland!K$13 -> 62715.89 | L24: ='Czech Republic'!L$8+France!L$19+Italy!L$16+Spain!L$6+Poland!L$13 -> 77766.7 | ... Q24: ='Czech Republic'!Q$8+France!Q$19+Italy!Q$16+Spain!Q$6+Poland!Q$13 -> 66405.208 | R24: ='Czech Republic'!R$8+France!R$19+Italy!R$16+Spain!R$6+Poland!R$12+Poland!R$13 -> 45509.905 | S24: ='Czech Republic'!S$8+France!S$19+Italy!S$16+Spain!S$6+Poland!S$12+Poland!S$13 -> 53253.976 | T24: ='Czech Republic'!T$8+France!T$19+Italy!T$16+Spain!T$6+Poland!T$12+Poland!T$13 -> 51919.274 | U24: ='Czech Republic'!U$8+France!U$19+Italy!U$16+Spain!U$6+Poland!U$12+Poland!U$13 -> 71733.894 | V24: ='Czech Republic'!V$8+France!V$19+Italy!V$16+Spain!V$6+Poland!V$12+Poland!V$13 -> 66542.927
A25: Red Jonaprince | B25: =IFERROR(((E25-F25)/F25),"") -> 0.53429249 | C25: -25056.069 | D25: -23387.995 | E25: =Germany!E$16+Austria!E$17+Poland!E$14 -> 170542.35 | F25: =Germany!F$16+Austria!F$17+Poland!F$14 -> 111153.74 | G25: =Germany!G$16+Austria!G$17+Poland!G$14 -> 130801.38 | H25: =Germany!H$16+Austria!H$17+Poland!H$14 -> 180706.33 | I25: =Germany!I$16+Austria!I$17+Poland!I$14 -> 149010.38 | J25: =Germany!J$16+Austria!J$17+Poland!J$14 -> 101634 | K25: =Germany!K$16+Austria!K$17+Poland!K$14 -> 75646 | L25: =Germany!L$16+Austria!L$17+Poland!L$14 -> 71848.38 | M25: =Germany!M$16+Austria!M$17 -> 28554 | N25: =Germany!N$16 -> 44254 | O25: =Germany!O$16 -> 28200 | P25: =Germany!P$16 -> 24718 | Q25: =Germany!Q$16 -> 12045 | R25: =Germany!R$16 -> 16692 | S25: =Germany!S$16 -> 12671 | T25: =Germany!T$16 -> 7452 | U25: =Germany!U$16 -> 10952 | V25: =Germany!V$16 -> 7842
A26: Reinette | B26: =IFERROR(((E26-F26)/F26),"") -> -0.13561971 | C26: -7157.4676 | D26: -8798.0341 | E26: =France!E$21+France!E$20+Italy!E$17+Switzerland!E$12 -> 18860.4 | F26: =France!F$21+France!F$20+Italy!F$17+Switzerland!F$12 -> 21819.563 | G26: =France!G$21+France!G$20+Italy!G$17+Switzerland!G$12 -> 10789 | H26: =France!H$21+France!H$20+Italy!H$17+Switzerland!H$12 -> 18004 | I26: =France!I$21+France!I$20+Italy!I$17+Switzerland!I$12 -> 18244 | J26: =France!J$21+France!J$20+Italy!J$17+Switzerland!J$12 -> 19329 | K26: =France!K$21+France!K$20+Italy!K$17+Switzerland!K$12 -> 20891.2 | L26: =France!L$21+France!L$20+Italy!L$17+Switzerland!L$12 -> 24198 | ... V26: =France!V$21+France!V$20+Italy!V$17+Switzerland!V$12 -> 1557.9
A27: Shampion | B27: =IFERROR(((E27-F27)/F27),"") -> 0.012936943 | C27: -15311 | D27: -15018 | E27: ='Czech Republic'!E$9+Germany!E$17+Poland!E$15 -> 35469 | F27: ='Czech Republic'!F$9+Germany!F$17+Poland!F$15 -> 35016 | G27: ='Czech Republic'!G$9+Germany!G$17+Poland!G$15 -> 35123 | H27: ='Czech Republic'!H$9+Germany!H$17+Poland!H$15 -> 40109 | I27: ='Czech Republic'!I$9+Germany!I$17+Poland!I$15 -> 65725 | J27: ='Czech Republic'!J$9+Germany!J$17+Poland!J$15 -> 50758 | K27: ='Czech Republic'!K$9+Germany!K$17+Poland!K$15 -> 40185 | L27: ='Czech Republic'!L$9+Germany!L$17+Poland!L$15 -> 125724 | ... V27: ='Czech Republic'!V$9+Germany!V$17+Poland!V$15 -> 20229
A28: Stayman | B28: =IFERROR(((E28-F28)/F28),"") | C28: 0 | D28: 0 | E28: =Italy!E$18 -> 0 | F28: =Italy!F$18 -> 0 | G28: =Italy!G$18 -> 0 | H28: =Italy!H$18 -> 0 | I28: =Italy!I$18 -> 0 | J28: =Italy!J$18 -> 0 | K28: =Italy!K$18 -> 0 | L28: =Italy!L$18 -> 407 | ... V28: =Italy!V$18 -> 3581.78
A29: Spartan | B29: =IFERROR(((E29-F29)/F29),"") | C29: 0 | D29: 0 | E29: ='Czech Republic'!E$10+UK!E$9+Poland!E$16+Denmark!E$17 -> 0 | F29: ='Czech Republic'!F$10+UK!F$9+Poland!F$16+Denmark!F$17 -> 0 | G29: ='Czech Republic'!G$10+UK!G$9+Poland!G$16+Denmark!G$17 -> 0 | H29: ='Czech Republic'!H$10+UK!H$9+Poland!H$16+Denmark!H$17 -> 0 | I29: ='Czech Republic'!I$10+UK!I$9+Poland!I$16+Denmark!I$17 -> 0 | J29: ='Czech Republic'!J$10+UK!J$9+Poland!J$16+Denmark!J$17 -> 0 | K29: ='Czech Republic'!K$10+UK!K$9+Poland!K$16+Denmark!K$17 -> 0 | L29: ='Czech Republic'!L$10+UK!L$9+Poland!L$16+Denmark!L$17 -> 12 | ... R29: ='Czech Republic'!R$10+UK!R$9+Poland!R$16+Denmark!R$17 -> 8 | S29: ='Czech Republic'!S$10+UK!S$9+Poland!S$16 -> 0 | T29: ='Czech Republic'!T$10+UK!T$9+Poland!T$16 -> 0 | U29: ='Czech Republic'!U$10+UK!U$9+Poland!U$16 -> 0 | V29: ='Czech Republic'!V$10+UK!V$9+Poland!V$16 -> 1000
A30: Other new varieties* | B30: =IFERROR(((E30-F30)/F30),"") -> 0.72493366 | C30: -26894.38 | D30: -24042.36 | E30: =Austria!E$6+Denmark!E$18+France!E$2+France!E$24+France!E$17+France!E$15+France!E$13+Switzerland!E$17+UK!E$10+Germany!E$19+Netherlands!E$6 -> 106561.81 | F30: =Austria!F$6+Denmark!F$18+France!F$2+France!F$24+France!F$17+France!F$15+France!F$13+Switzerland!F$17+UK!F$10+Germany!F$19+Netherlands!F$6 -> 61777.337 | G30: =Austria!G$6+Denmark!G$18+France!G$2+France!G$24+France!G$17+France!G$15+France!G$13+Switzerland!G$17+UK!G$10+Germany!G$19+Netherlands!G$6 -> 53480.968 | H30: =Austria!H$6+Denmark!H$18+France!H$2+France!H$24+France!H$17+France!H$15+France!H$13+Switzerland!H$17+UK!H$10+Germany!H$19+Netherlands!H$6 -> 84518.5 | I30: =Austria!I$6+Denmark!I$18+France!I$2+France!I$24+France!I$17+France!I$15+France!I$13+Switzerland!I$17+UK!I$10+Germany!I$19+Netherlands!I$6 -> 83393.25 | J30: =Austria!J$6+Denmark!J$18+France!J$2+France!J$24+France!J$17+France!J$15+France!J$13+Switzerland!J$17+UK!J$10+Germany!J$19+Netherlands!J$6 -> 57449.3 | K30: =Austria!K$6+Denmark!K$18+France!K$2+France!K$24+France!K$17+France!K$15+France!K$13+Switzerland!K$17+UK!K$10+Germany!K$19+Netherlands!K$6 -> 60055 | L30: =Austria!L$6+Denmark!L$18+France!L$2+France!L$24+France!L$17+France!L$15+France!L$13+Switzerland!L$17+UK!L$10+Germany!L$19+Netherlands!L$6 -> 72316.86 | ... V30: =Austria!V$6+Denmark!V$18+France!V$2+France!V$24+France!V$17+France!V$15+France!V$13+Switzerland!V$17+UK!V$10+Germany!V$19+Netherlands!V$6 -> 1837
A31: Other | B31: =IFERROR(((E31-F31)/F31),"") -> 0.23349655 | C31: -98325.392 | D31: -91130.143 | E31: =Austria!E$2+Austria!E$15+Austria!E$18+Austria!E$19+Austria!E$20+Belgium!E$9+'Czech Republic'!E$11+Denmark!E$3+Denmark!E$15+Denmark!E$12+Denmark!E$19+Germany!E$12+Germany!E$18+Germany!E$20+Italy!E$19+Spain!E$7+Switzerland!E$7+Switzerland!E$13+Switzerland!E$15+Switzerland!E$16+Switzerland!E$18+Netherlands!E$7+UK!E$11+France!E$3+France!E$7+France!E$22+France!E$23+France!E$25+Poland!E$10+Poland!E$17 -> 333217.97 | F31: =Austria!F$2+Austria!F$15+Austria!F$18+Austria!F$19+Austria!F$20+Belgium!F$9+'Czech Republic'!F$11+Denmark!F$3+Denmark!F$15+Denmark!F$12+Denmark!F$19+Germany!F$12+Germany!F$18+Germany!F$20+Italy!F$19+Spain!F$7+Switzerland!F$7+Switzerland!F$13+Switzerland!F$15+Switzerland!F$16+Switzerland!F$18+Netherlands!F$7+UK!F$11+France!F$3+France!F$7+France!F$22+France!F$23+France!F$25+Poland!F$10+Poland!F$17 -> 270140.99 | G31: =Austria!G$2+Austria!G$15+Austria!G$18+Austria!G$19+Austria!G$20+Belgium!G$9+'Czech Republic'!G$11+Denmark!G$3+Denmark!G$15+Denmark!G$12+Denmark!G$19+Germany!G$12+Germany!G$18+Germany!G$20+Italy!G$19+Spain!G$7+Switzerland!G$7+Switzerland!G$13+Switzerland!G$15+Switzerland!G$16+Switzerland!G$18+Netherlands!G$7+UK!G$11+France!G$3+France!G$7+France!G$22+France!G$23+France!G$25+Poland!G$10+Poland!G$17 -> 265451.63 | H31: =Austria!H$2+Austria!H$15+Austria!H$18+Austria!H$19+Austria!H$20+Belgium!H$9+'Czech Republic'!H$11+Denmark!H$3+Denmark!H$15+Denmark!H$12+Denmark!H$19+Germany!H$12+Germany!H$18+Germany!H$20+Italy!H$19+Spain!H$7+Switzerland!H$7+Switzerland!H$13+Switzerland!H$15+Switzerland!H$16+Switzerland!H$18+Netherlands!H$7+UK!H$11+France!H$3+France!H$7+France!H$22+France!H$23+France!H$25+Poland!H$10+Poland!H$17 -> 220846.74 | I31: =Austria!I$2+Austria!I$15+Austria!I$18+Austria!I$19+Austria!I$20+Belgium!I$9+'Czech Republic'!I$11+Denmark!I$3+Denmark!I$15+Denmark!I$12+Denmark!I$19+Germany!I$12+Germany!I$18+Germany!I$20+Italy!I$19+Spain!I$7+Switzerland!I$7+Switzerland!I$13+Switzerland!I$15+Switzerland!I$16+Switzerland!I$18+Netherlands!I$7+UK!I$11+France!I$3+France!I$7+France!I$22+France!I$23+France!I$25+Poland!I$10+Poland!I$17 -> 207554.18 | J31: =Austria!J$2+Austria!J$15+Austria!J$18+Austria!J$19+Austria!J$20+Belgium!J$9+'Czech Republic'!J$11+Denmark!J$3+Denmark!J$15+Denmark!J$12+Denmark!J$19+Germany!J$12+Germany!J$18+Germany!J$20+Italy!J$19+Spain!J$7+Switzerland!J$7+Switzerland!J$13+Switzerland!J$15+Switzerland!J$16+Switzerland!J$18+Netherlands!J$7+UK!J$11+France!J$3+France!J$7+France!J$22+France!J$23+France!J$25+Poland!J$10+Poland!J$17 -> 254325.1 | K31: =Austria!K$2+Austria!K$15+Austria!K$18+Austria!K$19+Austria!K$20+Belgium!K$9+'Czech Republic'!K$11+Denmark!K$3+Denmark!K$15+Denmark!K$12+Denmark!K$19+Germany!K$12+Germany!K$18+Germany!K$20+Italy!K$19+Spain!K$7+Switzerland!K$7+Switzerland!K$13+Switzerland!K$15+Switzerland!K$16+Switzerland!K$18+Netherlands!K$7+UK!K$11+France!K$3+France!K$7+France!K$22+France!K$23+France!K$25+Poland!K$10+Poland!K$17 -> 122593.39 | L31: =Austria!L$2+Austria!L$15+Austria!L$18+Austria!L$19+Austria!L$20+Belgium!L$9+'Czech Republic'!L$11+Denmark!L$3+Denmark!L$15+Denmark!L$12+Denmark!L$19+Germany!L$12+Germany!L$18+Germany!L$20+Italy!L$19+Spain!L$7+Switzerland!L$7+Switzerland!L$13+Switzerland!L$15+Switzerland!L$16+Switzerland!L$18+Netherlands!L$7+UK!L$11+France!L$3+France!L$7+France!L$22+France!L$23+France!L$25+Poland!L$10+Poland!L$17 -> 258052.52 | ... V31: =Austria!V$2+Austria!V$15+Austria!V$18+Austria!V$19+Austria!V$20+Belgium!V$9+'Czech Republic'!V$11+Denmark!V$3+Denmark!V$15+Denmark!V$12+Denmark!V$19+Germany!V$12+Germany!V$18+Germany!V$20+Italy!V$19+Spain!V$7+Switzerland!V$7+Switzerland!V$13+Switzerland!V$15+Switzerland!V$16+Switzerland!V$18+Netherlands!V$7+UK!V$11+France!V$3+France!V$7+France!V$22+France!V$23+France!V$25+Poland!V$10+Poland!V$17 -> 58536
A32: Total | B32: =IFERROR(((E32-F32)/F32),"") -> 0.21926898 | C32: -589839.3 | D32: -629145.24 | E32: =SUM(E2:E31) -> 2152981.7 | F32: =SUM(F2:F31) -> 1765797.1 | G32: =SUM(G2:G31) -> 1896221.3 | H32: =SUM(H2:H31) -> 1890160.1 | I32: =SUM(I2:I31) -> 2172368.8 | J32: =SUM(J2:J31) -> 1914630.3 | K32: =SUM(K2:K31) -> 1763643.1 | L32: =SUM(L2:L31) -> 2297629.4 | ... V32: =SUM(V2:V31) -> 1439122.6
A33: * Other new varieties: Ariane, Belgica, Cameo, Diwa, Greenstar, Goldrush, Honey Crunch, Jazz, Junami, Kanzi, Mairac, Rubens, Tentation (temptation), Wellant, ...
A35: Variety (Ton) | B35: %YOY | C35: Moved 2026 | D35: Moved 2025 | E35: 46113 | F35: 45748 | G35: 45383 | H35: 45017 | I35: 44652 | J35: 44287 | K35: 43922 | L35: 43556 | M35: 43191 | N35: 42826 | O35: 42461 | P35: 42095 | Q35: 41730 | R35: 41365 | S35: 41000 | T35: 40634 | U35: 40269 | V35: 39904
A36: Abate Fetel | B36: =IFERROR(((E36-F36)/F36),"") -> -0.85175494 | C36: -7391.1574 | D36: -8785.5773 | E36: =Italy!E$24 -> 1200 | F36: =Italy!F$24 -> 8094.7051 | G36: =Italy!G$24 -> 0 | H36: =Italy!H$24 -> 2982.2423 | I36: =Italy!I$24 -> 0 | J36: =Italy!J$24 -> 0 | K36: =Italy!K$24 -> 0 | L36: =Italy!L$24 -> 0 | ... V36: =Italy!V$24 -> 0
A37: Alexandrina | B37: =IFERROR(((E37-F37)/F37),"") -> 4.8368139 | C37: -374.9167 | D37: -157.81025 | E37: =Spain!E$12 -> 660.9485 | F37: =Spain!F$12 -> 113.23789 | G37: =Spain!G$12 -> 213 | H37: =Spain!H$12 -> 490.57113 | I37: =Spain!I$12 -> 292.33734 | J37: =Spain!J$12 -> 838.63686 | K37: =Spain!K$12 -> 864.41877 | L37: =Spain!L$12 -> 612 | ... V37: =Spain!V$12 -> 894.48632
A38: Blanquilla | B38: =IFERROR(((E38-F38)/F38),"") -> 0.042649347 | C38: -859.83098 | D38: -632.06017 | E38: =Spain!E$13 -> 829.1598 | F38: =Spain!F$13 -> 795.2432 | G38: =Spain!G$13 -> 118 | H38: =Spain!H$13 -> 917.33263 | I38: =Spain!I$13 -> 405.93657 | J38: =Spain!J$13 -> 2304.6355 | K38: =Spain!K$13 -> 558.84919 | L38: =Spain!L$13 -> 1653 | ... V38: =Spain!V$13 -> 2045.5222
