Workbook

Sheet Intro
B19: Overview Northern Hemisphere apple and pear stocks 2025-2026 | G19: APRIL
B21: Content: | C21: US situation
C22: European situation per country
C23: European situation per variety
C24: European countries by variety
B26: Sources: | C26: US: | D26: Washington Apple Commission, Pear Bureau Northwest
C27: Austria: | D27: Landeskammer für Land- und Forstwirtschaft Steiermark
C28: Belgium: | D28: VBT
C29: Czech Republic: | D29: Central Institute for Supervising and Testing in Agriculture, Division of perennial plants
C30: Denmark: | D30: SAPA
C31: France: | D31: ANPP
C32: Germany: | D32: AMI
C33: Italy: | D33: ASSOMELA, CSO
C34: Poland: | D34: SOCIETY FOR PROMOTION OF DWARF FRUIT ORCHARDS
C35: Portugal: | D35: ANP - Associação Nacional de Produtores de Pera Rocha
C36: Spain: | D36: AFRUCAT
C37: Switzerland: | D37: SWISSCOFEL
C38: The Netherlands: | D38: Productschap Tuinbouw
C39: United Kingdom: | D39: British Apples & Pears

Sheet US
A1: Variety (Ton) | B1: %YOY | C1: Moved 2026 | D1: Moved 2025 | E1: 46113 | F1: 45748 | G1: 45383 | H1: 45017 | I1: 44652 | J1: 44287 | K1: 43922 | L1: 43556 | M1: 43191 | N1: 42826 | O1: 42461 | P1: 42095 | Q1: 41730 | R1: 41365 | S1: 41000 | T1: 40634 | U1: 40269 | V1: 39904 | W1: 39539 | X1: 39173
A2: Braeburn | B2: =IFERROR(((E2-F2)/F2),"") | C2: 0 | D2: 0 | I2: 981.02511 | J2: 2359.603 | K2: 3525 | L2: 4116 | M2: 3354 | N2: 5221 | O2: 2515 | P2: 14540 | Q2: 4097 | R2: 10271 | S2: 8099 | T2: 22143.376 | U2: 16464.61 | V2: 23267.695 | W2: 18465.517 | X2: 13072.595
A3: Cortland | B3: =IFERROR(((E3-F3)/F3),"") -> 0.048476857 | C3: -205.23513 | D3: -738.65975 | E3: 1166.4854 | F3: 1112.5523 | G3: 1575.4125 | H3: 1169.9336 | I3: 839.76283 | J3: 1715.769 | K3: 877 | L3: 2477 | M3: 1277 | N3: 858 | O3: 2401 | P3: 1467 | Q3: 1925 | R3: 133 | S3: 838 | T3: 1276.7695 | U3: 1048.0944 | V3: 2000.9074 | W3: 2115.245 | X3: 838.4755
A4: Cosmic Crisp | B4: =IFERROR(((E4-F4)/F4),"") -> 0.088469544 | C4: -26634.939 | D4: -25455.595 | E4: 161170.44 | F4: 148070.69 | G4: 99790.317 | H4: 68547.56 | I4: 43166.724 | J4: 11070.773 | K4: 0
A5: Empire | B5: =IFERROR(((E5-F5)/F5),"") -> 0.090200284 | C5: -1979.5007 | D5: -3486.6729 | E5: 4435.2162 | F5: 4068.2582 | G5: 8059.5889 | H5: 6744.0876 | I5: 6051.779 | J5: 8504.295 | K5: 4211 | L5: 12691 | M5: 10405 | N5: 6041 | O5: 7089 | P5: 10157 | Q5: 13682 | R5: 1448 | S5: 8918 | T5: 8899.274 | U5: 18027.223 | V5: 12367.514 | W5: 11262.25 | X5: 15931.034
A6: Fuji | B6: =IFERROR(((E6-F6)/F6),"") -> -0.15571278 | C6: -23263.029 | D6: -29722.782 | E6: 102596.3 | F6: 121518.25 | G6: 125556.27 | H6: 110071.79 | I6: 107040.04 | J6: 138523.03 | K6: 146809 | L6: 119064 | M6: 137910 | N6: 107077 | O6: 91699 | P6: 109230 | Q6: 87487 | R6: 140483 | S6: 79865 | T6: 108125.23 | U6: 76720.508 | V6: 108239.56 | W6: 64067.151 | X6: 65401.089
A7: Gala | B7: =IFERROR(((E7-F7)/F7),"") -> -0.23595186 | C7: -39570.468 | D7: -47694.106 | E7: 157533.67 | F7: 206182.91 | G7: 197796.8 | H7: 197347.6 | I7: 160397.37 | J7: 183478.05 | K7: 235154 | L7: 187094 | M7: 205160 | N7: 183607 | O7: 127277 | P7: 182788 | Q7: 127772 | R7: 134804 | S7: 112946 | T7: 95662.432 | U7: 86915.608 | V7: 84457.35 | W7: 62161.525 | X7: 45315.789
A8: Golden Delicious | B8: =IFERROR(((E8-F8)/F8),"") -> -0.11342697 | C8: -9891.9215 | D8: -8765.424 | E8: 44588.069 | F8: 50292.607 | G8: 54620.758 | H8: 37208.654 | I8: 46510.039 | J8: 42853.034 | K8: 82838 | L8: 44420 | M8: 72814 | N8: 58617 | O8: 78836 | P8: 126248 | Q8: 102256 | R8: 115367 | S8: 94919 | T8: 99702.359 | U8: 98368.421 | V8: 134232.3 | W8: 104123.41 | X8: 76853.902
A9: Granny Smith | B9: =IFERROR(((E9-F9)/F9),"") -> 0.068548186 | C9: -41543.529 | D9: -32234.717 | E9: 170191.66 | F9: 159273.74 | G9: 173230.2 | H9: 100577.96 | I9: 161009.36 | J9: 108267.96 | K9: 153117 | L9: 114014 | M9: 192564 | N9: 92194 | O9: 149058 | P9: 136348 | Q9: 132841 | R9: 101113 | S9: 99359 | T9: 95395.644 | U9: 85086.207 | V9: 135032.67 | W9: 85657.895 | X9: 101855.72
A10: Honey crisp | B10: =IFERROR(((E10-F10)/F10),"") -> 0.33154465 | C10: -23360.208 | D10: -26752.96 | E10: 120688.88 | F10: 90638.255 | G10: 171123.33 | H10: 86713.355 | I10: 111545.46 | J10: 108575.79 | K10: 85677 | L10: 70546 | M10: 64505 | N10: 27784 | O10: 30852 | P10: 12749 | Q10: 6250 | R10: 667
A11: Idared | B11: =IFERROR(((E11-F11)/F11),"") -> 0.73885536 | C11: -108.30425 | D11: -1352.5743 | E11: 455.52558 | F11: 261.96864 | G11: 1467.6417 | H11: 1536.2439 | I11: 914.76614 | J11: 1587.844 | K11: 1448 | L11: 858 | M11: 1201 | N11: 1810 | O11: 1563 | P11: 2782 | Q11: 5488 | R11: 534 | S11: 3449 | T11: 609.80036 | U11: 3868.4211 | V11: 4535.3902 | W11: 3144.2831 | X11: 3182.3956
A12: Jonagold | B12: =IFERROR(((E12-F12)/F12),"") | C12: 0 | D12: 0 | L12: 4840 | M12: 4593 | N12: 6022 | O12: 3335 | P12: 9890 | Q12: 9338 | R12: 4593 | S12: 5164 | T12: 6040.8348 | U12: 5240.4719 | V12: 4649.7278 | W12: 2305.8076 | X12: 3144.2831
A13: Jonathan | B13: =IFERROR(((E13-F13)/F13),"") -> -0.24469397 | C13: -97.235689 | D13: -237.29776 | E13: 326.77974 | F13: 432.64547 | G13: 857.823 | H13: 808.97655 | I13: 527.59509 | J13: 739.135 | K13: 1772 | L13: 1696 | M13: 0 | N13: 229 | O13: 1582 | P13: 1601 | Q13: 2401 | R13: 38 | S13: 2496 | T13: 876.58802 | U13: 6117.0599 | V13: 1295.8258 | W13: 743.19419 | X13: 1314.882
A14: McIntosh | B14: =IFERROR(((E14-F14)/F14),"") -> -0.4280903 | C14: -3697.5281 | D14: -3337.5807 | E14: 5004.6851 | F14: 8750.831 | G14: 9467.0869 | H14: 8146.4609 | I14: 7773.6357 | J14: 9554.2 | K14: 10672 | L14: 14368 | M14: 12444 | N14: 9204 | O14: 14769 | P14: 17799 | Q14: 18408 | R14: 2172 | S14: 9776 | T14: 7717.7858 | U14: 20275.862 | V14: 14101.633 | W14: 12291.289 | X14: 11891.107
A15: Mutsu/Crispin | B15: =IFERROR(((E15-F15)/F15),"") -> -0.097110374 | C15: -32.881818 | D15: -713.96981 | E15: 217.86586 | F15: 241.29844 | G15: 551.12289 | H15: 452.28693 | I15: 400.1066 | J15: 524.104 | K15: 610 | L15: 991 | M15: 1525 | N15: 1067 | O15: 648 | P15: 762 | Q15: 1162 | R15: 819 | S15: 2344 | T15: 2134.3013 | U15: 2362.9764 | V15: 2763.1579 | W15: 3887.4773 | X15: 2115.245
A16: Newtown Pippin | B16: =IFERROR(((E16-F16)/F16),"") -> -0.18046678 | C16: -81.899731 | D16: -88.948557 | E16: 322.43614 | F16: 393.43876 | G16: 554.38059 | H16: 439.99911 | I16: 624.39262 | J16: 515.681 | K16: 267 | L16: 324 | M16: 0 | N16: 0 | O16: 0 | P16: 0 | Q16: 0 | R16: 400 | S16: 591 | T16: 1372.0508 | U16: 0 | V16: 2210.5263 | W16: 171.50635 | X16: 57.168784
A17: Northern Spy | B17: =IFERROR(((E17-F17)/F17),"") | C17: 0 | D17: 0 | M17: 0 | N17: 0 | O17: 0 | P17: 0 | Q17: 305 | R17: 19 | S17: 0 | T17: 0 | U17: 38.112523 | V17: 0 | W17: 38.112523 | X17: 38.112523
A18: Cripps Pink | B18: =IFERROR(((E18-F18)/F18),"") -> -0.15689358 | C18: -17940.442 | D18: -22075.15 | E18: 110766.77 | F18: 131379.34 | G18: 93423.837 | H18: 73391.989 | I18: 86047.094 | J18: 69373.405 | K18: 56064 | L18: 56788 | M18: 48841 | N18: 55930 | O18: 45468 | P18: 36417 | Q18: 26202 | R18: 25307 | S18: 19876 | T18: 22829.401 | U18: 24868.421 | V18: 18179.673 | W18: 18789.474 | X18: 7355.7169
A19: Red Delicious | B19: =IFERROR(((E19-F19)/F19),"") -> -0.23675396 | C19: -28368.341 | D19: -40435.092 | E19: 156920.57 | F19: 205596.31 | G19: 224438.39 | H19: 168714.15 | I19: 196256.52 | J19: 221327.67 | K19: 260461 | L19: 285996 | M19: 298383 | N19: 385946 | O19: 278431 | P19: 445383 | Q19: 332589 | R19: 382383 | S19: 333713 | T19: 293142.47 | U19: 334227.77 | V19: 341354.81 | W19: 275134.3 | X19: 313437.39
A20: Rome | B20: =IFERROR(((E20-F20)/F20),"") -> -0.38629437 | C20: -128.09811 | D20: -1245.4322 | E20: 521.72739 | F20: 850.12645 | G20: 1787.2011 | H20: 2526.661 | I20: 2055.7043 | J20: 1472.82 | K20: 2801 | L20: 3506 | M20: 3468 | N20: 5031 | O20: 3525 | P20: 4326 | Q20: 2801 | R20: 2211 | S20: 4554 | T20: 1448.2759 | U20: 3773.1397 | V20: 5126.1343 | W20: 5659.7096 | X20: 5450.0907
A21: Rome Sport | B21: =IFERROR(((E21-F21)/F21),"") -> -0.54610707 | C21: -11.25907 | D21: -12.211614 | E21: 291.53561 | F21: 642.3004 | G21: 394.39131 | H21: 335.21928 | I21: 120.05865 | J21: 54.158 | K21: 572 | L21: 267 | M21: 229 | N21: 2725 | O21: 1563 | P21: 1677 | Q21: 3544 | R21: 229 | S21: 3544 | T21: 1791.2886 | U21: 3620.6897 | V21: 3372.9583 | W21: 2324.8639 | X21: 5011.7967
A22: Spartan | B22: =IFERROR(((E22-F22)/F22),"") -> -0.18763737 | C22: -226.49591 | D22: -530.20503 | E22: 1380.0457 | F22: 1698.805 | G22: 2990.2451 | H22: 1790.8208 | I22: 2065.9537 | J22: 1062.196 | K22: 591 | L22: 2039 | M22: 2172 | N22: 858 | O22: 2554 | P22: 2630 | Q22: 1791 | R22: 229 | S22: 991 | T22: 1867.5136 | U22: 3182.3956 | V22: 2305.8076 | W22: 1657.8947 | X22: 2877.4955
A23: Stayman | B23: =IFERROR(((E23-F23)/F23),"") -> -0.32102161 | C23: -24.556584 | D23: -5.3913989 | E23: 98.75976 | F23: 145.45347 | G23: 117.14386 | H23: 116.24847 | I23: 113.42894 | J23: 98.54 | K23: 76 | L23: 210 | M23: 229 | N23: 133 | O23: 286 | P23: 419 | Q23: 38 | R23: 152 | S23: 267 | T23: 304.90018 | U23: 533.57532 | V23: 438.29401 | W23: 724.13793 | X23: 590.7441
A24: Winesap | B24: =IFERROR(((E24-F24)/F24),"") | C24: 0 | D24: 0 | M24: 0 | N24: 0 | O24: 0 | P24: 0 | Q24: 0 | R24: 0 | S24: 0 | T24: 0 | U24: 0 | V24: 76.225045 | W24: 0 | X24: 19.056261
A25: York | B25: =IFERROR(((E25-F25)/F25),"") -> -0.16171729 | C25: -116.83904 | D25: -126.89791 | E25: 470.55672 | F25: 561.33417 | G25: 570.36428 | H25: 437.23674 | I25: 482.82552 | J25: 533.937 | K25: 133 | L25: 362 | M25: 19 | N25: 57 | O25: 57 | P25: 57 | Q25: 0 | R25: 95 | S25: 191 | T25: 228.67514 | U25: 19.056261 | V25: 57.168784 | W25: 19.056261 | X25: 38.112523
A26: Others | B26: =IFERROR(((E26-F26)/F26),"") -> -0.1953195 | C26: -29693.558 | D26: -26222.64 | E26: 105640.99 | F26: 131283.15 | G26: 132591.3 | H26: 88231.234 | I26: 79615.822 | J26: =51247.966+12649 -> 63896.966 | K26: =(13930+58026) -> 71956 | L26: =39332+9376 -> 48708 | M26: 107325 | N26: 60466 | O26: 52652 | P26: 47564 | Q26: 36721 | R26: 22925 | S26: 14140 | T26: 15187.84 | U26: 17341.198 | V26: 19170.599 | W26: 11662.432 | X26: 14196.915
A27: TOTAL | B27: =IFERROR(((E27-F27)/F27),"") -> -0.093878287 | C27: -246976.27 | D27: -271234.31 | E27: =SUM(E2:E26) -> 1144789 | F27: =SUM(F2:F26) -> 1263394.3 | G27: =SUM(G2:G26) -> 1300963.6 | H27: =SUM(H2:H26) -> 955308.47 | I27: =SUM(I2:I26) -> 1014539.5 | J27: =SUM(J2:J26) -> 976088.96 | K27: =SUM(K2:K26) -> 1119631 | L27: =SUM(L2:L26) -> 975375 | ... X27: =SUM(X2:X26) -> 689989.11
A30: Pear Stocks (Ton) | B30: %YOY | C30: Moved 2026 | D30: Moved 2025 | E30: 46113 | F30: 45748 | G30: 45383 | H30: 45017 | I30: 44652 | J30: 44287 | K30: 43922 | L30: 43556 | M30: 43191 | N30: 42826 | O30: 42461 | P30: 42095 | Q30: 41730 | R30: 41365 | S30: 41000 | T30: 40634 | U30: 40269 | V30: 39904 | W30: 39539 | X30: 39173
A31: Anjou | B31: =IFERROR(((E31-F31)/F31),"") -> 0.75010989 | C31: -16940.98 | D31: -10801.5 | E31: 50644.54 | F31: 28937.92 | G31: 29661.02 | H31: 44139.08 | I31: 51702.66 | J31: 40935.8 | K31: 53752.56 | L31: 55255 | M31: 50746.32 | N31: 45305.42 | O31: 39072.84 | P31: 64343.18 | Q31: 57674.68 | R31: 51093.88 | S31: 66380.48 | T31: 59116.16 | U31: 56464.34 | V31: 43632.4 | W31: 50935.24 | X31: 30827.6
A32: Bosc | B32: =IFERROR(((E32-F32)/F32),"") -> 175.90084 | C32: -6125.46 | D32: -1263.62 | E32: 16770.2 | F32: 94.8 | G32: 6624.5 | H32: 2357.26 | I32: 4793.22 | J32: 5709 | K32: 3253.34 | L32: 10086 | M32: 1915.32 | N32: 7533.16 | O32: 6274.02 | P32: 5956.06 | Q32: 6974.92 | R32: 1595.36 | S32: 10983.28 | T32: 1298.88 | U32: 2212.5 | V32: 5489.88 | W32: 1641.96 | X32: 634.94
A33: Red Anjou | B33: =IFERROR(((E33-F33)/F33),"") -> 0.75449858 | C33: -1545.5 | D33: -1591.46 | E33: 6390.34 | F33: 3642.26 | G33: 9407.08 | H33: 4536.16 | I33: 6187.18 | J33: 3640.66 | K33: 5718 | L33: 5424 | M33: 4505.98 | N33: 4949.78 | O33: 1749.2 | P33: 5960.62 | Q33: 4497.58 | R33: 3113.86 | S33: 4775.12 | T33: 3670.46 | U33: 2345 | V33: 4424.98 | W33: 3653.84 | X33: 2265.58
A34: Comice | B34: =IFERROR(((E34-F34)/F34),"") | C34: -189.9 | D34: -16.64 | E34: 275.68 | F34: 0 | G34: 38.94 | H34: 0 | I34: 8.92 | J34: 0 | K34: 11.1 | L34: 6 | M34: 0 | N34: 1.54 | O34: 0 | P34: 29.58 | Q34: 84.3 | R34: 12.5 | S34: 253.6 | T34: 15.42 | U34: 0.52 | V34: 90.98 | W34: 1.96 | X34: 28.06
A35: Concorde | B35: =IFERROR(((E35-F35)/F35),"") | C35: -172.68 | D35: 0 | F35: 0 | G35: 0 | H35: 0 | I35: 0 | J35: 0 | K35: 0 | L35: 4 | M35: 0 | N35: 0 | O35: 0 | P35: 0 | Q35: 0 | R35: 0 | S35: 70.06 | T35: 0
A36: Seckel | B36: =IFERROR(((E36-F36)/F36),"") | C36: -18.94 | D36: 0 | E36: 39.98 | F36: 0 | G36: 0 | H36: 0 | I36: 0 | J36: 0 | K36: 0 | L36: 1 | M36: 14 | N36: 0 | O36: 0 | P36: 7 | Q36: 46.86 | R36: 0.68 | S36: 21.34 | T36: 5.6 | U36: 11.22 | V36: 0 | W36: 0 | X36: 13.18
A37: Forelle | B37: =IFERROR(((E37-F37)/F37),"") | C37: -85.32 | D37: -3.8 | E37: 71.26 | F37: 0 | G37: 53.74 | H37: 0 | I37: 0 | J37: 0 | K37: 0 | L37: 2 | M37: 0 | N37: 4 | O37: 0
A38: Other Reds | B38: =IFERROR(((E38-F38)/F38),"") | C38: 0 | D38: 0 | J38: 0 | M38: 0 | N38: 0 | O38: 0 | S38: 21.24 | T38: 0 | U38: 6.14 | V38: 16.26 | W38: 0 | X38: 0
A39: Other Winter Varities | B39: =IFERROR(((E39-F39)/F39),"") | C39: -16.84 | D39: -2 | E39: 161.9 | F39: 0 | G39: 35.1 | H39: 44.86 | I39: 9.74 | J39: 0 | K39: 0 | L39: 13 | M39: 14.68 | N39: 6 | O39: 30.26 | P39: 64.28 | Q39: 18.64 | R39: 54.72 | S39: 7.14 | T39: 0.08 | U39: 0.74 | V39: 116.66 | W39: 49.3 | X39: 189.06
A40: Northwest Bartletts (Williams) | B40: =IFERROR(((E40-F40)/F40),"") -> 222.79715 | C40: -3060.8 | D40: -262.78 | E40: 1257.74 | F40: 5.62 | G40: 11.78 | H40: 19.32 | I40: 780.34 | J40: 0 | K40: 0 | L40: 0 | M40: 13.54 | N40: 0 | O40: 0 | P40: 0 | Q40: 0 | R40: 0 | S40: 0 | T40: 0 | U40: 0 | V40: 0 | W40: 3 | X40: 0
A41: TOTAL | B41: =IFERROR(((E41-F41)/F41),"") -> 1.3136552 | C41: -28156.42 | D41: -13941.8 | E41: =SUM(E31:E40) -> 75611.64 | F41: =SUM(F31:F40) -> 32680.6 | G41: =SUM(G31:G40) -> 45832.16 | H41: =SUM(H31:H40) -> 51096.68 | I41: =SUM(I31:I40) -> 63482.06 | J41: =SUM(J31:J40) -> 50285.46 | K41: =SUM(K31:K40) -> 62735 | L41: =SUM(L31:L40) -> 70791 | ... X41: =SUM(X31:X40) -> 33958.42

Sheet Europe - country
A1: Apple stocks (Ton) | B1: %YOY | C1: Moved 2026 | D1: Moved 2025 | E1: 46113 | F1: 45748 | G1: 45383 | H1: 45017 | I1: 44652 | J1: 44287 | K1: 43922 | L1: 43556 | M1: 43191 | N1: 42826 | O1: 42461 | P1: 42095 | Q1: 41730 | R1: 41365 | S1: 41000 | T1: 40634 | U1: 40269 | V1: 39904 | W1: 39539 | X1: 39173
A2: Austria (Steiermark) | B2: =IFERROR(((E2-F2)/F2),"") -> 1.5526526 | C2: -15672.395 | D2: -10652.01 | E2: =Austria!E$21 -> 65647.078 | F2: =Austria!F$21 -> 25717.2 | G2: =Austria!G$21 -> 50972.536 | H2: =Austria!H$21 -> 68727.708 | I2: =Austria!I$21 -> 55777.917 | J2: =Austria!J$21 -> 57735.25 | K2: =Austria!K$21 -> 43068 | L2: =Austria!L$21 -> 73183.84 | ... U2: =Austria!U$21 -> 82632 | V2: 78965 | W2: 62632 | X2: 60027
A3: Belgium | B3: =IFERROR(((E3-F3)/F3),"") -> 0.50128133 | C3: -14273.129 | D3: -9567.9425 | E3: =Belgium!E$10 -> 47075.138 | F3: =Belgium!F$10 -> 31356.64 | G3: =Belgium!G$10 -> 46165.781 | H3: =Belgium!H$10 -> 42807.143 | I3: =Belgium!I$10 -> 85276.48 | J3: =Belgium!J$10 -> 51241 | K3: =Belgium!K$10 -> 76208 | L3: =Belgium!L$10 -> 73268 | ... U3: =Belgium!U$10 -> 92731 | V3: 136700 | W3: 128100 | X3: 112200
A4: Czech Republic | B4: =IFERROR(((E4-F4)/F4),"") -> 2.3998405 | C4: -6318 | D4: -2718 | E4: ='Czech Republic'!E$12 -> 17057 | F4: ='Czech Republic'!F$12 -> 5017 | G4: ='Czech Republic'!G$12 -> 15679 | H4: ='Czech Republic'!H$12 -> 21091 | I4: ='Czech Republic'!I$12 -> 21783 | J4: ='Czech Republic'!J$12 -> 18076 | K4: ='Czech Republic'!K$12 -> 12807 | L4: ='Czech Republic'!L$12 -> 26740 | ... U4: ='Czech Republic'!U$12 -> 14995 | V4: 16065 | W4: 5802 | X4: 13783
A5: Denmark | B5: =IFERROR(((E5-F5)/F5),"") -> -0.62583634 | C5: -1578 | D5: -1433 | E5: =Denmark!E$20 -> 1454 | F5: =Denmark!F$20 -> 3886 | G5: =Denmark!G$20 -> 611 | H5: =Denmark!H$20 -> 2735 | I5: =Denmark!I$20 -> 3865 | J5: =Denmark!J$20 -> 1402 | K5: =Denmark!K$20 -> 624 | L5: =Denmark!L$20 -> 4451 | ... U5: =Denmark!U$20 -> 1347 | V5: 1703 | W5: 338 | X5: 0
A6: France | B6: =IFERROR(((E6-F6)/F6),"") -> 0.074457252 | C6: -102185.23 | D6: -107738.78 | E6: =France!E$26 -> 337237.61 | F6: =France!F$26 -> 313867.87 | G6: =France!G$26 -> 301451 | H6: =France!H$26 -> 255395 | I6: =France!I$26 -> 305549 | J6: =France!J$26 -> 244376 | K6: =France!K$26 -> 335762 | L6: =France!L$26 -> 305009 | ... U6: =France!U$26 -> 285689
A7: Germany | B7: =IFERROR(((E7-F7)/F7),"") -> 0.89210611 | C7: -50682 | D7: -36167 | E7: =Germany!E$21 -> 216754 | F7: =Germany!F$21 -> 114557 | G7: =Germany!G$21 -> 128329 | H7: =Germany!H$21 -> 162299 | I7: =Germany!I$21 -> 172707 | J7: =Germany!J$21 -> 139630 | K7: =Germany!K$21 -> 121414 | L7: =Germany!L$21 -> 188961 | ... U7: =Germany!U$21 -> 157794 | V7: 137522 | W7: 113628 | X7: 121361
A8: Italy | B8: =IFERROR(((E8-F8)/F8),"") -> 0.032959255 | C8: -207180 | D8: -212387.53 | E8: =Italy!E20 -> 666088 | F8: =Italy!F20 -> 644834.73 | G8: =Italy!G20 -> 636932.46 | H8: =Italy!H20 -> 544568.3 | I8: =Italy!I20 -> 619673.2 | J8: =Italy!J20 -> 607116.2 | K8: =Italy!K20 -> 556714.01 | L8: =Italy!L$20 -> 692394.6 | M8: =Italy!M$20 -> 326613 | N8: =Italy!N$20 -> 673776.65 | O8: =Italy!O$20 -> 681203.51 | P8: =Italy!P$20 -> 707376 | Q8: =Italy!Q$20 -> 608664 | R8: =Italy!R$20 -> 472911 | S8: =Italy!S$20 -> 596108 | ... U8: =Italy!U$20 -> 585606.16 | V8: 615685.2 | W8: 484917.1 | X8: 495348
A9: Poland | B9: =IFERROR(((E9-F9)/F9),"") -> 0.34300792 | C9: -115000 | D9: -171000 | E9: =Poland!E$18 -> 509000 | F9: =Poland!F$18 -> 379000 | G9: =Poland!G$18 -> 505000 | H9: =Poland!H$18 -> 563000 | I9: =Poland!I$18 -> 617000 | J9: =Poland!J$18 -> 592000 | K9: =Poland!K$18 -> 329000 | L9: =Poland!L$18 -> 665000 | ... U9: =Poland!U$18 -> 250000 | V9: 165000 | W9: 80000 | X9: 110000
A10: Portugal | B10: =IFERROR(((E10-F10)/F10),"") | C10: 0 | D10: 0
A11: Slovakia | B11: =IFERROR(((E11-F11)/F11),"") | C11: 0 | D11: 0
A12: Spain (Catalonia) | B12: =IFERROR(((E12-F12)/F12),"") -> -0.058495101 | C12: -27292.375 | D12: -32574.081 | E12: =Spain!E$8 -> 106836.89 | F12: =Spain!F$8 -> 113474.6 | G12: =Spain!G$8 -> 113005 | H12: =Spain!H$8 -> 82678.901 | I12: =Spain!I$8 -> 140221.2 | J12: =Spain!J$8 -> 88447.894 | K12: =Spain!K$8 -> 147270.06 | L12: =Spain!L$8 -> 111614 | ... U12: =Spain!U$8 -> 74812.849 | V12: 106287.42 | W12: 76346 | X12: 64969
A13: Switzerland | B13: =IFERROR(((E13-F13)/F13),"") -> -0.035382528 | C13: -9648 | D13: -8883 | E13: =Switzerland!E$19 -> 36968 | F13: =Switzerland!F$19 -> 38324 | G13: =Switzerland!G$19 -> 25592 | H13: =Switzerland!H$19 -> 27005 | I13: =Switzerland!I$19 -> 33445 | J13: =Switzerland!J$19 -> 31469 | K13: =Switzerland!K$19 -> 28580 | L13: =Switzerland!L$19 -> 37244 | ... U13: =Switzerland!U$19 -> 34082 | V13: 29195 | W13: 31751 | X13: 31042
A14: The Netherlands | B14: =IFERROR(((E14-F14)/F14),"") -> 0.73017083 | C14: -19960.17 | D14: -16882.9 | E14: =Netherlands!E$8 -> 88603.952 | F14: =Netherlands!F$8 -> 51211.1 | G14: =Netherlands!G$8 -> 50005.5 | H14: =Netherlands!H$8 -> 69367 | I14: =Netherlands!I$8 -> 83696 | J14: =Netherlands!J$8 -> 59451 | K14: =Netherlands!K$8 -> 89243 | L14: =Netherlands!L$8 -> 78571 | ... U14: =Netherlands!U$8 -> 125000 | V14: 120000 | W14: 113000 | X14: 105000
A15: United Kingdom** | B15: =IFERROR(((E15-F15)/F15),"") -> 0.35260712 | C15: -20050 | D15: -19141 | E15: =UK!E$12 -> 60260 | F15: =UK!F$12 -> 44551 | G15: =UK!G$12 -> 22478 | H15: =UK!H$12 -> 50486 | I15: =UK!I$12 -> 33375 | J15: =UK!J$12 -> 23686 | K15: =UK!K$12 -> 22953 | L15: =UK!L$12 -> 41193 | ... U15: =UK!U$12 -> 31500 | V15: 31000 | W15: 22500 | X15: 25000
A16: TOTAL | B16: =IFERROR(((E16-F16)/F16),"") -> 0.21926898 | C16: -589839.3 | D16: -629145.24 | E16: =SUM(E2:E15) -> 2152981.7 | F16: =SUM(F2:F15) -> 1765797.1 | G16: =SUM(G2:G15) -> 1896221.3 | H16: =SUM(H2:H15) -> 1890160.1 | I16: =SUM(I2:I15) -> 2172368.8 | J16: =SUM(J2:J15) -> 1914630.3 | K16: =SUM(K2:K15) -> 1763643.1 | L16: =SUM(L2:L15) -> 2297629.4 | ... X16: =SUM(X2:X15) -> 1138730
A19: Pear Stocks (Ton) | B19: %YOY | C19: Moved 2026 | D19: Moved 2025 | E19: 46113 | F19: 45748 | G19: 45383 | H19: 45017 | I19: 44652 | J19: 44287 | K19: 43922 | L19: 43556 | M19: 43191 | N19: 42826 | O19: 42461 | P19: 42095 | Q19: 41730 | R19: 41365 | S19: 41000 | T19: 40634 | U19: 40269 | V19: 39904 | W19: 39539 | X19: 39173
A20: Belgium | B20: =IFERROR(((E20-F20)/F20),"") -> 0.71021932 | C20: -38097.831 | D20: -30741.679 | E20: =Belgium!E$20 -> 52468.084 | F20: =Belgium!F$20 -> 30679.155 | G20: =Belgium!G$20 -> 36623.381 | H20: =Belgium!H$20 -> 30814.7 | I20: =Belgium!I$20 -> 78763.542 | J20: =Belgium!J$20 -> 91428 | K20: =Belgium!K$20 -> 58200 | L20: =Belgium!L$20 -> 71097 | ... T20: =Belgium!T$20 -> 50300 | U20: 44300 | V20: 8500 | W20: 62800 | X20: 68000
A21: Czech Republic | B21: =IFERROR(((E21-F21)/F21),"") -> -0.089775561 | C21: -372 | D21: -203 | E21: ='Czech Republic'!E$21 -> 365 | F21: ='Czech Republic'!F$21 -> 401 | G21: ='Czech Republic'!G$21 -> 577 | H21: ='Czech Republic'!H$21 -> 65 | I21: ='Czech Republic'!I$21 -> 88 | J21: ='Czech Republic'!J$21 -> 911 | K21: ='Czech Republic'!K$21 -> 722 | L21: ='Czech Republic'!L$21 -> 1133 | ... T21: ='Czech Republic'!T$21 -> 18 | U21: 0 | V21: 0 | W21: 0 | X21: 0
A22: Denmark | B22: =IFERROR(((E22-F22)/F22),"") | C22: 0 | D22: 0 | E22: =Denmark!E$27 -> 0 | F22: =Denmark!F$27 -> 0 | G22: =Denmark!G$27 -> 0 | H22: =Denmark!H$27 -> 0 | I22: =Denmark!I$27 -> 0 | J22: =Denmark!J$27 -> 0 | K22: =Denmark!K$27 -> 19 | L22: =Denmark!L$27 -> 121 | ... T22: =Denmark!T$27 -> 0 | U22: 0 | V22: 0 | W22: 0 | X22: 0
A23: France | B23: =IFERROR(((E23-F23)/F23),"") -> 0.065068679 | C23: -2471.2187 | D23: -3425.2802 | E23: =France!E$38 -> 3030.2482 | F23: =France!F$38 -> 2845.12 | G23: =France!G$38 -> 1612 | H23: =France!H$38 -> 745 | I23: =France!I$38 -> 403 | J23: =France!J$38 -> 1283 | K23: =France!K$38 -> 968 | L23: =France!L$38 -> 1889 | ... X23: =France!X$38 -> 0
A24: Germany | B24: =IFERROR(((E24-F24)/F24),"") -> -0.18726236 | C24: -1588 | D24: -1011 | E24: =Germany!E$26 -> 855 | F24: =Germany!F$26 -> 1052 | G24: =Germany!G$26 -> 1319 | H24: =Germany!H$26 -> 158 | I24: =Germany!I$26 -> 583 | J24: =Germany!J$26 -> 612 | K24: =Germany!K$26 -> 394 | L24: =Germany!L$26 -> 821 | ... T24: =Germany!T$26 -> 9 | U24: 147 | V24: 111 | W24: 184 | X24: 84
A25: Italy | B25: =IFERROR(((E25-F25)/F25),"") -> -0.63814103 | C25: -13040.164 | D25: -17500.664 | E25: =Italy!E$29 -> 5266.2531 | F25: =Italy!F$29 -> 14553.331 | G25: =Italy!G$29 -> 0 | H25: =Italy!H$29 -> 8573.5368
A26: Poland | B26: =IFERROR(((E26-F26)/F26),"") -> 2 | C26: -8500 | D26: -8500 | E26: =Poland!E$25 -> 9000 | F26: =Poland!F$25 -> 3000 | G26: =Poland!G$25 -> 4000 | H26: =Poland!H$25 -> 1000 | I26: =Poland!I$25 -> 1000 | J26: =Poland!J$25 -> 1000 | K26: =Poland!K$25 -> 0 | L26: =Poland!L$25 -> 0 | ... T26: =Poland!T$25 -> 0 | U26: 4000 | V26: 1000 | W26: 0 | X26: 2000
A27: Portugal | B27: =IFERROR(((E27-F27)/F27),"") | C27: 0 | D27: -35838 | E27: =Portugal!E$14 -> 0 | F27: =Portugal!F$14 -> 0 | G27: =Portugal!G$14 -> 0 | H27: =Portugal!H$14 -> 0 | I27: =Portugal!I$14 -> 0 | J27: =Portugal!J$14 -> 0 | K27: =Portugal!K$14 -> 0 | L27: =Portugal!L$14 -> 24870 | ... T27: =Portugal!T$14 -> 7940
A28: Slovakia | B28: =IFERROR(((E28-F28)/F28),"") | C28: 0 | D28: 0
A29: Spain (Catalonia) | B29: =IFERROR(((E29-F29)/F29),"") -> 0.48860793 | C29: -7633.4265 | D29: -5504.6491 | E29: =Spain!E$17 -> 17108.689 | F29: =Spain!F$17 -> 11493.079 | G29: =Spain!G$17 -> 25581 | H29: =Spain!H$17 -> 17496.722 | I29: =Spain!I$17 -> 28430.54 | J29: =Spain!J$17 -> 25404.808 | K29: =Spain!K$17 -> 28465.832 | L29: =Spain!L$17 -> 26398 | ... T29: =Spain!T$17 -> 50980 | U29: 35176.849 | V29: 36206.771 | W29: 34091 | X29: 40882
A30: Switzerland | B30: =IFERROR(((E30-F30)/F30),"") -> -0.99237732 | C30: -748 | D30: -2349 | E30: =Switzerland!E$28 -> 16 | F30: =Switzerland!F$28 -> 2099 | G30: =Switzerland!G$28 -> 254 | H30: =Switzerland!H$28 -> 63 | I30: =Switzerland!I$28 -> 713 | J30: =Switzerland!J$28 -> 1635 | K30: =Switzerland!K$28 -> 2459 | L30: =Switzerland!L$28 -> 2014 | ... T30: =Switzerland!T$28 -> 79 | U30: 1633 | V30: 0 | W30: 1756 | X30: 33
A31: The Netherlands | B31: =IFERROR(((E31-F31)/F31),"") -> 0.25892284 | C31: -32938.51 | D31: -28935.5 | E31: =Netherlands!E$15 -> 118884.49 | F31: =Netherlands!F$15 -> 94433.5 | G31: =Netherlands!G$15 -> 109763.3 | H31: =Netherlands!H$15 -> 100080 | I31: =Netherlands!I$15 -> 91427 | J31: =Netherlands!J$15 -> 106333 | K31: =Netherlands!K$15 -> 91301 | L31: =Netherlands!L$15 -> 107627 | ... T31: =Netherlands!T$15 -> 59000 | U31: 64000 | V31: 22000 | W31: 41000 | X31: 47000
A32: United Kingdom | B32: =IFERROR(((E32-F32)/F32),"") -> 1.1889862 | C32: -2343 | D32: -2091 | E32: =UK!E$19 -> 5247 | F32: =UK!F$19 -> 2397 | G32: =UK!G$19 -> 957 | H32: =UK!H$19 -> 2080 | I32: =UK!I$19 -> 1393 | J32: =UK!J$19 -> 1823 | K32: =UK!K$19 -> 143 | L32: =UK!L$19 -> 751 | ... T32: =UK!T$19 -> 2500 | U32: 2900 | V32: 1000 | W32: 800 | X32: 1000
A33: TOTAL | B33: =IFERROR(((E33-F33)/F33),"") -> 0.30246466 | C33: -107732.15 | D33: -136099.77 | E33: =SUM(E20:E32) -> 212240.76 | F33: =SUM(F20:F32) -> 162953.18 | G33: =SUM(G20:G32) -> 180686.68 | H33: =SUM(H20:H32) -> 161075.96 | I33: =SUM(I20:I32) -> 202801.08 | J33: =SUM(J20:J32) -> 230429.81 | K33: =SUM(K20:K32) -> 182671.83 | L33: =SUM(L20:L32) -> 236721 | ... X33: =SUM(X20:X32) -> 158999
B34: * Portugal: Rocha stocks are compared per two months, in this case to stocks of 1 January
B35: ** As of the 2016/ 2017 season, the UK works with a different methodology, which is why the figures are not comparable.
B36: *** Starting from the 2022-2023 season, Italian pears work with a different methodology, which is why the figures are not comparable with previous years.
G37: 256760.38 | H37: -124362.92
G38: 31554.083 | H38: 1877.2259
G40: =G16+G33-'Europe - variety'!G32-'Europe - variety'!G44 -> 0 | H40: =H16+H33-'Europe - variety'!H32-'Europe - variety'!H44 -> 0
F44: =F16+F33+G16+G33-'Europe - variety'!F32-'Europe - variety'!G32-'Europe - variety'!F44-'Europe - variety'!G44 -> 6.693881e-10

Sheet Europe - variety
A1: Variety (Ton) | B1: %YOY | C1: Moved 2026 | D1: Moved 2025 | E1: 46113 | F1: 45748 | G1: 45383 | H1: 45017 | I1: 44652 | J1: 44287 | K1: 43922 | L1: 43556 | M1: 43191 | N1: 42826 | O1: 42461 | P1: 42095 | Q1: 41730 | R1: 41365 | S1: 41000 | T1: 40634 | U1: 40269 | V1: 39904
A2: Annurca | B2: =IFERROR(((E2-F2)/F2),"") | C2: -500 | D2: -500 | E2: =Italy!E$2 -> 0 | F2: =Italy!F$2 -> 0 | G2: =Italy!G$2 -> 0 | H2: =Italy!H$2 -> 0 | I2: =Italy!I$2 -> 0 | J2: =Italy!J$2 -> 0 | K2: =Italy!K$2 -> 0 | L2: =Italy!L$2 -> 0 | ... V2: =Italy!V$2 -> 0
A3: Boskoop | B3: =IFERROR(((E3-F3)/F3),"") -> 3.6192882 | C3: -4099.2611 | D3: -1610.7708 | E3: =Austria!E$3+Belgium!E$2+Denmark!E$2+France!E$4+Germany!E$2+Switzerland!E$2+Netherlands!E$2+Poland!E$2 -> 6365.1879 | F3: =Austria!F$3+Belgium!F$2+Denmark!F$2+France!F$4+Germany!F$2+Switzerland!F$2+Netherlands!F$2+Poland!F$2 -> 1377.9586 | G3: =Austria!G$3+Belgium!G$2+Denmark!G$2+France!G$4+Germany!G$2+Switzerland!G$2+Netherlands!G$2+Poland!G$2 -> 2600.8569 | H3: =Austria!H$3+Belgium!H$2+Denmark!H$2+France!H$4+Germany!H$2+Switzerland!H$2+Netherlands!H$2+Poland!H$2 -> 4375.1302 | I3: =Austria!I$3+Belgium!I$2+Denmark!I$2+France!I$4+Germany!I$2+Switzerland!I$2+Netherlands!I$2+Poland!I$2 -> 8034.3458 | J3: =Austria!J$3+Belgium!J$2+Denmark!J$2+France!J$4+Germany!J$2+Switzerland!J$2+Netherlands!J$2+Poland!J$2 -> 1477 | K3: =Austria!K$3+Belgium!K$2+Denmark!K$2+France!K$4+Germany!K$2+Switzerland!K$2+Netherlands!K$2+Poland!K$2 -> 1701 | L3: =Austria!L$3+Belgium!L$2+Denmark!L$2+France!L$4+Germany!L$2+Switzerland!L$2+Netherlands!L$2+Poland!L$2 -> 6209 | ... V3: =Austria!V$3+Belgium!V$2+Denmark!V$2+France!V$4+Germany!V$2+Switzerland!V$2+Netherlands!V$2+Poland!V$2 -> 7428
A4: Braeburn | B4: =IFERROR(((E4-F4)/F4),"") -> 0.29202677 | C4: -22539.075 | D4: -19460.91 | E4: =Austria!E$4+France!E$5+Germany!E$3+Italy!E$3+Switzerland!E$3+UK!E$2+'Czech Republic'!E$2 -> 63952.249 | F4: =Austria!F$4+France!F$5+Germany!F$3+Italy!F$3+Switzerland!F$3+UK!F$2+'Czech Republic'!F$2 -> 49497.619 | G4: =Austria!G$4+France!G$5+Germany!G$3+Italy!G$3+Switzerland!G$3+UK!G$2+'Czech Republic'!G$2 -> 47283.29 | H4: =Austria!H$4+France!H$5+Germany!H$3+Italy!H$3+Switzerland!H$3+UK!H$2+'Czech Republic'!H$2 -> 52739.685 | I4: =Austria!I$4+France!I$5+Germany!I$3+Italy!I$3+Switzerland!I$3+UK!I$2+'Czech Republic'!I$2 -> 68452.808 | J4: =Austria!J$4+France!J$5+Germany!J$3+Italy!J$3+Switzerland!J$3+UK!J$2+'Czech Republic'!J$2 -> 52991.65 | K4: =Austria!K$4+France!K$5+Germany!K$3+Italy!K$3+Switzerland!K$3+UK!K$2+'Czech Republic'!K$2 -> 63241.38 | L4: =Austria!L$4+France!L$5+Germany!L$3+Italy!L$3+Switzerland!L$3+UK!L$2+'Czech Republic'!L$2 -> 83418.58 | ... V4: =Austria!V$4+France!V$5+Germany!V$3+Italy!V$3+Switzerland!V$3+UK!V$2+'Czech Republic'!V$2 -> 38049.77
A5: Bramley | B5: =IFERROR(((E5-F5)/F5),"") -> -0.30474569 | C5: -963 | D5: -500 | E5: =UK!E$3 -> 3267 | F5: =UK!F$3 -> 4699 | G5: =UK!G$3 -> 1532 | H5: =UK!H$3 -> 5093 | I5: =UK!I$3 -> 1922 | J5: =UK!J$3 -> 4489 | K5: =UK!K$3 -> 2005 | L5: =UK!L$3 -> 19800 | ... V5: =UK!V$3 -> 28000
A6: Cameo | B6: =IFERROR(((E6-F6)/F6),"") -> -0.084578804 | C6: -1579 | D6: -909 | E6: =France!E6+UK!E4 -> 2695 | F6: =France!F6+UK!F4 -> 2944 | G6: =France!G6+UK!G4 -> 336 | H6: =France!H6+UK!H4 -> 2827 | I6: =France!I6+UK!I4 -> 1070 | J6: =France!J6+UK!J4 -> 2109 | K6: =France!K6+UK!K4 -> 647 | L6: =France!L6+UK!L4 -> 1314 | ... V6: =France!V6+UK!V4 -> 0
A7: Cortland | B7: =IFERROR(((E7-F7)/F7),"") | C7: 0 | D7: 0 | E7: =Poland!E$3 -> 0 | F7: =Poland!F$3 -> 0 | G7: =Poland!G$3 -> 0 | H7: =Poland!H$3 -> 0 | I7: =Poland!I$3 -> 0 | J7: =Poland!J$3 -> 0 | K7: =Poland!K$3 -> 0 | L7: =Poland!L$3 -> 0 | ... V7: =Poland!V$3 -> 1000
A8: Cox Orange | B8: =IFERROR(((E8-F8)/F8),"") | C8: -530 | D8: -163 | E8: =Belgium!E$3+Denmark!E$4+Germany!E$4+Switzerland!E$4+UK!E$5 -> 313 | F8: =Belgium!F$3+Denmark!F$4+Germany!F$4+Switzerland!F$4+UK!F$5 -> 0 | G8: =Belgium!G$3+Denmark!G$4+Germany!G$4+Switzerland!G$4+UK!G$5 -> 0 | H8: =Belgium!H$3+Denmark!H$4+Germany!H$4+Switzerland!H$4+UK!H$5 -> 433 | I8: =Belgium!I$3+Denmark!I$4+Germany!I$4+Switzerland!I$4+UK!I$5 -> 111 | J8: =Belgium!J$3+Denmark!J$4+Germany!J$4+Switzerland!J$4+UK!J$5 -> 92 | K8: =Belgium!K$3+Denmark!K$4+Germany!K$4+Switzerland!K$4+UK!K$5 -> 142 | L8: =Belgium!L$3+Denmark!L$4+Germany!L$4+Switzerland!L$4+UK!L$5 -> 316 | ... V8: =Belgium!V$3+Denmark!V$4+Germany!V$4+Switzerland!V$4+UK!V$5 -> 713
A9: Cripps Pink | B9: =IFERROR(((E9-F9)/F9),"") -> 0.37215131 | C9: -51359.046 | D9: -47884.458 | E9: =France!E$8+Italy!E$4 -> 154178.39 | F9: =France!F$8+Italy!F$4 -> 112362.53 | G9: =France!G$8+Italy!G$4 -> 105384.93 | H9: =France!H$8+Italy!H$4 -> 93363.097 | I9: =France!I$8+Italy!I$4 -> 62140.6 | J9: =France!J$8+Italy!J$4 -> 70998.2 | K9: =France!K$8+Italy!K$4 -> 59131.3 | L9: =France!L$8+Italy!L$4 -> 65506.2 | ... V9: =France!V$8+Italy!V$4 -> 0
A10: Elstar | B10: =IFERROR(((E10-F10)/F10),"") -> 0.90714689 | C10: -25522.103 | D10: -22532.872 | E10: =Austria!E$5+Belgium!E$4+Denmark!E$5+France!E$9+Germany!E$5+Italy!E$5+Switzerland!E$5+Netherlands!E$3+Poland!E$4 -> 73754.407 | F10: =Austria!F$5+Belgium!F$4+Denmark!F$5+France!F$9+Germany!F$5+Italy!F$5+Switzerland!F$5+Netherlands!F$3+Poland!F$4 -> 38672.641 | G10: =Austria!G$5+Belgium!G$4+Denmark!G$5+France!G$9+Germany!G$5+Italy!G$5+Switzerland!G$5+Netherlands!G$3+Poland!G$4 -> 33305.863 | H10: =Austria!H$5+Belgium!H$4+Denmark!H$5+France!H$9+Germany!H$5+Italy!H$5+Switzerland!H$5+Netherlands!H$3+Poland!H$4 -> 64204.945 | I10: =Austria!I$5+Belgium!I$4+Denmark!I$5+France!I$9+Germany!I$5+Italy!I$5+Switzerland!I$5+Netherlands!I$3+Poland!I$4 -> 55549.435 | J10: =Austria!J$5+Belgium!J$4+Denmark!J$5+France!J$9+Germany!J$5+Italy!J$5+Switzerland!J$5+Netherlands!J$3+Poland!J$4 -> 32062.4 | K10: =Austria!K$5+Belgium!K$4+Denmark!K$5+France!K$9+Germany!K$5+Italy!K$5+Switzerland!K$5+Netherlands!K$3+Poland!K$4 -> 53711 | L10: =Austria!L$5+Belgium!L$4+Denmark!L$5+France!L$9+Germany!L$5+Italy!L$5+Switzerland!L$5+Netherlands!L$3+Poland!L$4 -> 39955.4 | ... V10: =Austria!V$5+Belgium!V$4+Denmark!V$5+France!V$9+Germany!V$5+Italy!V$5+Switzerland!V$5+Netherlands!V$3+Poland!V$4 -> 44568
A11: Fuji | B11: =IFERROR(((E11-F11)/F11),"") -> 0.40895664 | C11: -25225.215 | D11: -29804.873 | E11: =Austria!E$7+Denmark!E$6+France!E$10+Germany!E$6+Italy!E$6+Spain!E$2 -> 72438.349 | F11: =Austria!F$7+Denmark!F$6+France!F$10+Germany!F$6+Italy!F$6+Spain!F$2 -> 51412.76 | G11: =Austria!G$7+Denmark!G$6+France!G$10+Germany!G$6+Italy!G$6+Spain!G$2 -> 49068.053 | H11: =Austria!H$7+Denmark!H$6+France!H$10+Germany!H$6+Italy!H$6+Spain!H$2 -> 47891.622 | I11: =Austria!I$7+Denmark!I$6+France!I$10+Germany!I$6+Italy!I$6+Spain!I$2 -> 75522.876 | J11: =Austria!J$7+Denmark!J$6+France!J$10+Germany!J$6+Italy!J$6+Spain!J$2 -> 66008.182 | K11: =Austria!K$7+Denmark!K$6+France!K$10+Germany!K$6+Italy!K$6+Spain!K$2 -> 71462.457 | L11: =Austria!L$7+Denmark!L$6+France!L$10+Germany!L$6+Italy!L$6+Spain!L$2 -> 87706.96 | ... V11: =Austria!V$7+Denmark!V$6+France!V$10+Germany!V$6+Italy!V$6+Spain!V$2 -> 41853.56
A12: Gala | B12: =IFERROR(((E12-F12)/F12),"") -> 0.62791482 | C12: -64331.344 | D12: -68468.542 | E12: =Austria!E$8+'Czech Republic'!E$3+Denmark!E$7+France!E$11+Germany!E$7+Italy!E$7+Spain!E$3+Switzerland!E$6+UK!E$6+Poland!E$5 -> 136646.29 | F12: =Austria!F$8+'Czech Republic'!F$3+Denmark!F$7+France!F$11+Germany!F$7+Italy!F$7+Spain!F$3+Switzerland!F$6+UK!F$6+Poland!F$5 -> 83939.457 | G12: =Austria!G$8+'Czech Republic'!G$3+Denmark!G$7+France!G$11+Germany!G$7+Italy!G$7+Spain!G$3+Switzerland!G$6+UK!G$6+Poland!G$5 -> 113927.3 | H12: =Austria!H$8+'Czech Republic'!H$3+Denmark!H$7+France!H$11+Germany!H$7+Italy!H$7+Spain!H$3+Switzerland!H$6+UK!H$6+Poland!H$5 -> 123425.56 | I12: =Austria!I$8+'Czech Republic'!I$3+Denmark!I$7+France!I$11+Germany!I$7+Italy!I$7+Spain!I$3+Switzerland!I$6+UK!I$6+Poland!I$5 -> 161622.4 | J12: =Austria!J$8+'Czech Republic'!J$3+Denmark!J$7+France!J$11+Germany!J$7+Italy!J$7+Spain!J$3+Switzerland!J$6+UK!J$6+Poland!J$5 -> 120800.34 | K12: =Austria!K$8+'Czech Republic'!K$3+Denmark!K$7+France!K$11+Germany!K$7+Italy!K$7+Spain!K$3+Switzerland!K$6+UK!K$6+Poland!K$5 -> 102043.18 | L12: =Austria!L$8+'Czech Republic'!L$3+Denmark!L$7+France!L$11+Germany!L$7+Italy!L$7+Spain!L$3+Switzerland!L$6+UK!L$6+Poland!L$5 -> 114199.9 | ... V12: =Austria!V$8+'Czech Republic'!V$3+Denmark!V$7+France!V$11+Germany!V$7+Italy!V$7+Spain!V$3+Switzerland!V$6+UK!V$6+Poland!V$5 -> 37450.174
A13: Gloster | B13: =IFERROR(((E13-F13)/F13),"") -> 0.0094433952 | C13: -3017 | D13: -4017 | E13: =Austria!E$9+Belgium!E$5+'Czech Republic'!E$4+Denmark!E$8+Germany!E$8+Italy!E$8+Poland!E$6 -> 9086 | F13: =Austria!F$9+Belgium!F$5+'Czech Republic'!F$4+Denmark!F$8+Germany!F$8+Italy!F$8+Poland!F$6 -> 9001 | G13: =Austria!G$9+Belgium!G$5+'Czech Republic'!G$4+Denmark!G$8+Germany!G$8+Italy!G$8+Poland!G$6 -> 7001 | H13: =Austria!H$9+Belgium!H$5+'Czech Republic'!H$4+Denmark!H$8+Germany!H$8+Italy!H$8+Poland!H$6 -> 10081 | I13: =Austria!I$9+Belgium!I$5+'Czech Republic'!I$4+Denmark!I$8+Germany!I$8+Italy!I$8+Poland!I$6 -> 20094 | J13: =Austria!J$9+Belgium!J$5+'Czech Republic'!J$4+Denmark!J$8+Germany!J$8+Italy!J$8+Poland!J$6 -> 45095 | K13: =Austria!K$9+Belgium!K$5+'Czech Republic'!K$4+Denmark!K$8+Germany!K$8+Italy!K$8+Poland!K$6 -> 40106 | L13: =Austria!L$9+Belgium!L$5+'Czech Republic'!L$4+Denmark!L$8+Germany!L$8+Italy!L$8+Poland!L$6 -> 41037 | ... V13: =Austria!V$9+Belgium!V$5+'Czech Republic'!V$4+Denmark!V$8+Germany!V$8+Italy!V$8+Poland!V$6 -> 7925.11
A14: Golden Delicious | B14: =IFERROR(((E14-F14)/F14),"") -> -0.017033064 | C14: -113714.04 | D14: -143223.6 | E14: =Austria!E$10+Belgium!E$6+'Czech Republic'!E$5+France!E$12+Germany!E$9+Italy!E$9+Spain!E$4+Switzerland!E$8+Netherlands!E$4+Poland!E$7 -> 537850.51 | F14: =Austria!F$10+Belgium!F$6+'Czech Republic'!F$5+France!F$12+Germany!F$9+Italy!F$9+Spain!F$4+Switzerland!F$8+Netherlands!F$4+Poland!F$7 -> 547170.5 | G14: =Austria!G$10+Belgium!G$6+'Czech Republic'!G$5+France!G$12+Germany!G$9+Italy!G$9+Spain!G$4+Switzerland!G$8+Netherlands!G$4+Poland!G$7 -> 682578.7 | H14: =Austria!H$10+Belgium!H$6+'Czech Republic'!H$5+France!H$12+Germany!H$9+Italy!H$9+Spain!H$4+Switzerland!H$8+Netherlands!H$4+Poland!H$7 -> 482981.94 | I14: =Austria!I$10+Belgium!I$6+'Czech Republic'!I$5+France!I$12+Germany!I$9+Italy!I$9+Spain!I$4+Switzerland!I$8+Netherlands!I$4+Poland!I$7 -> 647835.78 | J14: =Austria!J$10+Belgium!J$6+'Czech Republic'!J$5+France!J$12+Germany!J$9+Italy!J$9+Spain!J$4+Switzerland!J$8+Netherlands!J$4+Poland!J$7 -> 513961.03 | K14: =Austria!K$10+Belgium!K$6+'Czech Republic'!K$5+France!K$12+Germany!K$9+Italy!K$9+Spain!K$4+Switzerland!K$8+Netherlands!K$4+Poland!K$7 -> 646374.18 | L14: =Austria!L$10+Belgium!L$6+'Czech Republic'!L$5+France!L$12+Germany!L$9+Italy!L$9+Spain!L$4+Switzerland!L$8+Netherlands!L$4+Poland!L$7 -> 669581.6 | ... V14: =Austria!V$10+Belgium!V$6+'Czech Republic'!V$5+France!V$12+Germany!V$9+Italy!V$9+Spain!V$4+Switzerland!V$8+Netherlands!V$4+Poland!V$7 -> 604548.23
A15: Granny Smith | B15: =IFERROR(((E15-F15)/F15),"") -> -0.069836612 | C15: -24704.936 | D15: -30559.916 | E15: =Austria!E$11+France!E$14+Italy!E$10+Spain!E$5+Switzerland!E$9+Denmark!E$9 -> 85819.869 | F15: =Austria!F$11+France!F$14+Italy!F$10+Spain!F$5+Switzerland!F$9+Denmark!F$9 -> 92263.219 | G15: =Austria!G$11+France!G$14+Italy!G$10+Spain!G$5+Switzerland!G$9+Denmark!G$9 -> 61689.218 | H15: =Austria!H$11+France!H$14+Italy!H$10+Spain!H$5+Switzerland!H$9+Denmark!H$9 -> 77397.629 | I15: =Austria!I$11+France!I$14+Italy!I$10+Spain!I$5+Switzerland!I$9+Denmark!I$9 -> 75791.139 | J15: =Austria!J$11+France!J$14+Italy!J$10+Spain!J$5+Switzerland!J$9+Denmark!J$9 -> 93651.106 | K15: =Austria!K$11+France!K$14+Italy!K$10+Spain!K$5+Switzerland!K$9+Denmark!K$9 -> 70886.895 | L15: =Austria!L$11+France!L$14+Italy!L$10+Spain!L$5+Switzerland!L$9 -> 84279.94 | M15: =Austria!M$11+France!M$14+Italy!M$10+Spain!M$5+Switzerland!M$9 -> 82648 | N15: =Austria!N$11+France!N$14+Italy!N$10+Spain!N$5+Switzerland!N$9 -> 68011.808 | O15: =Austria!O$11+France!O$14+Italy!O$10+Spain!O$5+Switzerland!O$9 -> 94799.062 | P15: =Austria!P$11+France!P$14+Italy!P$10+Spain!P$5+Switzerland!P$9 -> 78545.597 | Q15: =Austria!Q$11+France!Q$14+Italy!Q$10+Spain!Q$5+Switzerland!Q$9 -> 81197.309 | R15: =Austria!R$11+France!R$14+Italy!R$10+Spain!R$5+Switzerland!R$9 -> 41960.158 | S15: =Austria!S$11+France!S$14+Italy!S$10+Spain!S$5+Switzerland!S$9 -> 57382.785 | ... V15: =Austria!V$11+France!V$14+Italy!V$10+Spain!V$5+Switzerland!V$9 -> 26188.702
A16: Holsteiner Cox | B16: =IFERROR(((E16-F16)/F16),"") | C16: -164 | D16: 0 | E16: =Denmark!E$10+Germany!E$10 -> 120 | F16: =Denmark!F$10+Germany!F$10 -> 0 | G16: =Denmark!G$10+Germany!G$10 -> 4 | H16: =Denmark!H$10+Germany!H$10 -> 0 | I16: =Denmark!I$10+Germany!I$10 -> 20 | J16: =Denmark!J$10+Germany!J$10 -> 0 | K16: =Denmark!K$10+Germany!K$10 -> 0 | L16: =Denmark!L$10+Germany!L$10 -> 35 | ... V16: =Denmark!V$10+Germany!V$10 -> 0
A17: Idared | B17: =IFERROR(((E17-F17)/F17),"") -> 0.46246493 | C17: -20432.734 | D17: -25372.24 | E17: =Austria!E$12+'Czech Republic'!E$6+Denmark!E$11+France!E$16+Germany!E$11+Italy!E$11+Switzerland!E$10+Poland!E$8 -> 120041 | F17: =Austria!F$12+'Czech Republic'!F$6+Denmark!F$11+France!F$16+Germany!F$11+Italy!F$11+Switzerland!F$10+Poland!F$8 -> 82081.287 | G17: =Austria!G$12+'Czech Republic'!G$6+Denmark!G$11+France!G$16+Germany!G$11+Italy!G$11+Switzerland!G$10+Poland!G$8 -> 89067.475 | H17: =Austria!H$12+'Czech Republic'!H$6+Denmark!H$11+France!H$16+Germany!H$11+Italy!H$11+Switzerland!H$10+Poland!H$8 -> 124392.12 | I17: =Austria!I$12+'Czech Republic'!I$6+Denmark!I$11+France!I$16+Germany!I$11+Italy!I$11+Switzerland!I$10+Poland!I$8 -> 153078.17 | J17: =Austria!J$12+'Czech Republic'!J$6+Denmark!J$11+France!J$16+Germany!J$11+Italy!J$11+Switzerland!J$10+Poland!J$8 -> 153487.45 | K17: =Austria!K$12+'Czech Republic'!K$6+Denmark!K$11+France!K$16+Germany!K$11+Italy!K$11+Switzerland!K$10+Poland!K$8 -> 89378 | L17: =Austria!L$12+'Czech Republic'!L$6+Denmark!L$11+France!L$16+Germany!L$11+Italy!L$11+Switzerland!L$10+Poland!L$8 -> 213639.58 | ... V17: =Austria!V$12+'Czech Republic'!V$6+Denmark!V$11+France!V$16+Germany!V$11+Italy!V$11+Switzerland!V$10+Poland!V$8 -> 116812.52
A18: Jonagold | B18: =IFERROR(((E18-F18)/F18),"") -> 0.41678744 | C18: -17291.583 | D18: -21262.666 | E18: =Austria!E$13+Belgium!E$7+'Czech Republic'!E$7+Denmark!E$13+France!E$18+Germany!E$13+Italy!E$12+Switzerland!E$11+Netherlands!E$5+UK!E$7+Poland!E$9 -> 110713.33 | F18: =Austria!F$13+Belgium!F$7+'Czech Republic'!F$7+Denmark!F$13+France!F$18+Germany!F$13+Italy!F$12+Switzerland!F$11+Netherlands!F$5+UK!F$7+Poland!F$9 -> 78143.923 | G18: =Austria!G$13+Belgium!G$7+'Czech Republic'!G$7+Denmark!G$13+France!G$18+Germany!G$13+Italy!G$12+Switzerland!G$11+Netherlands!G$5+UK!G$7+Poland!G$9 -> 83770.433 | H18: =Austria!H$13+Belgium!H$7+'Czech Republic'!H$7+Denmark!H$13+France!H$18+Germany!H$13+Italy!H$12+Switzerland!H$11+Netherlands!H$5+UK!H$7+Poland!H$9 -> 97434.993 | I18: =Austria!I$13+Belgium!I$7+'Czech Republic'!I$7+Denmark!I$13+France!I$18+Germany!I$13+Italy!I$12+Switzerland!I$11+Netherlands!I$5+UK!I$7+Poland!I$9 -> 153856.7 | J18: =Austria!J$13+Belgium!J$7+'Czech Republic'!J$7+Denmark!J$13+France!J$18+Germany!J$13+Italy!J$12+Switzerland!J$11+Netherlands!J$5+UK!J$7+Poland!J$9 -> 111056.65 | K18: =Austria!K$13+Belgium!K$7+'Czech Republic'!K$7+Denmark!K$13+France!K$18+Germany!K$13+Italy!K$12+Switzerland!K$11+Netherlands!K$5+UK!K$7+Poland!K$9 -> 105428.2 | L18: =Austria!L$13+Belgium!L$7+'Czech Republic'!L$7+Denmark!L$13+France!L$18+Germany!L$13+Italy!L$12+Switzerland!L$11+Netherlands!L$5+UK!L$7+Poland!L$9 -> 137900.48 | ... V18: =Austria!V$13+Belgium!V$7+'Czech Republic'!V$7+Denmark!V$13+France!V$18+Germany!V$13+Italy!V$12+Switzerland!V$11+Netherlands!V$5+UK!V$7+Poland!V$9 -> 218512.68
A19: Jonagored | B19: =IFERROR(((E19-F19)/F19),"") -> 0.28256202 | C19: -4031.4623 | D19: -1353.5003 | E19: =Austria!E$14+Belgium!E$8+Denmark!E$14+Germany!E$14+UK!E$8 -> 20859.146 | F19: =Austria!F$14+Belgium!F$8+Denmark!F$14+Germany!F$14+UK!F$8 -> 16263.655 | G19: =Austria!G$14+Belgium!G$8+Denmark!G$14+Germany!G$14+UK!G$8 -> 17132.125 | H19: =Austria!H$14+Belgium!H$8+Denmark!H$14+Germany!H$14+UK!H$8 -> 20399.45 | I19: =Austria!I$14+Belgium!I$8+Denmark!I$14+Germany!I$14+UK!I$8 -> 39095.624 | J19: =Austria!J$14+Belgium!J$8+Denmark!J$14+Germany!J$14+UK!J$8 -> 31068 | K19: =Austria!K$14+Belgium!K$8+Denmark!K$14+Germany!K$14+UK!K$8 -> 42551 | L19: =Austria!L$14+Belgium!L$8+Denmark!L$14+Germany!L$14+UK!L$8 -> 61120 | ... V19: =Austria!V$14+Belgium!V$8+Denmark!V$14+Germany!V$14+UK!V$8 -> 64784
A20: Jonathan | B20: =IFERROR(((E20-F20)/F20),"") | C20: 0 | D20: 0 | E20: =Italy!E$13 -> 0 | F20: =Italy!F$13 -> 0 | G20: =Italy!G$13 -> 0 | H20: =Italy!H$13 -> 0 | I20: =Italy!I$13 -> 0 | J20: =Italy!J$13 -> 0 | K20: =Italy!K$13 -> 0 | L20: =Italy!L$13 -> 0 | ... Q20: =Italy!Q$13 -> 0 | R20: =Italy!R$13+Poland!R$10 -> 60000 | S20: =Italy!S$13+Poland!S$10 -> 60002.004 | T20: =Italy!T$13+Poland!T$10 -> 0 | U20: =Italy!U$13+Poland!U$10 -> 2 | V20: =Italy!V$13+Poland!V$10 -> 1003
A21: Lobo | B21: =IFERROR(((E21-F21)/F21),"") | C21: 0 | D21: 0 | E21: =Poland!E$11 -> 0 | F21: =Poland!F$11 -> 0 | G21: =Poland!G$11 -> 0 | H21: =Poland!H$11 -> 0 | I21: =Poland!I$11 -> 0 | J21: =Poland!J$11 -> 0 | K21: =Poland!K$11 -> 0 | L21: =Poland!L$11 -> 0 | ... V21: =Poland!V$11 -> 10000
A22: Morgendurf/imperat | B22: =IFERROR(((E22-F22)/F22),"") -> 0.042018682 | C22: -2439 | D22: -2188.5763 | E22: =Italy!E$14 -> 4875 | F22: =Italy!F$14 -> 4678.419 | G22: =Italy!G$14 -> 4722.135 | H22: =Italy!H$14 -> 5236.9367 | I22: =Italy!I$14 -> 7206.0954 | J22: =Italy!J$14 -> 8024.3 | K22: =Italy!K$14 -> 5192.5961 | L22: =Italy!L$14 -> 7615.2 | ... V22: =Italy!V$14 -> 23702.27
A23: Pinova | B23: =IFERROR(((E23-F23)/F23),"") -> 0.40902822 | C23: -12408.374 | D23: -14597.187 | E23: =Austria!E$16+Denmark!E$16+Germany!E$15+Switzerland!E$14+Poland!E$12+Italy!E$15 -> 51466.889 | F23: =Austria!F$16+Denmark!F$16+Germany!F$15+Switzerland!F$14+Poland!F$12+Italy!F$15 -> 36526.514 | G23: =Austria!G$16+Denmark!G$16+Germany!G$15+Switzerland!G$14+Poland!G$12+Italy!G$15 -> 52861.097 | H23: =Austria!H$16+Denmark!H$16+Germany!H$15+Switzerland!H$14+Poland!H$12+Italy!H$15 -> 54013.733 | I23: =Austria!I$16+Denmark!I$16+Germany!I$15+Switzerland!I$14+Poland!I$12+Italy!I$15 -> 47032.058 | J23: =Austria!J$16+Denmark!J$16+Germany!J$15+Switzerland!J$14+Poland!J$12+Italy!J$15 -> 40789.45 | K23: =Austria!K$16+Denmark!K$16+Germany!K$15+Switzerland!K$14+Poland!K$12+Italy!K$15 -> 27555.4 | L23: =Austria!L$16+Denmark!L$16+Germany!L$15+Switzerland!L$14+Poland!L$12+Italy!L$15 -> 33669.14 | M23: =Austria!M$16+Denmark!M$16+Germany!M$15+Switzerland!M$14+Poland!M$12 -> 2926 | N23: =Austria!N$16+Denmark!N$16+Germany!N$15+Switzerland!N$14+Poland!N$12 -> 7341.18 | O23: =Austria!O$16+Denmark!O$16+Germany!O$15+Switzerland!O$14+Poland!O$12 -> 9958.06 | P23: =Austria!P$16+Denmark!P$16+Germany!P$15+Switzerland!P$14+Poland!P$12 -> 9437.14 | Q23: =Austria!Q$16+Denmark!Q$16+Germany!Q$15+Switzerland!Q$14+Poland!Q$12 -> 7449.06 | R23: =Austria!R$15+Denmark!R$16+Germany!R$15+Switzerland!R$14 -> 6429 | S23: =Austria!S$16+Denmark!S$16+Germany!S$15+Switzerland!S$14 -> 6342 | T23: =Austria!T$16+Denmark!T$16+Germany!T$15+Switzerland!T$14 -> 5343 | U23: =Austria!U$16+Denmark!U$16+Germany!U$15+Switzerland!U$14 -> 6017 | V23: =Austria!V$16+Denmark!V$16+Germany!V$15+Switzerland!V$14 -> 5457
A24: Red Delicious | B24: =IFERROR(((E24-F24)/F24),"") -> -0.38221674 | C24: -22243.818 | D24: -32359.59 | E24: ='Czech Republic'!E$8+France!E$19+Italy!E$16+Spain!E$6+Poland!E$13 -> 33888.514 | F24: ='Czech Republic'!F$8+France!F$19+Italy!F$16+Spain!F$6+Poland!F$13 -> 54855.021 | G24: ='Czech Republic'!G$8+France!G$19+Italy!G$16+Spain!G$6+Poland!G$13 -> 48310.829 | H24: ='Czech Republic'!H$8+France!H$19+Italy!H$16+Spain!H$6+Poland!H$13 -> 79684.636 | I24: ='Czech Republic'!I$8+France!I$19+Italy!I$16+Spain!I$6+Poland!I$13 -> 70006.958 | J24: ='Czech Republic'!J$8+France!J$19+Italy!J$16+Spain!J$6+Poland!J$13 -> 82974.195 | K24: ='Czech Republic'!K$8+France!K$19+Italy!K$16+Spain!K$6+Poland!K$13 -> 62715.89 | L24: ='Czech Republic'!L$8+France!L$19+Italy!L$16+Spain!L$6+Poland!L$13 -> 77766.7 | ... Q24: ='Czech Republic'!Q$8+France!Q$19+Italy!Q$16+Spain!Q$6+Poland!Q$13 -> 66405.208 | R24: ='Czech Republic'!R$8+France!R$19+Italy!R$16+Spain!R$6+Poland!R$12+Poland!R$13 -> 45509.905 | S24: ='Czech Republic'!S$8+France!S$19+Italy!S$16+Spain!S$6+Poland!S$12+Poland!S$13 -> 53253.976 | T24: ='Czech Republic'!T$8+France!T$19+Italy!T$16+Spain!T$6+Poland!T$12+Poland!T$13 -> 51919.274 | U24: ='Czech Republic'!U$8+France!U$19+Italy!U$16+Spain!U$6+Poland!U$12+Poland!U$13 -> 71733.894 | V24: ='Czech Republic'!V$8+France!V$19+Italy!V$16+Spain!V$6+Poland!V$12+Poland!V$13 -> 66542.927
A25: Red Jonaprince | B25: =IFERROR(((E25-F25)/F25),"") -> 0.53429249 | C25: -25056.069 | D25: -23387.995 | E25: =Germany!E$16+Austria!E$17+Poland!E$14 -> 170542.35 | F25: =Germany!F$16+Austria!F$17+Poland!F$14 -> 111153.74 | G25: =Germany!G$16+Austria!G$17+Poland!G$14 -> 130801.38 | H25: =Germany!H$16+Austria!H$17+Poland!H$14 -> 180706.33 | I25: =Germany!I$16+Austria!I$17+Poland!I$14 -> 149010.38 | J25: =Germany!J$16+Austria!J$17+Poland!J$14 -> 101634 | K25: =Germany!K$16+Austria!K$17+Poland!K$14 -> 75646 | L25: =Germany!L$16+Austria!L$17+Poland!L$14 -> 71848.38 | M25: =Germany!M$16+Austria!M$17 -> 28554 | N25: =Germany!N$16 -> 44254 | O25: =Germany!O$16 -> 28200 | P25: =Germany!P$16 -> 24718 | Q25: =Germany!Q$16 -> 12045 | R25: =Germany!R$16 -> 16692 | S25: =Germany!S$16 -> 12671 | T25: =Germany!T$16 -> 7452 | U25: =Germany!U$16 -> 10952 | V25: =Germany!V$16 -> 7842
A26: Reinette | B26: =IFERROR(((E26-F26)/F26),"") -> -0.13561971 | C26: -7157.4676 | D26: -8798.0341 | E26: =France!E$21+France!E$20+Italy!E$17+Switzerland!E$12 -> 18860.4 | F26: =France!F$21+France!F$20+Italy!F$17+Switzerland!F$12 -> 21819.563 | G26: =France!G$21+France!G$20+Italy!G$17+Switzerland!G$12 -> 10789 | H26: =France!H$21+France!H$20+Italy!H$17+Switzerland!H$12 -> 18004 | I26: =France!I$21+France!I$20+Italy!I$17+Switzerland!I$12 -> 18244 | J26: =France!J$21+France!J$20+Italy!J$17+Switzerland!J$12 -> 19329 | K26: =France!K$21+France!K$20+Italy!K$17+Switzerland!K$12 -> 20891.2 | L26: =France!L$21+France!L$20+Italy!L$17+Switzerland!L$12 -> 24198 | ... V26: =France!V$21+France!V$20+Italy!V$17+Switzerland!V$12 -> 1557.9
A27: Shampion | B27: =IFERROR(((E27-F27)/F27),"") -> 0.012936943 | C27: -15311 | D27: -15018 | E27: ='Czech Republic'!E$9+Germany!E$17+Poland!E$15 -> 35469 | F27: ='Czech Republic'!F$9+Germany!F$17+Poland!F$15 -> 35016 | G27: ='Czech Republic'!G$9+Germany!G$17+Poland!G$15 -> 35123 | H27: ='Czech Republic'!H$9+Germany!H$17+Poland!H$15 -> 40109 | I27: ='Czech Republic'!I$9+Germany!I$17+Poland!I$15 -> 65725 | J27: ='Czech Republic'!J$9+Germany!J$17+Poland!J$15 -> 50758 | K27: ='Czech Republic'!K$9+Germany!K$17+Poland!K$15 -> 40185 | L27: ='Czech Republic'!L$9+Germany!L$17+Poland!L$15 -> 125724 | ... V27: ='Czech Republic'!V$9+Germany!V$17+Poland!V$15 -> 20229
A28: Stayman | B28: =IFERROR(((E28-F28)/F28),"") | C28: 0 | D28: 0 | E28: =Italy!E$18 -> 0 | F28: =Italy!F$18 -> 0 | G28: =Italy!G$18 -> 0 | H28: =Italy!H$18 -> 0 | I28: =Italy!I$18 -> 0 | J28: =Italy!J$18 -> 0 | K28: =Italy!K$18 -> 0 | L28: =Italy!L$18 -> 407 | ... V28: =Italy!V$18 -> 3581.78
A29: Spartan | B29: =IFERROR(((E29-F29)/F29),"") | C29: 0 | D29: 0 | E29: ='Czech Republic'!E$10+UK!E$9+Poland!E$16+Denmark!E$17 -> 0 | F29: ='Czech Republic'!F$10+UK!F$9+Poland!F$16+Denmark!F$17 -> 0 | G29: ='Czech Republic'!G$10+UK!G$9+Poland!G$16+Denmark!G$17 -> 0 | H29: ='Czech Republic'!H$10+UK!H$9+Poland!H$16+Denmark!H$17 -> 0 | I29: ='Czech Republic'!I$10+UK!I$9+Poland!I$16+Denmark!I$17 -> 0 | J29: ='Czech Republic'!J$10+UK!J$9+Poland!J$16+Denmark!J$17 -> 0 | K29: ='Czech Republic'!K$10+UK!K$9+Poland!K$16+Denmark!K$17 -> 0 | L29: ='Czech Republic'!L$10+UK!L$9+Poland!L$16+Denmark!L$17 -> 12 | ... R29: ='Czech Republic'!R$10+UK!R$9+Poland!R$16+Denmark!R$17 -> 8 | S29: ='Czech Republic'!S$10+UK!S$9+Poland!S$16 -> 0 | T29: ='Czech Republic'!T$10+UK!T$9+Poland!T$16 -> 0 | U29: ='Czech Republic'!U$10+UK!U$9+Poland!U$16 -> 0 | V29: ='Czech Republic'!V$10+UK!V$9+Poland!V$16 -> 1000
A30: Other new varieties* | B30: =IFERROR(((E30-F30)/F30),"") -> 0.72493366 | C30: -26894.38 | D30: -24042.36 | E30: =Austria!E$6+Denmark!E$18+France!E$2+France!E$24+France!E$17+France!E$15+France!E$13+Switzerland!E$17+UK!E$10+Germany!E$19+Netherlands!E$6 -> 106561.81 | F30: =Austria!F$6+Denmark!F$18+France!F$2+France!F$24+France!F$17+France!F$15+France!F$13+Switzerland!F$17+UK!F$10+Germany!F$19+Netherlands!F$6 -> 61777.337 | G30: =Austria!G$6+Denmark!G$18+France!G$2+France!G$24+France!G$17+France!G$15+France!G$13+Switzerland!G$17+UK!G$10+Germany!G$19+Netherlands!G$6 -> 53480.968 | H30: =Austria!H$6+Denmark!H$18+France!H$2+France!H$24+France!H$17+France!H$15+France!H$13+Switzerland!H$17+UK!H$10+Germany!H$19+Netherlands!H$6 -> 84518.5 | I30: =Austria!I$6+Denmark!I$18+France!I$2+France!I$24+France!I$17+France!I$15+France!I$13+Switzerland!I$17+UK!I$10+Germany!I$19+Netherlands!I$6 -> 83393.25 | J30: =Austria!J$6+Denmark!J$18+France!J$2+France!J$24+France!J$17+France!J$15+France!J$13+Switzerland!J$17+UK!J$10+Germany!J$19+Netherlands!J$6 -> 57449.3 | K30: =Austria!K$6+Denmark!K$18+France!K$2+France!K$24+France!K$17+France!K$15+France!K$13+Switzerland!K$17+UK!K$10+Germany!K$19+Netherlands!K$6 -> 60055 | L30: =Austria!L$6+Denmark!L$18+France!L$2+France!L$24+France!L$17+France!L$15+France!L$13+Switzerland!L$17+UK!L$10+Germany!L$19+Netherlands!L$6 -> 72316.86 | ... V30: =Austria!V$6+Denmark!V$18+France!V$2+France!V$24+France!V$17+France!V$15+France!V$13+Switzerland!V$17+UK!V$10+Germany!V$19+Netherlands!V$6 -> 1837
A31: Other | B31: =IFERROR(((E31-F31)/F31),"") -> 0.23349655 | C31: -98325.392 | D31: -91130.143 | E31: =Austria!E$2+Austria!E$15+Austria!E$18+Austria!E$19+Austria!E$20+Belgium!E$9+'Czech Republic'!E$11+Denmark!E$3+Denmark!E$15+Denmark!E$12+Denmark!E$19+Germany!E$12+Germany!E$18+Germany!E$20+Italy!E$19+Spain!E$7+Switzerland!E$7+Switzerland!E$13+Switzerland!E$15+Switzerland!E$16+Switzerland!E$18+Netherlands!E$7+UK!E$11+France!E$3+France!E$7+France!E$22+France!E$23+France!E$25+Poland!E$10+Poland!E$17 -> 333217.97 | F31: =Austria!F$2+Austria!F$15+Austria!F$18+Austria!F$19+Austria!F$20+Belgium!F$9+'Czech Republic'!F$11+Denmark!F$3+Denmark!F$15+Denmark!F$12+Denmark!F$19+Germany!F$12+Germany!F$18+Germany!F$20+Italy!F$19+Spain!F$7+Switzerland!F$7+Switzerland!F$13+Switzerland!F$15+Switzerland!F$16+Switzerland!F$18+Netherlands!F$7+UK!F$11+France!F$3+France!F$7+France!F$22+France!F$23+France!F$25+Poland!F$10+Poland!F$17 -> 270140.99 | G31: =Austria!G$2+Austria!G$15+Austria!G$18+Austria!G$19+Austria!G$20+Belgium!G$9+'Czech Republic'!G$11+Denmark!G$3+Denmark!G$15+Denmark!G$12+Denmark!G$19+Germany!G$12+Germany!G$18+Germany!G$20+Italy!G$19+Spain!G$7+Switzerland!G$7+Switzerland!G$13+Switzerland!G$15+Switzerland!G$16+Switzerland!G$18+Netherlands!G$7+UK!G$11+France!G$3+France!G$7+France!G$22+France!G$23+France!G$25+Poland!G$10+Poland!G$17 -> 265451.63 | H31: =Austria!H$2+Austria!H$15+Austria!H$18+Austria!H$19+Austria!H$20+Belgium!H$9+'Czech Republic'!H$11+Denmark!H$3+Denmark!H$15+Denmark!H$12+Denmark!H$19+Germany!H$12+Germany!H$18+Germany!H$20+Italy!H$19+Spain!H$7+Switzerland!H$7+Switzerland!H$13+Switzerland!H$15+Switzerland!H$16+Switzerland!H$18+Netherlands!H$7+UK!H$11+France!H$3+France!H$7+France!H$22+France!H$23+France!H$25+Poland!H$10+Poland!H$17 -> 220846.74 | I31: =Austria!I$2+Austria!I$15+Austria!I$18+Austria!I$19+Austria!I$20+Belgium!I$9+'Czech Republic'!I$11+Denmark!I$3+Denmark!I$15+Denmark!I$12+Denmark!I$19+Germany!I$12+Germany!I$18+Germany!I$20+Italy!I$19+Spain!I$7+Switzerland!I$7+Switzerland!I$13+Switzerland!I$15+Switzerland!I$16+Switzerland!I$18+Netherlands!I$7+UK!I$11+France!I$3+France!I$7+France!I$22+France!I$23+France!I$25+Poland!I$10+Poland!I$17 -> 207554.18 | J31: =Austria!J$2+Austria!J$15+Austria!J$18+Austria!J$19+Austria!J$20+Belgium!J$9+'Czech Republic'!J$11+Denmark!J$3+Denmark!J$15+Denmark!J$12+Denmark!J$19+Germany!J$12+Germany!J$18+Germany!J$20+Italy!J$19+Spain!J$7+Switzerland!J$7+Switzerland!J$13+Switzerland!J$15+Switzerland!J$16+Switzerland!J$18+Netherlands!J$7+UK!J$11+France!J$3+France!J$7+France!J$22+France!J$23+France!J$25+Poland!J$10+Poland!J$17 -> 254325.1 | K31: =Austria!K$2+Austria!K$15+Austria!K$18+Austria!K$19+Austria!K$20+Belgium!K$9+'Czech Republic'!K$11+Denmark!K$3+Denmark!K$15+Denmark!K$12+Denmark!K$19+Germany!K$12+Germany!K$18+Germany!K$20+Italy!K$19+Spain!K$7+Switzerland!K$7+Switzerland!K$13+Switzerland!K$15+Switzerland!K$16+Switzerland!K$18+Netherlands!K$7+UK!K$11+France!K$3+France!K$7+France!K$22+France!K$23+France!K$25+Poland!K$10+Poland!K$17 -> 122593.39 | L31: =Austria!L$2+Austria!L$15+Austria!L$18+Austria!L$19+Austria!L$20+Belgium!L$9+'Czech Republic'!L$11+Denmark!L$3+Denmark!L$15+Denmark!L$12+Denmark!L$19+Germany!L$12+Germany!L$18+Germany!L$20+Italy!L$19+Spain!L$7+Switzerland!L$7+Switzerland!L$13+Switzerland!L$15+Switzerland!L$16+Switzerland!L$18+Netherlands!L$7+UK!L$11+France!L$3+France!L$7+France!L$22+France!L$23+France!L$25+Poland!L$10+Poland!L$17 -> 258052.52 | ... V31: =Austria!V$2+Austria!V$15+Austria!V$18+Austria!V$19+Austria!V$20+Belgium!V$9+'Czech Republic'!V$11+Denmark!V$3+Denmark!V$15+Denmark!V$12+Denmark!V$19+Germany!V$12+Germany!V$18+Germany!V$20+Italy!V$19+Spain!V$7+Switzerland!V$7+Switzerland!V$13+Switzerland!V$15+Switzerland!V$16+Switzerland!V$18+Netherlands!V$7+UK!V$11+France!V$3+France!V$7+France!V$22+France!V$23+France!V$25+Poland!V$10+Poland!V$17 -> 58536
A32: Total | B32: =IFERROR(((E32-F32)/F32),"") -> 0.21926898 | C32: -589839.3 | D32: -629145.24 | E32: =SUM(E2:E31) -> 2152981.7 | F32: =SUM(F2:F31) -> 1765797.1 | G32: =SUM(G2:G31) -> 1896221.3 | H32: =SUM(H2:H31) -> 1890160.1 | I32: =SUM(I2:I31) -> 2172368.8 | J32: =SUM(J2:J31) -> 1914630.3 | K32: =SUM(K2:K31) -> 1763643.1 | L32: =SUM(L2:L31) -> 2297629.4 | ... V32: =SUM(V2:V31) -> 1439122.6
A33: * Other new varieties: Ariane, Belgica, Cameo, Diwa, Greenstar, Goldrush, Honey Crunch, Jazz, Junami, Kanzi, Mairac, Rubens, Tentation (temptation), Wellant, ...
A35: Variety (Ton) | B35: %YOY | C35: Moved 2026 | D35: Moved 2025 | E35: 46113 | F35: 45748 | G35: 45383 | H35: 45017 | I35: 44652 | J35: 44287 | K35: 43922 | L35: 43556 | M35: 43191 | N35: 42826 | O35: 42461 | P35: 42095 | Q35: 41730 | R35: 41365 | S35: 41000 | T35: 40634 | U35: 40269 | V35: 39904
A36: Abate Fetel | B36: =IFERROR(((E36-F36)/F36),"") -> -0.85175494 | C36: -7391.1574 | D36: -8785.5773 | E36: =Italy!E$24 -> 1200 | F36: =Italy!F$24 -> 8094.7051 | G36: =Italy!G$24 -> 0 | H36: =Italy!H$24 -> 2982.2423 | I36: =Italy!I$24 -> 0 | J36: =Italy!J$24 -> 0 | K36: =Italy!K$24 -> 0 | L36: =Italy!L$24 -> 0 | ... V36: =Italy!V$24 -> 0
A37: Alexandrina | B37: =IFERROR(((E37-F37)/F37),"") -> 4.8368139 | C37: -374.9167 | D37: -157.81025 | E37: =Spain!E$12 -> 660.9485 | F37: =Spain!F$12 -> 113.23789 | G37: =Spain!G$12 -> 213 | H37: =Spain!H$12 -> 490.57113 | I37: =Spain!I$12 -> 292.33734 | J37: =Spain!J$12 -> 838.63686 | K37: =Spain!K$12 -> 864.41877 | L37: =Spain!L$12 -> 612 | ... V37: =Spain!V$12 -> 894.48632
A38: Blanquilla | B38: =IFERROR(((E38-F38)/F38),"") -> 0.042649347 | C38: -859.83098 | D38: -632.06017 | E38: =Spain!E$13 -> 829.1598 | F38: =Spain!F$13 -> 795.2432 | G38: =Spain!G$13 -> 118 | H38: =Spain!H$13 -> 917.33263 | I38: =Spain!I$13 -> 405.93657 | J38: =Spain!J$13 -> 2304.6355 | K38: =Spain!K$13 -> 558.84919 | L38: =Spain!L$13 -> 1653 | ... V38: =Spain!V$13 -> 2045.5222
A39: Conference | B39: =IFERROR(((E39-F39)/F39),"") -> 0.38207755 | C39: -86016.445 | D39: -74258.338 | E39: =Belgium!E$15+Denmark!E$24+Italy!E$25+Poland!E$22+Spain!E$14+Switzerland!E$24+Netherlands!E$12+UK!E$16+'Czech Republic'!E$16+France!E$32 -> 195296.71 | F39: =Belgium!F$15+Denmark!F$24+Italy!F$25+Poland!F$22+Spain!F$14+Switzerland!F$24+Netherlands!F$12+UK!F$16+'Czech Republic'!F$16+France!F$32 -> 141306.62 | G39: =Belgium!G$15+Denmark!G$24+Italy!G$25+Poland!G$22+Spain!G$14+Switzerland!G$24+Netherlands!G$12+UK!G$16+'Czech Republic'!G$16+France!G$32 -> 173676.38 | H39: =Belgium!H$15+Denmark!H$24+Italy!H$25+Poland!H$22+Spain!H$14+Switzerland!H$24+Netherlands!H$12+UK!H$16+'Czech Republic'!H$16+France!H$32 -> 149457.93 | I39: =Belgium!I$15+Denmark!I$24+Italy!I$25+Poland!I$22+Spain!I$14+Switzerland!I$24+Netherlands!I$12+UK!I$16+'Czech Republic'!I$16+France!I$32 -> 196991.66 | J39: =Belgium!J$15+Denmark!J$24+Italy!J$25+Poland!J$22+Spain!J$14+Switzerland!J$24+Netherlands!J$12+UK!J$16+'Czech Republic'!J$16+France!J$32 -> 220371.49 | K39: =Belgium!K$15+Denmark!K$24+Italy!K$25+Poland!K$22+Spain!K$14+Switzerland!K$24+Netherlands!K$12+UK!K$16+'Czech Republic'!K$16+France!K$32 -> 174798.65 | L39: =Belgium!L$15+Denmark!L$24+Italy!L$25+Poland!L$22+Spain!L$14+Switzerland!L$24+Netherlands!L$12+UK!L$16+'Czech Republic'!L$16+France!L$32 -> 200137 | ... S39: =Belgium!S$15+Denmark!S$24+Italy!S$25+Poland!S$22+Spain!S$14+Switzerland!S$24+Netherlands!S$12+UK!S$16+'Czech Republic'!S$16+France!S$32 -> 163091.28 | T39: =Belgium!T$15+Denmark!T$24+Italy!T$25+Poland!T$22+Spain!T$14+Switzerland!T$24+Netherlands!T$12+UK!T$16+'Czech Republic'!T$16 -> 152065 | U39: =Belgium!U$15+Denmark!U$24+Italy!U$25+Poland!U$22+Spain!U$14+Switzerland!U$24+Netherlands!U$12+UK!U$16+'Czech Republic'!U$16+France!U$32 -> 141775.99 | V39: =Belgium!V$15+Denmark!V$24+Italy!V$25+Poland!V$22+Spain!V$14+Switzerland!V$24+Netherlands!V$12+UK!V$16+'Czech Republic'!V$16 -> 64972.783
A40: Doyenne du comice | B40: =IFERROR(((E40-F40)/F40),"") -> 0.031675717 | C40: -713.59051 | D40: -630.44693 | E40: =Belgium!E$16+Italy!E$26+Poland!E$23+Netherlands!E$13+UK!E$17+France!E$33+Denmark!E$25 -> 189.63935 | F40: =Belgium!F$16+Italy!F$26+Poland!F$23+Netherlands!F$13+UK!F$17+France!F$33+Denmark!F$25 -> 183.81682 | G40: =Belgium!G$16+Italy!G$26+Poland!G$23+Netherlands!G$13+UK!G$17+France!G$33+Denmark!G$25 -> 16 | H40: =Belgium!H$16+Italy!H$26+Poland!H$23+Netherlands!H$13+UK!H$17+France!H$33+Denmark!H$25 -> 10 | I40: =Belgium!I$16+Italy!I$26+Poland!I$23+Netherlands!I$13+UK!I$17+France!I$33+Denmark!I$25 -> 1 | J40: =Belgium!J$16+Italy!J$26+Poland!J$23+Netherlands!J$13+UK!J$17+France!J$33+Denmark!J$25 -> 228 | K40: =Belgium!K$16+Italy!K$26+Poland!K$23+Netherlands!K$13+UK!K$17+France!K$33+Denmark!K$25 -> 38 | L40: =Belgium!L$16+Italy!L$26+Poland!L$23+Netherlands!L$13+UK!L$17+France!L$33+Denmark!L$25 -> 477 | ... Q40: =Belgium!Q$16+Italy!Q$26+Poland!Q$23+Netherlands!Q$13+UK!Q$17+France!Q$33+Denmark!Q$25 -> 541 | R40: =Belgium!R$16+Italy!R$26+Poland!R$23+Netherlands!R$13+UK!R$17+France!R$33 -> 6 | S40: =Belgium!S$16+Italy!S$26+Poland!S$23+Netherlands!S$13+UK!S$17+France!S$33 -> 249 | T40: =Belgium!T$16+Italy!T$26+Poland!T$23+Netherlands!T$13+UK!T$17 -> 0 | U40: =Belgium!U$16+Italy!U$26+Poland!U$23+Netherlands!U$13+UK!U$17+France!U$33 -> 0 | V40: =Belgium!V$16+Italy!V$26+Poland!V$23+Netherlands!V$13+UK!V$17 -> 0
A41: Kaiser | B41: =IFERROR(((E41-F41)/F41),"") -> -0.6713342 | C41: -1839.4386 | D41: -2209.1116 | E41: =Italy!E$27 -> 500 | F41: =Italy!F$27 -> 1521.3022 | G41: =Italy!G$27 -> 0 | H41: =Italy!H$27 -> 563.41083 | I41: =Italy!I$27 -> 0 | J41: =Italy!J$27 -> 0 | K41: =Italy!K$27 -> 0 | L41: =Italy!L$27 -> 0 | ... V41: =Italy!V$27 -> 0
A42: Rocha | B42: =IFERROR(((E42-F42)/F42),"") | C42: 0 | D42: -62063 | E42: =Portugal!E$13 -> 0 | F42: =Portugal!F$13 -> 0 | G42: =Portugal!G$13 -> 0 | H42: =Portugal!H$13 -> 0 | I42: =Portugal!I$13 -> 0 | J42: =Portugal!J$13 -> 0 | K42: =Portugal!K$13 -> 0 | L42: =Portugal!L$13 -> 24870 | ... T42: =Portugal!T$13 -> 7940
A43: Other | B43: =IFERROR(((E43-F43)/F43),"") -> 0.24007927 | C43: -10536.771 | D43: -13588.428 | E43: =Belgium!E$19+Denmark!E$26+Germany!E$25+Italy!E$28+Poland!E$24+Spain!E$15+Spain!E$16+Switzerland!E$23+Switzerland!E$25+Switzerland!E$26+Switzerland!E$27+Netherlands!E$14+UK!E$18+'Czech Republic'!E$17+'Czech Republic'!E$18+'Czech Republic'!E$19+'Czech Republic'!E$20+France!E$31+France!E$35+France!E$36+France!E$37+France!E$30+Belgium!E$18 -> 13564.31 | F43: =Belgium!F$19+Denmark!F$26+Germany!F$25+Italy!F$28+Poland!F$24+Spain!F$15+Spain!F$16+Switzerland!F$23+Switzerland!F$25+Switzerland!F$26+Switzerland!F$27+Netherlands!F$14+UK!F$18+'Czech Republic'!F$17+'Czech Republic'!F$18+'Czech Republic'!F$19+'Czech Republic'!F$20+France!F$31+France!F$35+France!F$36+France!F$37+France!F$30+Belgium!F$18 -> 10938.26 | G43: =Belgium!G$19+Denmark!G$26+Germany!G$25+Italy!G$28+Poland!G$24+Spain!G$15+Spain!G$16+Switzerland!G$23+Switzerland!G$25+Switzerland!G$26+Switzerland!G$27+Netherlands!G$14+UK!G$18+'Czech Republic'!G$17+'Czech Republic'!G$18+'Czech Republic'!G$19+'Czech Republic'!G$20+France!G$31+France!G$35+France!G$36+France!G$37+France!G$30+Belgium!G$18 -> 6663.3 | H43: =Belgium!H$19+Denmark!H$26+Germany!H$25+Italy!H$28+Poland!H$24+Spain!H$15+Spain!H$16+Switzerland!H$23+Switzerland!H$25+Switzerland!H$26+Switzerland!H$27+Netherlands!H$14+UK!H$18+'Czech Republic'!H$17+'Czech Republic'!H$18+'Czech Republic'!H$19+'Czech Republic'!H$20+France!H$31+France!H$35+France!H$36+France!H$37+France!H$30+Belgium!H$18 -> 6654.477 | I43: =Belgium!I$19+Denmark!I$26+Germany!I$25+Italy!I$28+Poland!I$24+Spain!I$15+Spain!I$16+Switzerland!I$23+Switzerland!I$25+Switzerland!I$26+Switzerland!I$27+Netherlands!I$14+UK!I$18+'Czech Republic'!I$17+'Czech Republic'!I$18+'Czech Republic'!I$19+'Czech Republic'!I$20+France!I$31+France!I$35+France!I$36+France!I$37+France!I$30+Belgium!I$18 -> 5110.1531 | J43: =Belgium!J$19+Denmark!J$26+Germany!J$25+Italy!J$28+Poland!J$24+Spain!J$15+Spain!J$16+Switzerland!J$23+Switzerland!J$25+Switzerland!J$26+Switzerland!J$27+Netherlands!J$14+UK!J$18+'Czech Republic'!J$17+'Czech Republic'!J$18+'Czech Republic'!J$19+'Czech Republic'!J$20+France!J$31+France!J$35+France!J$36+France!J$37+France!J$30 -> 6687.0474 | K43: =Belgium!K$19+Denmark!K$26+Germany!K$25+Italy!K$28+Poland!K$24+Spain!K$15+Spain!K$16+Switzerland!K$23+Switzerland!K$25+Switzerland!K$26+Switzerland!K$27+Netherlands!K$14+UK!K$18+'Czech Republic'!K$17+'Czech Republic'!K$18+'Czech Republic'!K$19+'Czech Republic'!K$20+France!K$31+France!K$35+France!K$36+France!K$37+France!K$30 -> 6411.9108 | L43: =Belgium!L$19+Denmark!L$26+Germany!L$25+Italy!L$28+Poland!L$24+Spain!L$15+Spain!L$16+Switzerland!L$23+Switzerland!L$25+Switzerland!L$27+Switzerland!L$26+Netherlands!L$14+UK!L$18+'Czech Republic'!L$17+'Czech Republic'!L$18+'Czech Republic'!L$19+'Czech Republic'!L$20+France!L$31+France!L$35+France!L$36+France!L$37+France!L$30 -> 8972 | M43: =Belgium!M$19+Denmark!M$26+Germany!M$25+Italy!M$28+Poland!M$24+Spain!M$15+Spain!M$16+Switzerland!M$23+Switzerland!M$25+Switzerland!M$27+Switzerland!M$26+Netherlands!M$14+UK!M$18+'Czech Republic'!M$17+'Czech Republic'!M$18+'Czech Republic'!M$19+'Czech Republic'!M$20+France!M$31+France!M$35+France!M$36+France!M$37+France!M$30 -> 3330 | N43: =Belgium!N$19+Denmark!N$26+Germany!N$25+Italy!N$28+Poland!N$24+Spain!N$15+Spain!N$16+Switzerland!N$23+Switzerland!N$25+Switzerland!N$27+Switzerland!N$26+Netherlands!N$14+UK!N$18+'Czech Republic'!N$17+'Czech Republic'!N$18+'Czech Republic'!N$19+'Czech Republic'!N$20+France!N$31+France!N$35+France!N$36+France!N$37+France!N$30 -> 3672.6949 | O43: =Belgium!O$19+Denmark!O$26+Germany!O$25+Italy!O$28+Poland!O$24+Spain!O$15+Spain!O$16+Switzerland!O$23+Switzerland!O$25+Switzerland!O$27+Netherlands!O$14+UK!O$18+'Czech Republic'!O$17+'Czech Republic'!O$18+'Czech Republic'!O$19+'Czech Republic'!O$20+France!O$31+France!O$35+France!O$36+France!O$37+France!O$30 -> 2872.8044 | P43: =Belgium!P$19+Denmark!P$26+Germany!P$25+Italy!P$28+Poland!P$24+Spain!P$15+Spain!P$16+Switzerland!P$23+Switzerland!P$25+Switzerland!P$27+Netherlands!P$14+UK!P$18+'Czech Republic'!P$17+'Czech Republic'!P$18+'Czech Republic'!P$19+'Czech Republic'!P$20+France!P$31+France!P$35+France!P$36+France!P$37+France!P$30 -> 5634.007 | Q43: =Belgium!Q$19+Denmark!Q$26+Germany!Q$25+Italy!Q$28+Poland!Q$24+Spain!Q$15+Spain!Q$16+Switzerland!Q$23+Switzerland!Q$25+Switzerland!Q$27+Netherlands!Q$14+UK!Q$18+'Czech Republic'!Q$17+'Czech Republic'!Q$18+'Czech Republic'!Q$19+'Czech Republic'!Q$20+France!Q$31+France!Q$35+France!Q$36+France!Q$37+France!Q$30 -> 8067.031 | R43: =Belgium!R$19+Denmark!R$26+Germany!R$25+Italy!R$28+Poland!R$24+Spain!R$15+Spain!R$16+Switzerland!R$23+Switzerland!R$25+Switzerland!R$27+Netherlands!R$14+UK!R$18+'Czech Republic'!R$17+'Czech Republic'!R$20+France!R$30+France!R$31+France!R$34+France!R$35+France!R$36+France!R$37 -> 337.12831 | S43: =Belgium!S$19+Denmark!S$26+Germany!S$25+Italy!S$28+Poland!S$24+Spain!S$15+Spain!S$16+Switzerland!S$23+Switzerland!S$25+Switzerland!S$27+Netherlands!S$14+UK!S$18+'Czech Republic'!S$17+'Czech Republic'!S$20+France!S$30+France!S$31+France!S$34+France!S$35+France!S$36+France!S$37 -> 6517.8214 | T43: =Belgium!T$19+Denmark!T$26+Germany!T$25+Italy!T$28+Poland!T$24+Spain!T$15+Spain!T$16+Switzerland!T$23+Switzerland!T$25+Switzerland!T$27+Netherlands!T$14+UK!T$18+'Czech Republic'!T$17+'Czech Republic'!T$20 -> 857 | U43: =Belgium!U$19+Denmark!U$26+Germany!U$25+Italy!U$28+Poland!U$24+Spain!U$15+Spain!U$16+Switzerland!U$23+Switzerland!U$25+Switzerland!U$27+Netherlands!U$14+UK!U$18+'Czech Republic'!U$17+'Czech Republic'!U$20+France!U$30+France!U$31+France!U$34+France!U$35+France!U$36+France!U$37 -> 2617.4967 | V43: =Belgium!V$19+Denmark!V$26+Germany!V$25+Italy!V$28+Poland!V$24+Spain!V$15+Spain!V$16+Switzerland!V$23+Switzerland!V$25+Switzerland!V$27+Netherlands!V$14+UK!V$18+'Czech Republic'!V$17+'Czech Republic'!V$20 -> 904.98003
A44: Total | B44: =IFERROR(((E44-F44)/F44),"") -> 0.30246466 | C44: -107732.15 | D44: -136099.77 | E44: =SUM(E36:E43) -> 212240.76 | F44: =SUM(F36:F43) -> 162953.18 | G44: =SUM(G36:G43) -> 180686.68 | H44: =SUM(H36:H43) -> 161075.96 | I44: =SUM(I36:I43) -> 202801.08 | J44: =SUM(J36:J43) -> 230429.81 | K44: =SUM(K36:K43) -> 182671.83 | L44: =SUM(L36:L43) -> 236721 | ... V44: =SUM(V36:V43) -> 68817.771
B45: * Portugal: Rocha stocks are compared per two months, in this case to stocks of 1 January

Sheet Austria
A1: Variety (Ton) | B1: %YOY | C1: Moved 2026 | D1: Moved 2025 | E1: 46113 | F1: 45748 | G1: 45383 | H1: 45017 | I1: 44652 | J1: 44287 | K1: 43922 | L1: 43556 | M1: 43191 | N1: 42826 | O1: 42461 | P1: 42095 | Q1: 41730 | R1: 41365 | S1: 41000 | T1: 40634 | U1: 40269 | V1: 39904 | W1: 39539 | X1: 39173
A2: Arlet | B2: =IFERROR(((E2-F2)/F2),"") -> 2.5121951 | C2: -97.657253 | D2: -3.1688596 | E2: 3.6585366 | F2: 1.0416667 | G2: 120.83333 | H2: 562.08333 | I2: 231.25 | J2: 206 | K2: 380 | L2: 496.68 | M2: 23 | O2: 639 | P2: 934.8 | Q2: 1180 | R2: 867.18 | S2: 1530 | T2: 1450 | U2: 1666 | V2: 2979 | W2: 2094 | X2: 1828
A3: Boskoop | B3: =IFERROR(((E3-F3)/F3),"") | C3: -130.71245 | D3: 0 | E3: 189.02439 | F3: 0 | G3: 0 | H3: 45 | I3: 0 | J3: 0 | K3: 0 | L3: 0 | M3: 0 | O3: 0 | P3: 0 | Q3: 0 | R3: 0 | S3: 3 | T3: 0 | U3: 0 | V3: 4 | W3: 0 | X3: 0
A4: Braeburn | B4: =IFERROR(((E4-F4)/F4),"") -> 0.8668461 | C4: -754.01369 | D4: -600.00401 | E4: 4863.6179 | F4: 2605.2591 | G4: 3552.0071 | H4: 6591.0417 | I4: 4350.625 | J4: 2904.15 | K4: 3913 | L4: 8500.88 | M4: 1433 | N4: 418.02 | O4: 5184.04 | P4: 3885.78 | Q4: 6324.02 | R4: 2360 | S4: 4308 | T4: 1818 | U4: 6496 | V4: 3498 | W4: 1506 | X4: 1023
A5: Elstar | B5: =IFERROR(((E5-F5)/F5),"") -> 726 | C5: -701.82927 | D5: -122.56098 | E5: 1773.1707 | F5: 2.4390244 | G5: 841.46341 | H5: 2242.5 | I5: 657.5 | J5: 400.4 | K5: 135 | L5: 2462.4 | M5: 0 | O5: 676.26 | P5: 859.86 | Q5: 883.3 | R5: 236.64 | S5: 1443 | T5: 1252 | U5: 1234 | V5: 827 | W5: 1400 | X5: 2159
A6: Evelina | B6: =IFERROR(((E6-F6)/F6),"") -> 0.45144961 | C6: -1465.5006 | D6: -1672.3684 | E6: 3846.3415 | F6: 2650 | G6: 3079.2683 | H6: 4857.5 | I6: 2376.25 | J6: 7453.3 | K6: 3419 | L6: 6673.86 | M6: 2416 | N6: 1389.24 | O6: 4456.38 | P6: 3906.6 | Q6: 2486.76 | R6: 1482.06 | S6: 1441
A7: Fuji | B7: =IFERROR(((E7-F7)/F7),"") -> 0.40902256 | C7: -338.31836 | D7: -255.68036 | E7: 2285.3659 | F7: 1621.9512 | G7: 1409.7561 | H7: 1690 | I7: 1803.75 | J7: 430.3 | K7: 1382 | L7: 2395.36 | M7: 666 | N7: 44.88 | O7: 1757.46 | P7: 1504.28 | Q7: 1584.06 | R7: 778.02 | S7: 1987 | T7: 205 | U7: 1461 | V7: 931 | W7: 1210 | X7: 337
A8: Gala | B8: =IFERROR(((E8-F8)/F8),"") -> 3.1701194 | C8: -4970.7782 | D8: -2735.2792 | E8: 19270.274 | F8: 4621.0366 | G8: 13751.905 | H8: 15988.542 | I8: 13556.25 | J8: 11275.9 | K8: 6988 | L8: 12591.1 | M8: =4098+480 -> 4578 | N8: 157.82 | O8: 10852.96 | P8: 8816.02 | Q8: 11994.02 | R8: 4280.66 | S8: 8823 | T8: 12415 | U8: 7839 | V8: 10653 | W8: 3148 | X8: 3148
A9: Gloster | B9: =IFERROR(((E9-F9)/F9),"") | C9: 0 | D9: 0 | R9: 0 | S9: 0 | T9: 0 | U9: 169 | V9: 10 | W9: 0 | X9: 57
A10: Golden Delicious | B10: =IFERROR(((E10-F10)/F10),"") -> 0.57050417 | C10: -2726.7694 | D10: -1822.1593 | E10: 12122.967 | F10: 7719.1565 | G10: 16533.283 | H10: 15136.667 | I10: 19288.125 | J10: 24036.55 | K10: 15128 | L10: 17841.5 | M10: =13557+354 -> 13911 | N10: 11151.02 | O10: 27979.12 | P10: 36393.88 | Q10: 22835.42 | R10: 28179.2 | S10: 37219 | T10: 30242 | U10: 31009 | V10: 34408 | W10: 29897 | X10: 25215
A11: Granny Smith | B11: =IFERROR(((E11-F11)/F11),"") -> 5.0361446 | C11: -158.76123 | D11: -17.20154 | E11: 610.97561 | F11: 101.21951 | G11: 332.92683 | H11: 428.54167 | I11: 202.5 | J11: 106.6 | K11: 23 | L11: 15.24 | M11: 9 | O11: 16.32 | P11: 264.18 | Q11: 16.32 | R11: 8.16 | S11: 16 | T11: 35 | U11: 10 | V11: 0 | W11: 0 | X11: 0
A12: Idared | B12: =IFERROR(((E12-F12)/F12),"") -> 2.6659439 | C12: -296.73379 | D12: -133.23973 | E12: 1933.003 | F12: 527.28659 | G12: 1837.4746 | H12: 4238.125 | I12: 3389.1667 | J12: 4540.45 | K12: 4550 | L12: 8920.58 | M12: =1929+151 -> 2080 | N12: 155.66 | O12: 13207.92 | P12: 8894.98 | Q12: 16406.8 | R12: 10383.26 | S12: 15814 | T12: 16080 | U12: 16891 | V12: 15028 | W12: 12705 | X12: 15116
A13: Jonagold | B13: =IFERROR(((E13-F13)/F13),"") -> 1.5870995 | C13: -215.4862 | D13: -283.89388 | E13: 3397.4085 | F13: 1313.2114 | G13: 980.61484 | H13: 3168.5417 | I13: 2702.7083 | J13: 1613.85 | K13: 3125 | L13: 6280.88 | M13: =1097+147 -> 1244 | N13: 269.98 | O13: 5689.24 | P13: 6023.06 | Q13: 5921.68 | R13: 4500.24 | S13: 6774 | T13: 6828 | U13: 7705 | V13: 5666 | W13: 5694 | X13: 6544
A14: Jonagored | B14: =IFERROR(((E14-F14)/F14),"") | C14: 0 | D14: 0 | E14: 0 | F14: 0 | G14: 0 | H14: 0 | I14: 0 | J14: 0 | K14: 8 | M14: 0 | O14: 2238.9 | P14: 1465.74 | Q14: 2714.22 | R14: 2023.68 | S14: 3527 | T14: 3849 | U14: 4252 | V14: 3390 | W14: 4186 | X14: 3654
A15: Kronprinz Rudolf | B15: =IFERROR(((E15-F15)/F15),"") -> 2.9894792 | C15: -521.37356 | D15: -114.96684 | E15: 770.73171 | F15: 193.19106 | G15: 28.04878 | H15: 2.5 | I15: 2.5 | J15: 8.4 | K15: 0 | M15: 0 | O15: 0 | P15: 0 | Q15: 0 | R15: 0 | S15: 15 | T15: 0 | U15: 0 | V15: 0 | W15: 7 | X15: 10
A16: Pinova | B16: =IFERROR(((E16-F16)/F16),"") -> 0.57105455 | C16: -1014.3739 | D16: -843.78691 | E16: 2850.8892 | F16: 1814.6341 | G16: 2338.8974 | H16: 4408.3333 | I16: 2478.9583 | J16: 513.65 | K16: 551 | L16: 829.14 | M16: 405 | N16: 60.18 | O16: 949.06 | P16: 626.14 | Q16: 1220.06 | R16: 862.92 | S16: 1218 | T16: 1388 | U16: 1279 | V16: 1522 | W16: 636 | X16: 737
A17: Red Jonaprince | B17: =IFERROR(((E17-F17)/F17),"") -> 4.0365763 | C17: -542.06943 | D17: -128.99497 | E17: 3806.3516 | F17: 755.74187 | G17: 1670.376 | H17: 3498.3333 | I17: 1629.375 | J17: 1596 | K17: 1697 | L17: 1549.38 | M17: 322
A18: Rubinett | B18: =IFERROR(((E18-F18)/F18),"") | C18: 0 | D18: 0 | J18: 0 | K18: 0 | L18: 2.04 | M18: 0 | O18: 0 | P18: 0 | Q18: 0 | R18: 0 | S18: 0 | T18: 2 | U18: 98 | V18: 10 | W18: 49 | X18: 15
A19: Topaz | B19: =IFERROR(((E19-F19)/F19),"") -> 2.1429746 | C19: -464.99599 | D19: -266.21684 | E19: 1844.7409 | F19: 586.94106 | G19: 494.89329 | H19: 1835.625 | I19: 802.29167 | J19: 86.35 | K19: 519 | L19: 3319.52 | M19: 0 | O19: 2391.8 | P19: 2222.9 | Q19: 1999.94 | R19: 764.26 | S19: 2443 | T19: 1669 | U19: 2258 | V19: 7 | W19: 0 | X19: 0
A20: Others | B20: =IFERROR(((E20-F20)/F20),"") -> 4.0482561 | C20: -1273.022 | D20: -1652.4885 | E20: 6078.5569 | F20: 1204.0904 | G20: 4000.7876 | H20: 4034.375 | I20: 2306.6667 | J20: 2563.35 | K20: 1250 | L20: 1305.28 | M20: =56+35 -> 91 | N20: 205 | O20: 277.16 | P20: 380 | Q20: 1465.4 | R20: 203.04 | S20: 271 | T20: 1293 | U20: 265 | V20: 32 | W20: 100 | X20: 184
A21: TOTAL | B21: =IFERROR(((E21-F21)/F21),"") -> 1.5526526 | C21: -15672.395 | D21: -10652.01 | E21: =SUM(E2:E20) -> 65647.078 | F21: =SUM(F2:F20) -> 25717.2 | G21: =SUM(G2:G20) -> 50972.536 | H21: =SUM(H2:H20) -> 68727.708 | I21: =SUM(I2:I20) -> 55777.917 | J21: =SUM(J2:J20) -> 57735.25 | K21: =SUM(K2:K20) -> 43068 | L21: =SUM(L2:L20) -> 73183.84 | ... X21: =SUM(X2:X20) -> 60027

Sheet Belgium
A1: Variety (Ton) | B1: %YOY | C1: Moved 2026 | D1: Moved 2025 | E1: 46113 | F1: 45748 | G1: 45383 | H1: 45017 | I1: 44652 | J1: 44287 | K1: 43922 | L1: 43556 | M1: 43191 | N1: 42826 | O1: 42461 | P1: 42095 | Q1: 41730 | R1: 41365 | S1: 41000 | T1: 40634 | U1: 40269 | V1: 39904 | W1: 39539 | X1: 39173
A2: Boskoop | B2: =IFERROR(((E2-F2)/F2),"") | C2: -354.59061 | D2: -2.5831689 | E2: 733.08264 | F2: 0 | G2: 213.25688 | H2: 1020.1302 | I2: 689.34583 | J2: 1315 | K2: 0 | L2: 1705 | M2: 0 | N2: 0 | O2: 1251 | P2: 975 | Q2: 399 | R2: 0 | S2: 0 | T2: 0 | U2: 0 | V2: 500 | W2: 4800 | X2: 1500
A3: Cox** | B3: =IFERROR(((E3-F3)/F3),"") | C3: 0 | D3: 0 | H3: 0 | K3: 0 | L3: 0 | M3: 0 | N3: 0 | O3: 0 | P3: 0 | Q3: 0 | R3: 0 | S3: 0 | T3: 0 | U3: 0 | V3: 0 | W3: 700 | X3: 50
A4: Elstar | B4: =IFERROR(((E4-F4)/F4),"") | C4: -441.14909 | D4: -105.7329 | E4: 73.878032 | F4: 0 | G4: 0 | H4: 68.445402 | I4: 229.93453 | J4: 0 | K4: 57 | L4: 937 | M4: 4 | N4: 2 | O4: 422 | P4: 1147 | Q4: 238 | R4: 0 | S4: 50 | T4: 0 | U4: 0 | V4: 0 | W4: 1500 | X4: 0
A5: Gloster* | B5: =IFERROR(((E5-F5)/F5),"") | C5: 0 | D5: 0 | H5: 0 | X5: 400
A6: Golden Delicious | B6: =IFERROR(((E6-F6)/F6),"") -> -0.34555163 | C6: -1458.3574 | D6: -1203.4721 | E6: 3177.817 | F6: 4855.7184 | G6: 7010.1807 | H6: 1200.3663 | I6: 1440.4812 | J6: 3429 | K6: 12461 | L6: 6474 | M6: 4463 | N6: 8496 | O6: 12271 | P6: 10650 | Q6: 9862 | R6: 7133 | S6: 7700 | T6: 3557.8108 | U6: 13464 | V6: 7900 | W6: 11800 | X6: 11500
A7: Jonagold | B7: =IFERROR(((E7-F7)/F7),"") -> 0.61645569 | C7: -3889.1908 | D7: -5826.4997 | E7: 23436.965 | F7: 14498.984 | G7: 25302.218 | H7: 20954.752 | I7: 54030.095 | J7: 22517 | K7: 34071 | L7: 29222 | M7: 1389 | N7: 21885 | O7: 44000 | P7: 55663 | Q7: 28091 | R7: 20800 | S7: 27760 | T7: 36832.986 | U7: 54892 | V7: 89400 | W7: 65600 | X7: 72600
A8: Jonagored | B8: =IFERROR(((E8-F8)/F8),"") -> 0.67314075 | C8: -1895.4623 | D8: -895.50032 | E8: 8887.1459 | F8: 5311.6547 | G8: 6502.1246 | H8: 7835.4496 | I8: 17444.624 | J8: 7785 | K8: 24764 | L8: 24720 | M8: 430 | N8: 14892 | O8: 18325 | P8: 30347 | Q8: 10717 | R8: 13880 | S8: 16100 | T8: 9727.726 | U8: 18320 | V8: 22100 | W8: 26500 | X8: 24650
A9: Others | B9: =IFERROR(((E9-F9)/F9),"") -> 0.60923677 | C9: -6234.3794 | D9: -1534.1543 | E9: 10766.249 | F9: 6690.2828 | G9: 7138 | H9: 11728 | I9: 11442 | J9: 16195 | K9: 4855 | L9: 10210 | M9: 1971 | N9: 338 | O9: 12109 | P9: 4056 | Q9: 5724 | R9: 4143 | S9: 4800 | T9: 9188.7323 | U9: 6055 | V9: 16800 | W9: 17200 | X9: 1900
A10: TOTAL | B10: =IFERROR(((E10-F10)/F10),"") -> 0.50128133 | C10: -14273.129 | D10: -9567.9425 | E10: =SUM(E2:E9) -> 47075.138 | F10: =SUM(F2:F9) -> 31356.64 | G10: =SUM(G2:G9) -> 46165.781 | H10: =SUM(H2:H9) -> 42807.143 | I10: =SUM(I2:I9) -> 85276.48 | J10: =SUM(J2:J9) -> 51241 | K10: =SUM(K2:K9) -> 76208 | L10: =SUM(L2:L9) -> 73268 | ... X10: =SUM(X2:X9) -> 112600
A11: * From 2007 Gloster is included in others
A12: ** From 12/2014 Cox's is included in others
A14: Pear Stocks (Ton) | B14: %YOY | C14: Moved 2026 | D14: Moved 2025 | E14: 46113 | F14: 45748 | G14: 45383 | H14: 45017 | I14: 44652 | J14: 44287 | K14: 43922 | L14: 43556 | M14: 43191 | N14: 42826 | O14: 42461 | P14: 42095 | Q14: 41730 | R14: 41365 | S14: 41000 | T14: 40634 | U14: 40269 | V14: 39904 | W14: 39539 | X14: 39173
A15: Conference | B15: =IFERROR(((E15-F15)/F15),"") -> 0.70901594 | C15: -37916.358 | D15: -30610.799 | E15: 52160.084 | F15: 30520.537 | G15: 36578.381 | H15: 29223.7 | I15: 78220.542 | J15: 90907 | K15: 57992 | L15: 70000 | M15: 40230 | N15: 57000 | O15: 86049 | P15: 65231 | Q15: 37805 | R15: 29495 | S15: 34000 | T15: 50300 | U15: 44300 | V15: 8500 | W15: 62800 | X15: 66900
A16: Doyenne | B16: =IFERROR(((E16-F16)/F16),"") | C16: -50.472574 | D16: 0 | E16: 129 | F16: 0 | H16: 0 | I16: 0 | J16: 75 | K16: 0 | L16: 247 | M16: 0 | N16: 25 | O16: 282 | P16: 641 | Q16: 330 | R16: 0 | S16: 110 | T16: 0 | U16: 0 | V16: 0 | W16: 0 | X16: 600
A17: Durondeau | B17: =IFERROR(((E17-F17)/F17),"") | C17: 0 | D17: 0 | F17: 0 | H17: 0 | I17: 0 | J17: 0 | K17: 0 | L17: 0 | M17: 0 | N17: 0 | O17: 0
A18: Beurre Alexander Lucas** | B18: =IFERROR(((E18-F18)/F18),"") -> -0.31036482 | C18: -30 | D18: -4.3670264 | E18: 102 | F18: 147.90429 | H18: 0 | I18: 543
A19: Other | B19: =IFERROR(((E19-F19)/F19),"") -> 6.186774 | C19: -101 | D19: -126.51347 | E19: 77 | F19: 10.714126 | G19: 45 | H19: 1591 | I19: 0 | J19: 446 | K19: 208 | L19: 850 | M19: 64 | N19: 0 | O19: 0 | P19: 840 | Q19: 0 | R19: 0 | S19: 120 | T19: 0 | U19: 0 | V19: 0 | W19: 0 | X19: 500
A20: TOTAL | B20: =IFERROR(((E20-F20)/F20),"") -> 0.71021932 | C20: -38097.831 | D20: -30741.679 | E20: =SUM(E15:E19) -> 52468.084 | F20: =SUM(F15:F19) -> 30679.155 | G20: =SUM(G15:G19) -> 36623.381 | H20: =SUM(H15:H19) -> 30814.7 | I20: =SUM(I15:I19) -> 78763.542 | J20: =SUM(J15:J19) -> 91428 | K20: =SUM(K15:K19) -> 58200 | L20: =SUM(L15:L19) -> 71097 | ... S20: =SUM(S15:S19) -> 34230 | T20: 50300 | U20: =SUM(U15:U19) -> 44300 | V20: =SUM(V15:V19) -> 8500 | W20: =SUM(W15:W19) -> 62800 | X20: =SUM(X15:X19) -> 68000

Sheet Czech Republic
A1: Variety (Ton) | B1: %YOY | C1: Moved 2026 | D1: Moved 2025 | E1: 46113 | F1: 45748 | G1: 45383 | H1: 45017 | I1: 44652 | J1: 44287 | K1: 43922 | L1: 43556 | M1: 43191 | N1: 42826 | O1: 42461 | P1: 42095 | Q1: 41730 | R1: 41365 | S1: 41000 | T1: 40634 | U1: 40269 | V1: 39904 | W1: 39539 | X1: 39173
A2: Braeburn | B2: =IFERROR(((E2-F2)/F2),"") -> 9.1363636 | C2: -1120 | D2: -354 | E2: 2007 | F2: 198 | G2: 1831 | H2: 3896 | I2: 3147 | J2: 2087 | K2: 1359 | L2: 2117 | M2: 307 | N2: 654
A3: Gala | B3: =IFERROR(((E3-F3)/F3),"") -> 2.759388 | C3: -576 | D3: -457 | E3: 2703 | F3: 719 | G3: 1949 | H3: 2054 | I3: 2002 | J3: 1196 | K3: 710 | L3: 1131 | M3: 1127 | N3: 597 | O3: 1908 | P3: 483 | Q3: 431 | R3: 35 | S3: 47 | T3: 20 | U3: 7 | V3: 16 | W3: 49 | X3: 41
A4: Gloster | B4: =IFERROR(((E4-F4)/F4),"") -> 85 | C4: -17 | D4: -17 | E4: 86 | F4: 1 | G4: 1 | H4: 81 | I4: 94 | J4: 95 | K4: 106 | L4: 767 | M4: 296 | N4: 93 | O4: 399 | P4: 343 | Q4: 44 | R4: 312 | S4: 166 | T4: 119 | U4: 371 | V4: 659 | W4: 311 | X4: 495
A5: Golden Delicious | B5: =IFERROR(((E5-F5)/F5),"") -> 0.34589197 | C5: -1574 | D5: -812 | E5: 2965 | F5: 2203 | G5: 5960 | H5: 5585 | I5: 4774 | J5: 7836 | K5: 6626 | L5: 8515 | M5: 6095 | N5: 4897 | O5: 6623 | P5: 5750 | Q5: 5170 | R5: 2620 | S5: 3130 | T5: 2053 | U5: 3833 | V5: 3601 | W5: 587 | X5: 1619
A6: Idared | B6: =IFERROR(((E6-F6)/F6),"") -> 2.2920792 | C6: -104 | D6: -179 | E6: 1330 | F6: 404 | G6: 1005 | H6: 2190 | I6: 3880 | J6: 2792 | K6: 1299 | L6: 6246 | M6: 2819 | N6: 1882 | O6: 5614 | P6: 3418 | Q6: 4902 | R6: 5295 | S6: 1549 | T6: 3423 | U6: 9399 | V6: 9943 | W6: 3697 | X6: 9035
A7: Jonagold | B7: =IFERROR(((E7-F7)/F7),"") -> 33.663366 | C7: -1405 | D7: -117 | E7: 3501 | F7: 101 | G7: 1536 | H7: 3094 | I7: 4023 | J7: 1771 | K7: 909 | L7: 3788 | M7: 786 | N7: 1457 | O7: 2265 | P7: 979 | Q7: 2036 | R7: 812 | S7: 531 | T7: 447 | U7: 806 | V7: 1292 | W7: 602 | X7: 1209
A8: Red Delicious | B8: =IFERROR(((E8-F8)/F8),"") -> 0.71372549 | C8: -280 | D8: -420 | E8: 874 | F8: 510 | G8: 559 | H8: 1410 | I8: 992 | J8: 633 | K8: 686 | L8: 1249 | M8: 506 | N8: 48 | O8: 413 | P8: 10 | Q8: 66 | R8: 77 | S8: 22 | T8: 37 | U8: 23 | V8: 7 | W8: 94 | X8: 0
A9: Shampion | B9: =IFERROR(((E9-F9)/F9),"") -> 6.1875 | C9: -117 | D9: -18 | E9: 115 | F9: 16 | G9: 123 | H9: 106 | I9: 556 | J9: 589 | K9: 135 | L9: 668 | M9: 127 | N9: 368 | O9: 867 | P9: 568 | Q9: 81 | R9: 153 | S9: 166 | T9: 242 | U9: 81 | V9: 139 | W9: 36 | X9: 360
A10: Spartan | B10: =IFERROR(((E10-F10)/F10),"") | C10: 0 | D10: 0 | E10: 0 | F10: 0 | G10: 0 | H10: 0 | I10: 0 | J10: 0 | K10: 0 | L10: 12 | M10: 0 | N10: 0 | O10: 25 | P10: 2 | Q10: 0 | R10: 8 | S10: 0 | T10: 0 | U10: 0 | V10: 0 | W10: 0 | X10: 0
A11: Others | B11: =IFERROR(((E11-F11)/F11),"") -> 3.0184971 | C11: -1125 | D11: -344 | E11: 3476 | F11: 865 | G11: 2715 | H11: 2675 | I11: 2315 | J11: 1077 | K11: 977 | L11: 2247 | M11: 889 | N11: 522 | O11: 1893 | P11: 615 | Q11: 1045 | R11: 507 | S11: 366 | T11: 229 | U11: 475 | V11: 408 | W11: 426 | X11: 1024
A12: TOTAL | B12: =IFERROR(((E12-F12)/F12),"") -> 2.3998405 | C12: -6318 | D12: -2718 | E12: =SUM(E2:E11) -> 17057 | F12: =SUM(F2:F11) -> 5017 | G12: =SUM(G2:G11) -> 15679 | H12: =SUM(H2:H11) -> 21091 | I12: =SUM(I2:I11) -> 21783 | J12: =SUM(J2:J11) -> 18076 | K12: =SUM(K2:K11) -> 12807 | L12: 26740 | M12: 12952 | N12: =SUM(N2:N11) -> 10518 | O12: =SUM(O3:O11) -> 20007 | P12: =SUM(P3:P11) -> 12168 | Q12: =SUM(Q3:Q11) -> 13775 | R12: =SUM(R3:R11) -> 9819 | S12: =SUM(S3:S11) -> 5977 | T12: =SUM(T3:T11) -> 6570 | U12: =SUM(U3:U11) -> 14995 | V12: =SUM(V3:V11) -> 16065 | ... X12: =SUM(X3:X11) -> 13783
A15: Pear Stocks (Ton) | B15: %YOY | C15: Moved 2026 | D15: Moved 2025 | E15: 46113 | F15: 45748 | G15: 45383 | H15: 45017 | I15: 44652 | J15: 44287 | K15: 43922 | L15: 43556 | M15: 43191 | N15: 42826 | O15: 42461 | P15: 42095 | Q15: 41730 | R15: 41365 | S15: 41000 | T15: 40634 | U15: 40269 | V15: 39904 | W15: 39539 | X15: 39173
A16: Conference | B16: =IFERROR(((E16-F16)/F16),"") -> -0.105 | C16: -348 | D16: -196 | E16: 358 | F16: 400 | G16: 545 | H16: 55 | I16: 62 | J16: 715 | K16: 715 | L16: 1085 | M16: 845 | N16: 515 | O16: 635 | P16: 0 | Q16: 905 | R16: 0 | S16: 16 | T16: 1 | U16: 0 | V16: 0 | W16: 0 | X16: 0
A17: Bosc | B17: =IFERROR(((E17-F17)/F17),"") | C17: 0 | D17: 0 | E17: 0 | F17: 0 | G17: 0 | H17: 0 | I17: 0 | J17: 0 | K17: 0 | L17: 0 | M17: 0 | N17: 0 | O17: 0 | P17: 0 | Q17: 0 | R17: 0 | S17: 0 | T17: 0 | U17: 0 | V17: 0 | W17: 0 | X17: 0
A18: Bohemica | B18: =IFERROR(((E18-F18)/F18),"") -> 6 | C18: -10 | D18: -3 | E18: 7 | F18: 1 | G18: 29 | H18: 10 | I18: 22 | J18: 131 | K18: 2 | L18: 19 | M18: 0 | N18: 3 | O18: 53 | P18: 3 | Q18: 11 | R18: 0
A19: Lucasova | B19: =IFERROR(((E19-F19)/F19),"") | C19: -4 | D19: 0 | E19: 0 | F19: 0 | G19: 0 | H19: 0 | I19: 0 | J19: 50 | K19: 0 | L19: 20 | M19: 0 | N19: 0 | O19: 0 | P19: 0 | Q19: 0 | R19: 0
A20: Other | B20: =IFERROR(((E20-F20)/F20),"") | C20: -10 | D20: -4 | E20: 0 | F20: 0 | G20: 3 | H20: 0 | I20: 4 | J20: 15 | K20: 5 | L20: 9 | M20: 0 | N20: 0 | O20: 18 | P20: 0 | Q20: 1 | R20: 0 | S20: 0 | T20: 17 | U20: 0 | V20: 0 | W20: 0 | X20: 0
A21: Total | B21: =IFERROR(((E21-F21)/F21),"") -> -0.089775561 | C21: -372 | D21: -203 | E21: =SUM(E16:E20) -> 365 | F21: =SUM(F16:F20) -> 401 | G21: =SUM(G16:G20) -> 577 | H21: =SUM(H16:H20) -> 65 | I21: =SUM(I16:I20) -> 88 | J21: =SUM(J16:J20) -> 911 | K21: =SUM(K16:K20) -> 722 | L21: 1133 | M21: =SUM(M16:M20) -> 845 | N21: =SUM(N16:N20) -> 518 | O21: =SUM(O16:O20) -> 706 | P21: =SUM(P16:P20) -> 3 | Q21: =SUM(Q16:Q20) -> 917 | R21: =SUM(R16:R20) -> 0 | S21: =SUM(S16:S20) -> 16 | T21: =SUM(T16:T20) -> 18 | ... X21: =SUM(X16:X20) -> 0

Sheet Denmark
A1: Variety (Ton) | B1: %YOY | C1: Moved 2026 | D1: Moved 2025 | E1: 46113 | F1: 45748 | G1: 45383 | H1: 45017 | I1: 44652 | J1: 44287 | K1: 43922 | L1: 43556 | M1: 43191 | N1: 42826 | O1: 42461 | P1: 42095 | Q1: 41730 | R1: 41365 | S1: 41000 | T1: 40634 | U1: 40269 | V1: 39904 | W1: 39539 | X1: 39173
A2: Boskoop | B2: =IFERROR(((E2-F2)/F2),"") | C2: 0 | D2: 0 | U2: 0 | V2: 0
A3: Bellida | B3: =IFERROR(((E3-F3)/F3),"") | C3: -59 | D3: -85 | K3: 148 | L3: 0 | N3: 7 | O3: 195 | P3: 0 | Q3: 3 | R3: 3 | S3: 3 | T3: 15 | U3: 52 | V3: 2
A4: Cox Orange | B4: =IFERROR(((E4-F4)/F4),"") | C4: 0 | D4: 0 | U4: 0 | V4: 0
A5: Elstar | B5: =IFERROR(((E5-F5)/F5),"") -> -0.97497982 | C5: -469 | D5: -467 | E5: 31 | F5: 1239 | H5: 493 | I5: 1049 | J5: 202 | K5: 50 | L5: 907 | M5: 379 | N5: 647 | O5: 716 | P5: 185 | Q5: 35 | R5: 3 | S5: 35 | U5: 279 | V5: 307
A6: Fuji | B6: =IFERROR(((E6-F6)/F6),"") | C6: 0 | D6: -8 | L6: 8 | N6: 3 | U6: 0 | V6: 0
A7: Gala | B7: =IFERROR(((E7-F7)/F7),"") -> -1 | C7: 0 | D7: 5 | F7: 5 | L7: 135 | N7: 53 | O7: 40 | U7: 0 | V7: 0
A8: Gloster | B8: =IFERROR(((E8-F8)/F8),"") | C8: 0 | D8: 0 | U8: 4 | V8: 105
A9: Granny Smith | B9: =IFERROR(((E9-F9)/F9),"") | C9: 0 | D9: 0
A10: Holsteiner Cox | B10: =IFERROR(((E10-F10)/F10),"") | C10: 0 | D10: 0 | L10: 35 | U10: 0 | V10: 0
A11: Idared | B11: =IFERROR(((E11-F11)/F11),"") | C11: 0 | D11: 0 | L11: 14 | T11: 5 | U11: 7 | V11: 20
A12: Ingrid Marie | B12: =IFERROR(((E12-F12)/F12),"") | C12: 0 | D12: -440 | L12: 0 | O12: 0 | U12: 0 | V12: 0
A13: Jonagold | B13: =IFERROR(((E13-F13)/F13),"") -> -1 | C13: -21 | D13: -6 | F13: 13 | I13: 21 | L13: 51 | N13: 15 | O13: 19 | P13: 45 | R13: 35 | U13: 0 | V13: 0 | W13: 326
A14: Jonagored | B14: =IFERROR(((E14-F14)/F14),"") -> -0.68351064 | C14: -181 | D14: -34 | E14: 238 | F14: 752 | G14: 104 | H14: 545 | I14: 946 | J14: 745 | K14: 85 | L14: 1733 | M14: 577 | N14: 1704 | O14: 1762 | P14: 950 | Q14: 669 | R14: 303 | S14: 669 | T14: 262 | U14: 480 | V14: 1159
A15: Pigoen | B15: =IFERROR(((E15-F15)/F15),"") | C15: 0 | D15: 0 | U15: 0 | V15: 0
A16: Pinova | B16: =IFERROR(((E16-F16)/F16),"") | C16: 0 | D16: 0 | U16: 31 | V16: 21
A17: Spartan | B17: =IFERROR(((E17-F17)/F17),"") | C17: 0 | D17: 0 | L17: 0
A18: Other new varieties³ | B18: =IFERROR(((E18-F18)/F18),"") -> -0.30129717 | C18: -765 | D18: -454 | E18: 1185 | F18: 1696 | G18: 493 | H18: 1552 | I18: 1835 | J18: 455 | K18: 227 | L18: 1510 | N18: 888 | O18: 886 | P18: 718 | Q18: 484 | R18: 120 | S18: 484 | T18: 170 | U18: 126 | V18: 12
A19: Other | B19: =IFERROR(((E19-F19)/F19),"") -> -1 | C19: -83 | D19: 56 | F19: =85+96 -> 181 | G19: 14 | H19: =17+128 -> 145 | I19: 14 | J19: 0 | K19: 114 | L19: 58 | M19: 518 | N19: 57 | O19: 32 | P19: 28 | Q19: 5 | R19: 9 | S19: 5 | T19: 14 | U19: 368 | V19: 77 | W19: 12
A20: Total | B20: =IFERROR(((E20-F20)/F20),"") -> -0.62583634 | C20: -1578 | D20: -1433 | E20: =SUM(E2:E19) -> 1454 | F20: =SUM(F2:F19) -> 3886 | G20: =SUM(G2:G19) -> 611 | H20: =SUM(H2:H19) -> 2735 | I20: =SUM(I2:I19) -> 3865 | J20: =SUM(J2:J19) -> 1402 | K20: =SUM(K2:K19) -> 624 | L20: =SUM(L2:L19) -> 4451 | M20: 1474 | N20: =SUM(N2:N19) -> 3374 | O20: =SUM(O2:O19) -> 3650 | P20: =SUM(P2:P19) -> 1926 | Q20: =SUM(Q2:Q19) -> 1196 | R20: =SUM(R2:R19) -> 473 | S20: =SUM(S2:S19) -> 1196 | T20: =SUM(T2:T19) -> 466 | U20: =SUM(U2:U19) -> 1347 | ... X20: =SUM(X2:X19) -> 0
A23: Pear Stocks (Ton) | B23: %YOY | C23: Moved 2026 | D23: Moved 2025 | E23: 46113 | F23: 45748 | G23: 45383 | H23: 45017 | I23: 44652 | J23: 44287 | K23: 43922 | L23: 43556 | M23: 43191 | N23: 42826 | O23: 42461 | P23: 42095 | Q23: 41730 | R23: 41365 | S23: 41000 | T23: 40634 | U23: 40269 | V23: 39904 | W23: 39539 | X23: 39173
A24: Conference | B24: =IFERROR(((E24-F24)/F24),"") | D24: 0 | J24: 0 | K24: 0 | L24: 28 | O24: 25 | P24: 0 | R24: 0 | S24: 0 | T24: 0 | U24: 0 | V24: =SUM(Y24:Z24) -> 0 | W24: =B39 -> 0 | X24: =B61 -> 0
A25: Doyenne du Comice | B25: =IFERROR(((E25-F25)/F25),"") | D25: 0
A26: Other | B26: =IFERROR(((E26-F26)/F26),"") | D26: 0 | J26: 0 | K26: 19 | L26: 93 | N26: 0 | O26: 47 | P26: 0 | R26: 0 | S26: 0 | T26: 0 | U26: 0 | V26: =SUM(Y26:Z26) -> 0 | W26: 0 | X26: =B70 -> 0
A27: Total | B27: =IFERROR(((E27-F27)/F27),"") | D27: 0 | J27: 0 | K27: =SUM(K24:K26) -> 19 | L27: =SUM(L24:L26) -> 121 | M27: 0 | N27: =SUM(N26) -> 0 | O27: =SUM(O24:O26) -> 72 | P27: =SUM(P24:P26) -> 0 | Q27: 0 | R27: =SUM(R24:R26) -> 0 | S27: 0 | T27: 0 | U27: 0 | V27: =SUM(V24:V26) -> 0 | W27: =SUM(W24:W26) -> 0 | X27: =SUM(X24:X26) -> 0

Sheet France
A1: Variety (Ton) | B1: %YOY | C1: Moved 2026 | D1: Moved 2025 | E1: 46113 | F1: 45748 | G1: 45383 | H1: 45017 | I1: 44652 | J1: 44287 | K1: 43922 | L1: 43556 | M1: 43191 | N1: 42826 | O1: 42461 | P1: 42095 | Q1: 41730 | R1: 41365 | S1: 41000 | T1: 40634 | U1: 40269
A2: Ariane | B2: =IFERROR(((E2-F2)/F2),"") -> -0.16513303 | C2: -558.5986 | D2: -1281.323 | E2: 3617.8592 | F2: 4333.4559 | G2: 3243 | H2: 4288 | I2: 1826 | J2: 2002 | K2: 3204 | L2: 2389 | M2: 1367 | N2: 4481 | O2: 3650 | P2: 5089 | Q2: 9919 | R2: 4061 | S2: 7705 | T2: 5121 | U2: 4681
A3: Belchard/Chantecler | B3: =IFERROR(((E3-F3)/F3),"") -> 0.37080147 | C3: -5703.9749 | D3: -5882.8833 | E3: 11667.3 | F3: 8511.2985 | G3: 13965 | H3: 7239 | I3: 16045 | J3: 8082 | K3: 13489 | L3: 11055 | M3: 8107 | N3: 10731 | O3: 12003 | P3: 8836 | Q3: 16819 | R3: 6814 | S3: 10585 | T3: 10613 | U3: 11463
A4: Boskoop | B4: =IFERROR(((E4-F4)/F4),"") -> 0.91341973 | C4: -1248.868 | D4: -991.1876 | E4: 593.0809 | F4: 309.9586 | G4: 60 | H4: 575 | I4: 216 | J4: 50 | K4: 239 | L4: 495 | M4: 111 | N4: 355 | O4: 321 | P4: 466 | Q4: 474 | R4: 0 | S4: 1823 | T4: 618 | U4: 1313
A5: Braeburn | B5: =IFERROR(((E5-F5)/F5),"") -> -0.19216968 | C5: -2447.0617 | D5: -1748.3056 | E5: 6303.6307 | F5: 7803.1618 | G5: 6578 | H5: 4862 | I5: 11303 | J5: 7434 | K5: 13643 | L5: 12526 | M5: 6837 | N5: 9657 | O5: 9282 | P5: 6854 | Q5: 17116 | R5: 3480 | S5: 17539 | T5: 13383 | U5: 23892
A6: Cameo | B6: =IFERROR(((E6-F6)/F6),"") | C6: 0 | D6: 0 | K6: 0 | S6: 851 | T6: 880 | U6: 1190
A7: Choupette | B7: =IFERROR(((E7-F7)/F7),"") -> -0.098997594 | C7: -81.2387 | D7: -1542.5487 | E7: 5136.3054 | F7: 5700.6567 | G7: 3258 | H7: 896 | I7: 1541 | J7: 2617 | K7: 3136 | L7: 3610 | M7: 2669 | N7: 3257 | O7: 2865 | P7: 1920 | Q7: 1145 | R7: 987 | S7: 1591 | T7: 1556 | U7: 5
A8: Cripps Pink | B8: =IFERROR(((E8-F8)/F8),"") -> 0.35099776 | C8: -28253.046 | D8: -27474.856 | E8: 77093.391 | F8: 57064.041 | G8: 52089 | H8: 45507 | I8: 31811 | J8: 37550 | K8: 36477 | L8: 35323 | M8: 29855 | N8: 32441 | O8: 31147 | P8: 26727 | Q8: 26910 | R8: 12737 | S8: 21999 | T8: 19780 | U8: 19641
A9: Elstar | B9: =IFERROR(((E9-F9)/F9),"") -> 4.5935815 | C9: -322.8245 | D9: -195.1777 | E9: 534.7587 | F9: 95.6022 | G9: 169 | H9: 124 | I9: 232 | J9: 243 | K9: 438 | L9: 390 | M9: 156 | N9: 332 | O9: 164 | P9: 180 | Q9: 205 | R9: 340 | S9: 240 | T9: 456 | U9: 288
A10: Fuji | B10: =IFERROR(((E10-F10)/F10),"") -> 0.92575289 | C10: -2857.0455 | D10: -4425.6306 | E10: 9631.7615 | F10: 5001.5563 | G10: 7020 | H10: 3226 | I10: 16024 | J10: 4670 | K10: 15553 | L10: 9067 | M10: 10232 | N10: 6641 | O10: 7783 | P10: 4763 | Q10: 14021 | R10: 5643 | S10: 8962 | T10: 10853 | U10: 8033
A11: Gala | B11: =IFERROR(((E11-F11)/F11),"") -> -0.26658761 | C11: -3907.6689 | D11: -14629.163 | E11: 16306.699 | F11: 22234.011 | G11: 24326 | H11: 23853 | I11: 35760 | J11: 32305 | K11: 32736 | L11: 39505 | M11: 18601 | N11: 17921 | O11: 11011 | P11: 13880 | Q11: 13303 | R11: 7253 | S11: 9652 | T11: 11214 | U11: 6833
A12: Golden Delicious | B12: =IFERROR(((E12-F12)/F12),"") -> -0.15117712 | C12: -17668.436 | D12: -17426.195 | E12: 87467.453 | F12: 103045.59 | G12: 101621 | H12: 79134 | I12: 90266 | J12: 75402 | K12: 127906 | L12: 115089 | M12: 107122 | N12: 125657 | O12: 125061 | P12: 123469 | Q12: 151601 | R12: 64896 | S12: 122884 | T12: 128701 | U12: 142950
A13: Goldrush | B13: =IFERROR(((E13-F13)/F13),"") -> -0.11140912 | C13: -553.3486 | D13: -629.211 | E13: 1968.0413 | F13: 2214.789 | G13: 1810 | H13: 1294 | I13: 1793 | J13: 1581 | K13: 1898 | L13: 1256 | M13: 916 | N13: 937 | O13: 1041 | P13: 1266 | Q13: 1550 | R13: 1151 | S13: 1255 | T13: 1342 | U13: 1312
A14: Granny Smith | B14: =IFERROR(((E14-F14)/F14),"") -> 0.15973364 | C14: -7329.6209 | D14: -8237.3653 | E14: 24345.79 | F14: 20992.57 | G14: 21230 | H14: 24460 | I14: 29256 | J14: 32652 | K14: 30582 | L14: 30581 | M14: 32645 | N14: 21723 | O14: 36609 | P14: 27334 | Q14: 36919 | R14: 19951 | S14: 23465 | T14: 18323 | U14: 24187
A15: Honey Crunch | B15: =IFERROR(((E15-F15)/F15),"") -> 0.41491271 | C15: -512.8975 | D15: -783.0603 | E15: 1444.1025 | F15: 1020.6301 | G15: 3676 | H15: 3386 | I15: 5414 | J15: 253 | K15: 3131 | L15: 914 | M15: 763 | N15: 1055 | O15: 629 | P15: 3153 | Q15: 2251 | R15: 939 | S15: 427 | T15: 723 | U15: 128
A16: Idared | B16: =IFERROR(((E16-F16)/F16),"") | C16: 0 | D16: 0 | I16: 325 | J16: 894 | K16: 932 | L16: 709 | M16: 333 | N16: 776 | O16: 616 | P16: 638 | Q16: 993 | R16: 641 | S16: 1169 | T16: 1225 | U16: 1772
A17: Jazz | B17: =IFERROR(((E17-F17)/F17),"") -> 0.23205623 | C17: -3277.8862 | D17: -3052.9646 | E17: 12127.712 | F17: 9843.4728 | G17: 11045 | H17: 11831 | I17: 20193 | J17: 5444 | K17: 10481 | L17: 6321 | M17: 6462 | N17: 4123 | O17: 3494 | P17: 2995 | Q17: 2918 | R17: 1011 | S17: 1706 | T17: 2488 | U17: 6570
A18: Jonagold | B18: =IFERROR(((E18-F18)/F18),"") -> 0.047192675 | C18: -822.0587 | D18: -1298.0723 | E18: 14537.053 | F18: 13881.928 | G18: 10295 | H18: 5520 | I18: 11922 | J18: 8080 | K18: 11500 | L18: 9649 | M18: 7229 | N18: 6497 | O18: 6327 | P18: 2945 | Q18: 5106 | R18: 1802 | S18: 4996 | T18: 5389 | U18: 7756
A19: Reine de renettes | B19: =IFERROR(((E19-F19)/F19),"") | C19: 0 | D19: -14.0467 | F19: 0 | G19: 19 | H19: 32 | I19: 22 | J19: 122 | K19: 153 | L19: 0 | M19: 0 | N19: 0 | O19: 11 | P19: 13 | Q19: 27 | R19: 2 | S19: 21 | T19: 58 | U19: 2
A20: Reinette Grise du Canada | B20: =IFERROR(((E20-F20)/F20),"") -> -0.028120709 | C20: -3233.6885 | D20: -3657.5629 | E20: 5678.8531 | F20: 5843.1671 | G20: 2874 | H20: 2407 | I20: 6976 | J20: 2022 | K20: 4638 | L20: 4719 | M20: 2336 | N20: 2795 | O20: 4188 | P20: 2688 | Q20: 10463 | R20: 1169 | S20: 7206 | T20: 6008 | U20: 6550
A21: Rouges | B21: =IFERROR(((E21-F21)/F21),"") -> -0.1233132 | C21: -656.7791 | D21: -1981.6122 | E21: 3494.5468 | F21: 3986.0835 | G21: 3806 | H21: 3247 | I21: 5659 | J21: 5200 | K21: 9976 | L21: 7071 | M21: 5908 | N21: 5616 | O21: 4735 | P21: 2911 | Q21: 7500 | R21: 1570 | S21: 2340 | T21: 4278 | U21: 6595
A22: Rubinette | B22: =IFERROR(((E22-F22)/F22),"") | C22: 0 | D22: 0 | I22: 233 | J22: 220 | K22: 668 | L22: 249 | M22: 87 | N22: 47 | O22: 276 | P22: 77 | Q22: 612 | R22: 47 | S22: 526 | T22: 110 | U22: 619
A23: Sundowner | B23: =IFERROR(((E23-F23)/F23),"") | C23: 0 | D23: 0 | I23: 10232 | J23: 7403 | K23: 8816 | L23: 7145 | M23: 5320 | N23: 4816 | O23: 4121 | P23: 5445 | Q23: 4683 | R23: 2855 | S23: 4507 | T23: 1341 | U23: 1197
A24: Tentation | B24: =IFERROR(((E24-F24)/F24),"") -> 1.9232881 | C24: -211.5888 | D24: -240.7326 | E24: 1048.5507 | F24: 358.6888 | G24: 340 | H24: 1248 | I24: 1418 | J24: 727 | K24: 1109 | L24: 1492 | M24: 900 | N24: 2103 | O24: 1433 | P24: 964 | Q24: 2199 | R24: 1136 | S24: 2161 | T24: 1060 | U24: 1938
A25: Other | B25: =IFERROR(((E25-F25)/F25),"") -> 0.30301114 | C25: -22538.6 | D25: -12246.877 | E25: 54240.72 | F25: 41627.211 | G25: 34027 | H25: 32266 | I25: 7082 | J25: 9423 | K25: 5057 | L25: 5454 | M25: 1969 | N25: 1752 | O25: 991 | P25: 1736 | Q25: 4218 | R25: 3302 | S25: 1060 | T25: 4609 | U25: 6774
A26: Total | B26: =IFERROR(((E26-F26)/F26),"") -> 0.074457252 | C26: -102185.23 | D26: -107738.78 | E26: =SUM(E2:E25) -> 337237.61 | F26: =SUM(F2:F25) -> 313867.87 | G26: =SUM(G2:G25) -> 301451 | H26: =SUM(H2:H25) -> 255395 | I26: =SUM(I2:I25) -> 305549 | J26: =SUM(J2:J25) -> 244376 | K26: =SUM(K2:K25) -> 335762 | L26: =SUM(L2:L25) -> 305009 | ... U26: =SUM(U2:U25) -> 285689
A29: Apple Stocks (Ton) | B29: %YOY | C29: Moved 2026 | D29: Moved 2025 | E29: 46113 | F29: 45748 | G29: 45383 | H29: 45017 | I29: 44652 | J29: 44287 | K29: 43922 | L29: 43556 | M29: 43191 | N29: 42826 | O29: 42461 | P29: 42095 | Q29: 41730 | R29: 41365 | S29: 41000 | T29: 40634 | U29: 40269
A30: Angelys | B30: =IFERROR(((E30-F30)/F30),"") -> 0.65928955 | C30: -826.6989 | D30: -1115.2976 | E30: 1854.7814 | F30: 1117.8166 | G30: 1007 | H30: 146 | I30: 80 | J30: 605 | K30: 179 | L30: 271 | M30: 477 | N30: 587 | O30: 143 | P30: 1440 | Q30: 1719 | R30: 34 | S30: 2282
A31: Beurré Hardy | B31: =IFERROR(((E31-F31)/F31),"") | C31: 0 | D31: 0 | O31: 0 | P31: 0 | Q31: 0 | R31: 0 | S31: 0
A32: Conference | B32: =IFERROR(((E32-F32)/F32),"") -> 1.3095657 | C32: -964.7701 | D32: -690.3258 | E32: 669.3327 | F32: 289.8089 | G32: 341 | H32: 232 | I32: 271 | J32: 456 | K32: 659 | L32: 874 | M32: 766 | N32: 482 | O32: 478 | P32: 549 | Q32: 105 | R32: 171 | S32: 1254
A33: Doyenne du comice | B33: =IFERROR(((E33-F33)/F33),"") -> -0.31090983 | C33: -60.9012 | D33: -42.9036 | E33: 48.196 | F33: 69.9415 | G33: 16 | H33: 10 | I33: 1 | J33: 8 | K33: 38 | L33: 230 | M33: 163 | N33: 50 | O33: 102 | P33: 39 | Q33: 11 | R33: 6 | S33: 139
A34: Guyot | B34: =IFERROR(((E34-F34)/F34),"") | C34: 0 | D34: 0 | K34: 0 | O34: 0 | P34: 0 | Q34: 0 | R34: 0 | S34: 0
A35: Passe Crassane | B35: =IFERROR(((E35-F35)/F35),"") -> 0.28472593 | C35: -14.5384 | D35: -85.7557 | E35: 134.4616 | F35: 104.6617 | G35: 13 | H35: 28 | I35: 18 | K35: 19 | L35: 305 | M35: 65 | N35: 29 | O35: 94 | P35: 38 | Q35: 134 | R35: 23 | S35: 10
A36: Williams | B36: =IFERROR(((E36-F36)/F36),"") | C36: -94.7365 | D36: 0 | K36: 27 | O36: 0 | P36: 0 | Q36: 0 | R36: 0 | S36: 0
A37: Other | B37: =IFERROR(((E37-F37)/F37),"") -> -0.74386038 | C37: -509.5736 | D37: -1490.9975 | E37: 323.4765 | F37: 1262.8913 | G37: 235 | H37: 329 | I37: 33 | J37: 214 | K37: 46 | L37: 209 | M37: 28 | N37: 90 | O37: 3 | P37: 2 | Q37: 87 | R37: 1 | S37: 10
A38: Total | B38: =IFERROR(((E38-F38)/F38),"") -> 0.065068679 | C38: -2471.2187 | D38: -3425.2802 | E38: =SUM(E30:E37) -> 3030.2482 | F38: =SUM(F30:F37) -> 2845.12 | G38: =SUM(G30:G37) -> 1612 | H38: =SUM(H30:H37) -> 745 | I38: =SUM(I30:I37) -> 403 | J38: =SUM(J30:J37) -> 1283 | K38: =SUM(K30:K37) -> 968 | L38: =SUM(L30:L37) -> 1889 | ... S38: =SUM(S30:S37) -> 3695

Sheet Germany
A1: Variety (Ton) | B1: %YOY | C1: Moved 2026 | D1: Moved 2025 | E1: 46113 | F1: 45748 | G1: 45383 | H1: 45017 | I1: 44652 | J1: 44287 | K1: 43922 | L1: 43556 | M1: 43191 | N1: 42826 | O1: 42461 | P1: 42095 | Q1: 41730 | R1: 41365 | S1: 41000 | T1: 40634 | U1: 40269 | V1: 39904 | W1: 39539 | X1: 39173
A2: Boskoop | B2: =IFERROR(((E2-F2)/F2),"") -> 5.1739895 | C2: -1150 | D2: -176 | E2: 3513 | F2: 569 | G2: 2302 | H2: 1552 | I2: 5055 | J2: 0 | K2: 1331 | L2: 3091 | M2: 0 | N2: 3751 | O2: 259 | P2: 3230 | Q2: 182 | R2: 18 | S2: 60 | T2: 186 | U2: 306 | V2: 1902 | W2: 209 | X2: 1629
A3: Braeburn | B3: =IFERROR(((E3-F3)/F3),"") -> 1.1907157 | C3: -8185 | D3: -6531 | E3: 16989 | F3: 7755 | G3: 8406 | H3: 8131 | I3: 11370 | J3: 6724 | K3: 6562 | L3: 11509 | M3: 525 | N3: 3981 | O3: 8738 | P3: 5345 | Q3: 5483 | R3: 2898 | S3: 4506 | T3: 3385 | U3: 3964 | V3: 1975 | W3: 3670 | X3: 2255
A4: Cox Orange | B4: =IFERROR(((E4-F4)/F4),"") | C4: 0 | D4: 0 | E4: 0 | F4: 0 | G4: 0 | H4: 0 | I4: 0 | J4: 0 | K4: 0 | M4: 0 | N4: 41 | O4: 169 | Q4: 7 | R4: 5 | S4: 17 | T4: 40 | U4: 2 | V4: 13 | W4: 0 | X4: 77
A5: Elstar | B5: =IFERROR(((E5-F5)/F5),"") -> 1.1145131 | C5: -12725 | D5: -12501 | E5: 41713 | F5: 19727 | G5: 18010 | H5: 40394 | I5: 24924 | J5: 20292 | K5: 20873 | L5: 18337 | M5: 8568 | N5: 18507 | O5: 16175 | P5: 25375 | Q5: 11359 | R5: 11247 | S5: 15370 | T5: 11696 | U5: 18014 | V5: 10434 | W5: 14863 | X5: 16288
A6: Fuji | B6: =IFERROR(((E6-F6)/F6),"") -> 0.45697674 | C6: -1082 | D6: -1507 | E6: 3759 | F6: 2580 | G6: 2894 | H6: 3815 | I6: 2927 | J6: 3285 | K6: 2762 | L6: 5241 | M6: 478 | N6: 3503 | O6: 2327 | P6: 4105 | Q6: 3118 | R6: 98 | S6: 1458 | T6: 638 | U6: 1862 | V6: 713 | W6: 1382 | X6: 132
A7: Gala | B7: =IFERROR(((E7-F7)/F7),"") -> 1.7554497 | C7: -6713 | D7: -3081 | E7: 15042 | F7: 5459 | G7: 8884 | H7: 9276 | I7: 10983 | J7: 8613 | K7: 5641 | L7: 5539 | M7: 2170 | N7: 5476 | O7: 5443 | P7: 2503 | Q7: 3452 | R7: 3284 | S7: 1961 | T7: 1352 | U7: 413 | V7: 1946 | W7: 1268 | X7: 1065
A8: Gloster | B8: =IFERROR(((E8-F8)/F8),"") | C8: 0 | D8: 0 | E8: 0 | F8: 0 | G8: 0 | H8: 0 | I8: 0 | J8: 0 | L8: 265 | M8: 0 | N8: 366 | O8: 586 | P8: 659 | Q8: 985 | R8: 1163 | S8: 1749 | T8: 1788 | U8: 3886 | V8: 4026 | W8: 1146 | X8: 4825
A9: Golden Delicious | B9: =IFERROR(((E9-F9)/F9),"") -> 0.072749692 | C9: -482 | D9: -377 | E9: 870 | F9: 811 | G9: 1604 | H9: 792 | I9: 1364 | J9: 2132 | K9: 1913 | L9: 2269 | M9: 742 | N9: 6064 | O9: 5591 | P9: 5281 | Q9: 6608 | R9: 9207 | S9: 10589 | T9: 7324 | U9: 10088 | V9: 13179 | W9: 9074 | X9: 8118
A10: Holsteiner Cox | B10: =IFERROR(((E10-F10)/F10),"") | C10: -164 | D10: 0 | E10: 120 | F10: 0 | G10: 4 | H10: 0 | I10: 20 | J10: 0 | M10: 0 | O10: 97 | P10: 138 | Q10: 0 | R10: 0 | S10: 27 | T10: 64 | U10: 0 | V10: 0 | W10: 0 | X10: 51
A11: Idared | B11: =IFERROR(((E11-F11)/F11),"") -> 0.87681971 | C11: -2 | D11: -68 | E11: 1676 | F11: 893 | G11: 1131 | H11: 2696 | I11: 5212 | J11: 4918 | K11: 2493 | L11: 7444 | M11: 6441 | N11: 8653 | O11: 14004 | P11: 6770 | Q11: 17169 | R11: 18749 | S11: 16110 | T11: 14018 | U11: 19092 | V11: 16606 | W11: 9252 | X11: 14721
A12: Ingrid Marie | B12: =IFERROR(((E12-F12)/F12),"") | C12: 0 | D12: 0 | E12: 0 | F12: 0 | G12: 0 | H12: 0 | I12: 0 | J12: 0 | M12: 0 | R12: 0 | S12: 0 | T12: 0 | U12: 3 | V12: 0 | W12: 0 | X12: 0
A13: Jonagold | B13: =IFERROR(((E13-F13)/F13),"") -> 0.31954286 | C13: -1252 | D13: -677 | E13: 11546 | F13: 8750 | G13: 6761 | H13: 9577 | I13: 12114 | J13: 7244 | K13: 8512 | L13: 20592 | M13: 5583 | N13: 21323 | O13: 19529 | P13: 25472 | Q13: 20791 | R13: 26912 | S13: 33538 | T13: 23340 | U13: 33376 | V13: 33010 | W13: 28894 | X13: 30072
A14: Jonagored | B14: =IFERROR(((E14-F14)/F14),"") -> 0.15039216 | C14: -1955 | D14: -424 | E14: 11734 | F14: 10200 | G14: 10526 | H14: 12019 | I14: 20705 | J14: 22538 | K14: 17694 | L14: 34667 | M14: 13884 | N14: 40962 | O14: 41125 | P14: 47349 | Q14: 33906 | R14: 46297 | S14: 46940 | T14: 34356 | U14: 44835 | V14: 37635 | W14: 32179 | X14: 35163
A15: Pinova | B15: =IFERROR(((E15-F15)/F15),"") -> 1.4989899 | C15: -984 | D15: -592 | E15: 3711 | F15: 1485 | G15: 2689 | H15: 3607 | I15: 4386 | J15: 3102 | K15: 3713 | L15: 4455 | M15: 2521 | N15: 7170 | O15: 8912 | P15: 8788 | Q15: 5968 | R15: 5992 | S15: 4526 | T15: 3452 | U15: 4262 | V15: 3464 | W15: 1207 | X15: 2077
A16: Red Jonaprince | B16: =IFERROR(((E16-F16)/F16),"") -> 0.4615515 | C16: -4514 | D16: -3259 | E16: 51736 | F16: 35398 | G16: 39131 | H16: 37208 | I16: 52381 | J16: 40038 | K16: 33949 | L16: 50299 | M16: 28232 | N16: 44254 | O16: 28200 | P16: 24718 | Q16: 12045 | R16: 16692 | S16: 12671 | T16: 7452 | U16: 10952 | V16: 7842 | W16: 6815 | X16: 1779
A17: Shampion | B17: =IFERROR(((E17-F17)/F17),"") | C17: -194 | D17: 0 | E17: 354 | F17: 0 | G17: 0 | H17: 3 | I17: 169 | J17: 169 | K17: 50 | L17: 56 | M17: 7 | N17: 356 | O17: 697 | P17: 269 | Q17: 18 | R17: 935 | S17: 854 | T17: 130 | U17: 34 | V17: 90 | W17: 45 | X17: 16
A18: Topaz | B18: =IFERROR(((E18-F18)/F18),"") -> 1.5387931 | C18: -259 | D18: -337 | E18: 1178 | F18: 464 | G18: 508 | H18: 1319 | I18: 830 | J18: 583 | K18: 264 | L18: 1210 | M18: 68 | N18: 238 | O18: 432 | P18: 269 | Q18: 539 | R18: 384 | S18: 550 | T18: 1003 | U18: 946 | V18: 951 | W18: 382 | X18: 777
A19: Club varieties | B19: =IFERROR(((E19-F19)/F19),"") -> 1.6424903 | C19: -9345 | D19: -9036 | E19: 42700 | F19: 16159 | G19: 9562 | H19: 25627 | I19: 18209 | J19: 19133 | K19: 13811 | L19: 21926 | M19: 5435 | N19: 12376 | O19: 12240 | P19: 12692 | Q19: 8112 | R19: 5969 | S19: 4445 | T19: 2591 | U19: 3153 | V19: 1188 | W19: 1390 | X19: 302
A20: Other | B20: =IFERROR(((E20-F20)/F20),"") -> 1.3480381 | C20: -1676 | D20: 2399 | E20: 10113 | F20: 4307 | G20: 15917 | H20: 6283 | I20: 2058 | J20: 859 | K20: 1846 | L20: 2061 | M20: 254 | N20: 1847 | O20: 1792 | P20: 3084 | Q20: 2808 | R20: 3300 | S20: 2524 | T20: 1893 | U20: 2606 | V20: 2548 | W20: 1852 | X20: 2014
A21: Total | B21: =IFERROR(((E21-F21)/F21),"") -> 0.89210611 | C21: -50682 | D21: -36167 | E21: =SUM(E2:E20) -> 216754 | F21: =SUM(F2:F20) -> 114557 | G21: =SUM(G2:G20) -> 128329 | H21: =SUM(H2:H20) -> 162299 | I21: =SUM(I2:I20) -> 172707 | J21: =SUM(J2:J20) -> 139630 | K21: =SUM(K2:K20) -> 121414 | L21: =SUM(L2:L20) -> 188961 | ... X21: =SUM(X2:X20) -> 121361
A24: Pear Stocks (Ton) | B24: %YOY | C24: Moved 2026 | D24: Moved 2025 | E24: 46113 | F24: 45748 | G24: 45383 | H24: 45017 | I24: 44652 | J24: 44287 | K24: 43922 | L24: 43556 | M24: 43191 | N24: 42826 | O24: 42461 | P24: 42125 | Q24: 41730 | R24: 41365 | S24: 41000 | T24: 40634 | U24: 40269 | V24: 39904 | W24: 39539 | X24: 39173
A25: Other | B25: =IFERROR(((E25-F25)/F25),"") -> -0.18726236 | C25: -1588 | D25: -1011 | E25: 855 | F25: 1052 | G25: 1319 | H25: 158 | I25: 583 | J25: 612 | K25: 394 | L25: 821 | M25: 393 | N25: 53 | O25: 119 | P25: 585 | Q25: 360 | R25: 66 | S25: 361 | T25: 9 | U25: 147 | V25: 111 | W25: 184 | X25: 84
A26: Total | B26: =IFERROR(((E26-F26)/F26),"") -> -0.18726236 | C26: -1588 | D26: -1011 | E26: =SUM(E25) -> 855 | F26: =SUM(F25) -> 1052 | G26: 1319 | H26: 158 | I26: 583 | J26: 612 | K26: =SUM(K25) -> 394 | L26: 821 | M26: 393 | N26: =SUM(N25) -> 53 | O26: =SUM(O25) -> 119 | P26: =SUM(P25) -> 585 | Q26: =SUM(Q25) -> 360 | R26: =SUM(R25) -> 66 | S26: =SUM(S25) -> 361 | T26: =SUM(T25) -> 9 | U26: =SUM(U25) -> 147 | ... X26: =SUM(X25) -> 84

Sheet Italy
A1: Variety (Ton) | B1: %YOY | C1: Moved 2026 | D1: Moved 2025 | E1: 46113 | F1: 45748 | G1: 45383 | H1: 45017 | I1: 44652 | J1: 44287 | K1: 43922 | L1: 43556 | M1: 43191 | N1: 42826 | O1: 42461 | P1: 42095 | Q1: 41730 | R1: 41365 | S1: 41000 | T1: 40634 | U1: 40269 | V1: 39904 | W1: 39539 | X1: 39173
A2: Annurca | B2: =IFERROR(((E2-F2)/F2),"") | C2: -500 | D2: -500 | E2: 0 | F2: 0 | I2: 0 | L2: 0 | M2: 0 | N2: 0 | O2: 0 | P2: 0 | S2: 761.69177 | T2: 0 | U2: 0 | V2: 0 | W2: 0 | X2: 0
A3: Braeburn | B3: =IFERROR(((E3-F3)/F3),"") -> 0.21839081 | C3: -3335 | D3: -3267.6 | E3: 18415 | F3: 15114.198 | G3: 18778.283 | H3: 16857.643 | I3: 25215.183 | J3: 23987.5 | K3: 28090.38 | L3: 37677.7 | M3: 18656 | N3: 34255.1 | O3: 30762.1 | P3: 30965 | Q3: 34303 | R3: 25751 | S3: 36955.08 | T3: 35386.915 | U3: 36715.03 | V3: 29265.77 | W3: 26328 | X3: 20858
A4: Cripps Pink | B4: =IFERROR(((E4-F4)/F4),"") -> 0.39398025 | C4: -23106 | D4: -20409.602 | E4: 77085 | F4: 55298.488 | G4: 53295.926 | H4: 47856.097 | I4: 30329.6 | J4: 33448.2 | K4: 22654.3 | L4: 30183.2 | M4: 19609 | N4: 31233.9 | O4: 23110.3 | P4: 42691 | Q4: 16692 | R4: 8234 | S4: 26093.957 | T4: 10925.109
A5: Elstar | B5: =IFERROR(((E5-F5)/F5),"") | C5: 0 | D5: 0 | L5: 0 | M5: 0 | N5: 0 | O5: 2 | P5: 0 | Q5: 2 | S5: 0 | T5: 0 | U5: 31.8 | V5: 0 | W5: 9
A6: Fuji | B6: =IFERROR(((E6-F6)/F6),"") -> 0.489554 | C6: -18351 | D6: -19381.023 | E6: 50365 | F6: 33812.134 | G6: 33275.297 | H6: 32167.703 | I6: 43339.452 | J6: 48342 | K6: 39141.952 | L6: 57310.6 | M6: 35418 | N6: 41091.01 | O6: 63315.343 | P6: 50893 | Q6: 57789 | R6: 28000 | S6: 40519.998 | T6: 51166.848 | U6: 37282.98 | V6: 34837.64 | W6: 35448.2 | X6: 23704
A7: Gala | B7: =IFERROR(((E7-F7)/F7),"") -> -0.082778784 | C7: -21305 | D7: -20295.084 | E7: 12362 | F7: 13477.665 | G7: 19039.398 | H7: 9159.5567 | I7: 20144.544 | J7: 13919.4 | K7: 15871.103 | L7: 11299.8 | M7: 524 | N7: 10541.91 | O7: 1456.6 | P7: 11691 | Q7: 7492 | R7: 1703 | S7: 3639.0827 | T7: 5818.3609 | U7: 3036.05 | V7: 3855.24 | W7: 1352 | X7: 532
A8: Gloster | B8: =IFERROR(((E8-F8)/F8),"") | C8: 0 | D8: 0 | L8: 5 | M8: 0 | N8: 0 | O8: 4 | P8: 16 | Q8: 14 | S8: 34.075685 | T8: 0 | U8: 104.97 | V8: 125.11 | W8: 120 | X8: 281
A9: Golden Delicious | B9: =IFERROR(((E9-F9)/F9),"") -> -0.058461956 | C9: -63178 | D9: -62820.527 | E9: 241352 | F9: 256338.02 | G9: 298035.24 | H9: 214528.01 | I9: 313835.48 | J9: 280828 | K9: 314142.23 | L9: 368926.1 | M9: 152696 | N9: 391916.57 | O9: 389812.29 | P9: 402370 | Q9: 338816 | R9: 318541 | S9: 372315.94 | T9: 358127.79 | U9: 361636.99 | V9: 407816.56 | W9: 326106.8 | X9: 321678
A10: Granny Smith | B10: =IFERROR(((E10-F10)/F10),"") -> -0.19379118 | C10: -14524 | D10: -19340.802 | E10: 45227 | F10: 56098.369 | G10: 28246.291 | H10: 43589.283 | I10: 30260.34 | J10: 50461.6 | K10: 27510.537 | L10: 42076.7 | M10: 41022 | N10: 37277.525 | O10: 49195.53 | P10: 44624 | Q10: 38772 | R10: 18246 | S10: 29326.136 | T10: 26576.57 | U10: 20353.16 | V10: 22961.12 | W10: 11700 | X10: 13647
A11: Idared | B11: =IFERROR(((E11-F11)/F11),"") | C11: 0 | D11: 0 | L11: 40 | M11: 584 | N11: 566 | O11: 1170 | P11: 610 | Q11: 2062 | R11: 1968 | S11: 2010.4654 | T11: 528.9419 | U11: 2814.24 | V11: 3196.52 | W11: 2834.8 | X11: 3174
A12: Jonagold | B12: =IFERROR(((E12-F12)/F12),"") -> 0.20291944 | C12: -13 | D12: -37.2 | E12: 1335 | F12: 1109.8 | G12: 1343 | H12: 1791.7 | I12: 3403.9 | J12: 1948.8 | K12: 3997.2 | L12: 4321.6 | M12: 3000 | N12: 3915.3 | O12: 7313.9 | P12: 6991 | Q12: 9545 | R12: 6035 | S12: 9578.2741 | T12: 1170.2965 | U12: 13220.48 | V12: 13752.68 | W12: 13549.2 | X12: 11577
A13: Jonathan | B13: =IFERROR(((E13-F13)/F13),"") | C13: 0 | D13: 0 | L13: 0 | M13: 0 | N13: 0 | O13: 0 | P13: 6 | S13: 2.004452 | T13: 0 | U13: 2 | V13: 3 | W13: 0 | X13: 13
A14: Morgenduft | B14: =IFERROR(((E14-F14)/F14),"") -> 0.042018682 | C14: -2439 | D14: -2188.5763 | E14: 4875 | F14: 4678.419 | G14: 4722.135 | H14: 5236.9367 | I14: 7206.0954 | J14: 8024.3 | K14: 5192.5961 | L14: 7615.2 | M14: 2624 | N14: 8335.43 | O14: 10162.19 | P14: 14809 | Q14: 10837 | R14: 11344 | S14: 6429.2799 | T14: 14051.587 | U14: 8328.04 | V14: 23702.27 | W14: 12902 | X14: 18613
A15: Pinova | B15: =IFERROR(((E15-F15)/F15),"") -> 0.025670117 | C15: -5286 | D15: -5112.4 | E15: 29652 | F15: 28909.88 | G15: 27668.2 | H15: 27921.4 | I15: 29030.1 | J15: 29930.8 | K15: 21278.4 | L15: 23283
A16: Red Delicious | B16: =IFERROR(((E16-F16)/F16),"") -> -0.52186074 | C16: -17620 | D16: -20032.815 | E16: 20812 | F16: 43527.068 | G16: 30232.829 | H16: 50421.811 | I16: 50176.502 | J16: 68552.6 | K16: 50084.107 | L16: 66756.7 | M16: 36400 | N16: 65665.9 | O16: 62788.66 | P16: 61368 | Q16: 63690 | R16: 43299 | S16: 48575.891 | T16: 49376.274 | U16: 64511.67 | V16: 53222.61 | W16: 34722.5 | X16: 59840
A17: Renette | B17: =IFERROR(((E17-F17)/F17),"") -> -0.18657537 | C17: -3245 | D17: -3163.859 | E17: 9619 | F17: 11825.312 | G17: 4109 | H17: 12332 | I17: 5609 | J17: 12071 | K17: 6277.2 | L17: 12227 | M17: 0 | N17: 8670.4 | O17: 8807.5 | P17: 8239 | Q17: 5491 | R17: 2296 | S17: 3550.8868 | T17: 5993.002 | U17: 4276.1 | V17: 1547.9 | W17: 4659.6 | X17: 230
A18: Stayman | B18: =IFERROR(((E18-F18)/F18),"") | C18: 0 | D18: 0 | L18: 407 | M18: 671 | N18: 4410.4 | O18: 5295.5 | P18: 5820 | Q18: 3515 | R18: 365 | S18: 4173.2691 | T18: 4684.197 | U18: 2353.65 | V18: 3581.78 | W18: 989 | X18: 5055
A19: Others | B19: =IFERROR(((E19-F19)/F19),"") -> 0.24343966 | C19: -34278 | D19: -35838.039 | E19: =17650+137339 -> 154989 | F19: =21657+102988.372332812 -> 124645.37 | G19: 118186.87 | H19: 82706.157 | I19: 61123 | J19: =6660+28942 -> 35602 | K19: =(3861+18613) -> 22474 | L19: 30265 | M19: 15409 | N19: 35897.2 | O19: 28007.6 | P19: 26283 | Q19: 19644 | R19: 7129 | S19: 12141.968 | T19: 19096.107 | U19: 30939 | V19: 17817 | W19: 14196 | X19: 16146
A20: TOTAL | B20: =IFERROR(((E20-F20)/F20),"") -> 0.032959255 | C20: -207180 | D20: -212387.53 | E20: =SUM(E2:E19) -> 666088 | F20: =SUM(F2:F19) -> 644834.73 | G20: =SUM(G2:G19) -> 636932.46 | H20: =SUM(H2:H19) -> 544568.3 | I20: =SUM(I2:I19) -> 619673.2 | J20: =SUM(J2:J19) -> 607116.2 | K20: =SUM(K2:K19) -> 556714.01 | L20: =SUM(L2:L19) -> 692394.6 | ... X20: =SUM(X2:X19) -> 495348
A23: Pear Stocks (Ton) | B23: %YOY | C23: Moved 2026 | D23: Moved 2025 | E23: 46113 | F23: 45748 | G23: 45383 | H23: 45017 | I23: 44652 | J23: 44287 | K23: 43922 | L23: 43556 | M23: 43191 | N23: 42826 | O23: 42461 | P23: 42095 | Q23: 41730 | R23: 41365 | S23: 41000 | T23: 40634 | U23: 40269 | V23: 39904 | W23: 39539 | X23: 39173
A24: Abate Fetel | B24: =IFERROR(((E24-F24)/F24),"") -> -0.85175494 | C24: -7391.1574 | D24: -8785.5773 | E24: 1200 | F24: 8094.7051 | H24: 2982.2423
A25: Conference | B25: =IFERROR(((E25-F25)/F25),"") -> -0.14006605 | C25: -1509.3823 | D25: -2193.4158 | E25: 2023.8098 | F25: 2353.448 | H25: 3957.8837
A26: Decana del C. | B26: =IFERROR(((E26-F26)/F26),"") -> -0.89072832 | C26: -62.216737 | D26: -587.54333 | E26: 12.443347 | F26: 113.87532 | H26: 0
A27: Kaiser | B27: =IFERROR(((E27-F27)/F27),"") -> -0.6713342 | C27: -1839.4386 | D27: -2209.1116 | E27: 500 | F27: 1521.3022 | H27: 563.41083
A28: Others | B28: =IFERROR(((E28-F28)/F28),"") -> -0.3805668 | C28: -2237.969 | D28: -3725.0155 | E28: 1530 | F28: 2470 | H28: 1070
A29: TOTAL | B29: =IFERROR(((E29-F29)/F29),"") -> -0.63814103 | C29: -13040.164 | D29: -17500.664 | E29: =SUM(E24:E28) -> 5266.2531 | F29: =SUM(F24:F28) -> 14553.331 | G29: =SUM(G24:G28) -> 0 | H29: =SUM(H24:H28) -> 8573.5368
B30: *** Starting from the 2022-2023 season, Italian pears work with a different methodology, which is why the figures are not comparable with previous years.

Sheet Poland
A1: Variety (Ton) | B1: %YOY | C1: Moved 2026 | D1: Moved 2025 | E1: 46113 | F1: 45748 | G1: 45383 | H1: 45017 | I1: 44652 | J1: 44287 | K1: 43922 | L1: 43556 | M1: 43191 | N1: 42826 | O1: 42461 | P1: 42095 | Q1: 41730 | R1: 41365 | S1: 41000 | T1: 40634 | U1: 40269 | V1: 39904 | W1: 39539 | X1: 39173
A2: Boskoop | B2: =IFERROR(((E2-F2)/F2),"") | C2: 0 | D2: 0 | O2: 0 | P2: 0 | Q2: 0 | R2: 0 | S2: 0 | T2: 0 | U2: 0 | V2: 0 | W2: 0 | X2: 0
A3: Cortland | B3: =IFERROR(((E3-F3)/F3),"") | C3: 0 | D3: 0 | O3: 0 | P3: 0 | Q3: 0 | R3: 0 | S3: 0 | T3: 0 | U3: 8000 | V3: 1000 | W3: 0 | X3: 5000
A4: Elstar | B4: =IFERROR(((E4-F4)/F4),"") | C4: 0 | D4: 0 | O4: 0 | P4: 0 | Q4: 0 | R4: 0 | S4: 0 | T4: 0 | U4: 5000 | V4: 1000 | W4: 0 | X4: 0
A5: Gala | B5: =IFERROR(((E5-F5)/F5),"") -> 3.1666667 | C5: -15000 | D5: -14000 | E5: 25000 | F5: 6000 | G5: 25000 | H5: 30000 | I5: 50000 | J5: 30000 | K5: 15000 | L5: 20000 | M5: 7000 | N5: 10000 | O5: 15000 | P5: 12000 | Q5: 25000 | R5: 5000 | S5: 5000 | T5: 20000 | U5: 40000 | V5: 15000 | W5: 10000 | X5: 10000
A6: Gloster | B6: =IFERROR(((E6-F6)/F6),"") -> 0 | C6: -3000 | D6: -4000 | E6: 9000 | F6: 9000 | G6: 7000 | H6: 10000 | I6: 20000 | J6: 45000 | K6: 40000 | L6: 40000 | M6: 40000 | N6: 50000 | O6: 45000 | P6: 40000 | Q6: 40000 | R6: 40000 | S6: 40000 | T6: 5000 | U6: 8000 | V6: 3000 | W6: 5000 | X6: 8000
A7: Golden Delicious | B7: =IFERROR(((E7-F7)/F7),"") -> 0.31578947 | C7: -10000 | D7: -40000 | E7: 125000 | F7: 95000 | G7: 170000 | H7: 110000 | I7: 120000 | J7: 60000 | K7: 60000 | L7: 70000 | M7: 90000 | N7: 95000 | O7: 95000 | P7: 85000 | Q7: 80000 | R7: 65000 | S7: 50000 | T7: 20000 | U7: 40000 | V7: 30000 | W7: 20000 | X7: 22000
A8: Idared | B8: =IFERROR(((E8-F8)/F8),"") -> 0.4375 | C8: -20000 | D8: -25000 | E8: 115000 | F8: 80000 | G8: 85000 | H8: 115000 | I8: 140000 | J8: 140000 | K8: 80000 | L8: 190000 | M8: 70000 | N8: 170000 | O8: 170000 | P8: 140000 | Q8: 150000 | R8: 130000 | S8: 120000 | T8: 40000 | U8: 60000 | V8: 70000 | W8: 20000 | X8: 40000
A9: Jonagold | B9: =IFERROR(((E9-F9)/F9),"") -> 0.2 | C9: -7000 | D9: -10000 | E9: 18000 | F9: 15000 | G9: 15000 | H9: 25000 | I9: 35000 | J9: 40000 | K9: 10000 | L9: 30000 | M9: 10000 | N9: 45000 | O9: 50000 | P9: 40000 | Q9: 40000 | R9: 40000 | S9: 40000 | T9: 10000 | U9: 30000 | V9: 5000 | W9: 0 | X9: 3000
A10: Ligol | B10: =IFERROR(((E10-F10)/F10),"") -> -0.1 | C10: -7000 | D10: -10000 | E10: 18000 | F10: 20000 | G10: 18000 | H10: 25000 | I10: 50000 | J10: 45000 | K10: 7000 | L10: 65000 | M10: 30000 | N10: 65000 | O10: 65000 | P10: 60000 | Q10: 60000 | R10: 60000 | S10: 60000 | T10: 0 | U10: 0 | V10: 1000 | W10: 0 | X10: 0
A11: Lobo | B11: =IFERROR(((E11-F11)/F11),"") | C11: 0 | D11: 0 | O11: 0 | P11: 0 | Q11: 0 | R11: 0 | S11: 0 | T11: 5000 | U11: 26000 | V11: 10000 | W11: 4000 | X11: 5000
A12: Pinova | B12: =IFERROR(((E12-F12)/F12),"") -> 2.75 | C12: -5000 | D12: -8000 | E12: 15000 | F12: 4000 | G12: 20000 | H12: 18000 | I12: 11000 | J12: 7000 | K12: 2000 | L12: 5000 | O12: 0 | P12: 0 | Q12: 0 | R12: 0 | S12: 0 | T12: 0 | U12: 0 | V12: 0 | W12: 0 | X12: 0
A13: Red Delicious | B13: =IFERROR(((E13-F13)/F13),"") -> -0.2 | C13: -3000 | D13: -10000 | E13: 4000 | F13: 5000 | G13: 10000 | H13: 20000 | I13: 6000 | J13: 5000 | K13: 0 | O13: 0 | P13: 0 | Q13: 0 | R13: 0 | S13: 0 | T13: 0 | U13: 3000 | V13: 3000 | W13: 1000 | X13: 1000
A14: Red Jonaprince | B14: =IFERROR(((E14-F14)/F14),"") -> 0.53333333 | C14: -20000 | D14: -20000 | E14: 115000 | F14: 75000 | G14: 90000 | H14: 140000 | I14: 95000 | J14: 60000 | K14: 40000 | L14: 20000
A15: Shampion | B15: =IFERROR(((E15-F15)/F15),"") -> 0 | C15: -15000 | D15: -15000 | E15: 35000 | F15: 35000 | G15: 35000 | H15: 40000 | I15: 65000 | J15: 50000 | K15: 40000 | L15: 125000 | M15: 35000 | N15: 70000 | O15: 70000 | P15: 65000 | Q15: 70000 | R15: 50000 | S15: 50000 | T15: 20000 | U15: 20000 | V15: 20000 | W15: 5000 | X15: 10000
A16: Spartan | B16: =IFERROR(((E16-F16)/F16),"") | C16: 0 | D16: 0 | O16: 0 | P16: 0 | S16: 0 | T16: 0 | U16: 0 | V16: 1000 | W16: 0 | X16: 0
A17: Others | B17: =IFERROR(((E17-F17)/F17),"") -> -0.14285714 | C17: -10000 | D17: -15000 | E17: 30000 | F17: 35000 | G17: 30000 | H17: 30000 | I17: 25000 | J17: 110000 | K17: 35000 | L17: 100000 | M17: 4000 | N17: 75000 | O17: 85000 | P17: 60000 | Q17: 30000 | R17: 10000 | S17: 20000 | T17: 10000 | U17: 10000 | V17: 5000 | W17: 15000 | X17: 6000
A18: TOTAL | B18: =IFERROR(((E18-F18)/F18),"") -> 0.34300792 | C18: -115000 | D18: -171000 | E18: =SUM(E2:E17) -> 509000 | F18: =SUM(F2:F17) -> 379000 | G18: =SUM(G2:G17) -> 505000 | H18: =SUM(H2:H17) -> 563000 | I18: =SUM(I2:I17) -> 617000 | J18: =SUM(J2:J17) -> 592000 | K18: =SUM(K2:K17) -> 329000 | L18: =SUM(L2:L17) -> 665000 | M18: =SUM(M2:M17) -> 286000 | N18: 580000 | O18: 595000 | P18: =SUM(P2:P17) -> 502000 | Q18: =SUM(Q2:Q17) -> 495000 | R18: =SUM(R2:R17) -> 400000 | S18: =SUM(S2:S17) -> 385000 | T18: =SUM(T2:T17) -> 130000 | U18: =SUM(U2:U17) -> 250000 | V18: =SUM(V2:V17) -> 165000 | W18: =SUM(W2:W17) -> 80000 | X18: =SUM(X2:X17) -> 110000
A21: Pear Stocks (Ton) | B21: %YOY | C21: Moved 2026 | D21: Moved 2025 | E21: 46113 | F21: 45748 | G21: 45383 | H21: 45017 | I21: 44652 | J21: 44287 | K21: 43922 | L21: 43556 | M21: 42826 | N21: 42826 | O21: 42461 | P21: 42095 | Q21: 41730 | R21: 41365 | S21: 41000 | T21: 40634 | U21: 40269 | V21: 39904 | W21: 39539 | X21: 39173
A22: Conference | B22: =IFERROR(((E22-F22)/F22),"") -> 3 | C22: -7000 | D22: -7000 | E22: 8000 | F22: 2000 | G22: 3500 | H22: 1000 | I22: 1000 | J22: 1000 | K22: 0 | L22: 0 | M22: 0 | N22: 0 | O22: 1000 | P22: 0 | Q22: 2000 | R22: 0 | S22: 0 | T22: 0 | U22: 4000 | V22: 1000 | W22: 0 | X22: 1500
A23: Doyenne du comice | B23: =IFERROR(((E23-F23)/F23),"") | C23: 0 | D23: 0 | K23: 0 | L23: 0 | M23: 0 | N23: 0 | P23: 0 | Q23: 0 | R23: 0 | S23: 0 | T23: 0 | U23: 0 | V23: 0 | W23: 0 | X23: 0
A24: Others | B24: =IFERROR(((E24-F24)/F24),"") -> 0 | C24: -1500 | D24: -1500 | E24: 1000 | F24: 1000 | G24: 500 | K24: 0 | L24: 0 | M24: 0 | N24: 0 | P24: 0 | Q24: 0 | R24: 0 | S24: 0 | T24: 0 | U24: 0 | V24: 0 | W24: 0 | X24: 500
A25: TOTAL | B25: =IFERROR(((E25-F25)/F25),"") -> 2 | C25: -8500 | D25: -8500 | E25: =SUM(E22:E24) -> 9000 | F25: =SUM(F22:F24) -> 3000 | G25: =SUM(G22:G24) -> 4000 | H25: 1000 | I25: 1000 | J25: 1000 | K25: =SUM(K22:K24) -> 0 | L25: 0 | M25: =SUM(M22:M24) -> 0 | N25: =SUM(N22:N24) -> 0 | O25: 1000 | P25: =SUM(P22:P24) -> 0 | Q25: =SUM(Q22:Q24) -> 2000 | R25: =SUM(R22:R24) -> 0 | S25: =SUM(S22:S24) -> 0 | T25: =SUM(T22:T24) -> 0 | U25: =SUM(U22:U24) -> 4000 | V25: =SUM(V22:V24) -> 1000 | W25: =SUM(W22:W24) -> 0 | X25: =SUM(X22:X24) -> 2000
B27: Please note that this is just an indication. There might be a difference of +- 10%
B28: A significant part of apples are sold to the industry
E33: 2026 | F33: 2025 | G33: 2024 | H33: 2023 | I33: 2022 | J33: 2021 | K33: 2020 | L33: 2019 | M33: 2018 | N33: 2017
E34: 509000 | F34: 379000 | G34: 505000 | H34: 563000 | I34: 617000 | J34: 592000 | K34: 329000 | L34: 665000 | M34: 286000 | N34: 580000
F55: Jan | G55: Feb | H55: Mar | I55: Apr
E56: 2024-2025 | F56: 928000 | G56: 739000 | H56: 550000 | I56: 379000
E57: 2025-2026 | F57: 1055000 | G57: 836000 | H57: 624000 | I57: 509000

Sheet Portugal
A1: Variety (Ton) | B1: %YOY | C1: Moved 2026 | D1: Moved 2025 | E1: 46113 | F1: 45748 | G1: 45383 | H1: 45017 | I1: 44652 | J1: 44287 | K1: 43922 | L1: 43556 | M1: 43191 | N1: 42826 | O1: 42461 | P1: 42095 | Q1: 41730 | R1: 41365 | S1: 41000 | T1: 40634 | U1: 40269 | V1: 39904
A2: Gala | B2: =IFERROR(((E2-F2)/F2),"")
A3: Golden Delicius | B3: =IFERROR(((E3-F3)/F3),"")
A4: Jonagold | B4: =IFERROR(((E4-F4)/F4),"")
A5: Jonagored | B5: =IFERROR(((E5-F5)/F5),"")
A6: Red Delicious | B6: =IFERROR(((E6-F6)/F6),"")
A7: Reinette Grise du Canada | B7: =IFERROR(((E7-F7)/F7),"")
A8: Other | B8: =IFERROR(((E8-F8)/F8),"")
A9: Total | B9: =IFERROR(((E9-F9)/F9),"")
A12: Variety (Ton) | B12: %YOY | C12: Moved 2026 | D12: Moved 2025 | E12: 46113 | F12: 45748 | G12: 45383 | H12: 45017 | I12: 44652 | J12: 44287 | K12: 43922 | L12: 43556 | M12: 43191 | N12: 42826 | O12: 42461 | P12: 42095 | Q12: 41730 | R12: 41365 | S12: 41000 | T12: 40634 | U12: 40269 | V12: 39904
A13: Rocha | B13: =IFERROR(((E13-F13)/F13),"") | D13: -35838 | L13: 24870 | T13: 7940
A14: Total | B14: =IFERROR(((E14-F14)/F14),"") | D14: -35838 | L14: 24870 | T14: =SUM(T13:T13) -> 7940
B15: * Rocha stocks are compared per two months, in this case to stocks of 1 January

Sheet Spain
A1: Variety (Ton) | B1: %YOY | C1: Moved 2026 | D1: Moved 2025 | E1: 46113 | F1: 45748 | G1: 45383 | H1: 45017 | I1: 44652 | J1: 44287 | K1: 43922 | L1: 43556 | M1: 43191 | N1: 42826 | O1: 42461 | P1: 42095 | Q1: 41730 | R1: 41365 | S1: 41000 | T1: 40634 | U1: 40269 | V1: 39904 | W1: 39539 | X1: 39173
A2: Fuji Group | B2: =IFERROR(((E2-F2)/F2),"") -> -0.23816459 | C2: -2596.851 | D2: -4227.5392 | E2: 6397.2218 | F2: 8397.1179 | G2: 4469 | H2: 6992.9192 | I2: 11428.674 | J2: 9280.882 | K2: 12623.505 | L2: 13685 | M2: 8049 | N2: 12353.477 | O2: 9159.9221 | P2: 6593.4494 | Q2: 9089.7088 | R2: 2973.3181 | S2: 4926.9642 | T2: 4965 | U2: 3662.856 | V2: 5371.9196 | W2: 5907 | X2: 1714
A3: Gala Group | B3: =IFERROR(((E3-F3)/F3),"") -> 3.5031148 | C3: -300.89689 | D3: -713.01654 | E3: 665.31194 | F3: 147.74483 | G3: 321 | H3: 37.462211 | I3: 720.60763 | J3: 793.03503 | K3: 527.07402 | L3: 1886 | M3: 411 | N3: 1843.6643 | O3: 168.63963 | P3: 1874.4851 | Q3: 86.666773 | R3: 0 | S3: 39.728057 | T3: 632 | U3: 461.90495 | V3: 1071.9343 | W3: 1103 | X3: 251
A4: Golden Group | B4: =IFERROR(((E4-F4)/F4),"") -> -0.17178466 | C4: -15063.106 | D4: -16887.249 | E4: 57540.276 | F4: 69475.018 | G4: 74251 | H4: 49004.89 | I4: 87474.698 | J4: 51263.476 | K4: 97811.951 | L4: 69063 | M4: 59446 | N4: 90766.983 | O4: 59720.765 | P4: 76319.572 | Q4: 68690.555 | R4: 42646.578 | S4: 76693.332 | T4: 70768 | U4: 58498.116 | V4: 82998.67 | W4: 60475 | X4: 53537
A5: Granny Smith | B5: =IFERROR(((E5-F5)/F5),"") -> 0.038729198 | C5: -2585.5538 | D5: -2908.5468 | E5: 15530.103 | F5: 14951.061 | G5: 11824 | H5: 8788.805 | I5: 15786.299 | J5: 10382.906 | K5: 12736.359 | L5: 11527 | M5: 8934 | N5: 8954.2828 | O5: 8960.2115 | P5: 6313.4166 | Q5: 5480.9893 | R5: 3725.9975 | S5: 4575.649 | T5: 1087 | U5: 4224.749 | V5: 3163.5823 | W5: 1418 | X5: 569
A6: Red Delicious | B6: =IFERROR(((E6-F6)/F6),"") -> 0.40986245 | C6: -1343.8175 | D6: -1892.7289 | E6: 8202.514 | F6: 5817.9534 | G6: 7500 | H6: 7820.8247 | I6: 12816.456 | J6: 8666.5948 | K6: 11792.783 | L6: 9761 | M6: 6980 | N6: 6543.3298 | O6: 7914.9707 | P6: 5781.734 | Q6: 2622.2081 | R6: 2131.9048 | S6: 4635.0851 | T6: 2448 | U6: 4197.2238 | V6: 10313.317 | W6: 4891 | X6: 5836
A7: Others | B7: =IFERROR(((E7-F7)/F7),"") -> 0.25982827 | C7: -5402.15 | D7: -5945 | E7: 18501.46 | F7: 14685.7 | G7: 14640 | H7: 10034 | I7: 11994.47 | J7: 8061 | K7: 11778.39 | L7: 5692 | M7: 4670 | N7: 5290 | O7: 4437.1 | P7: 4218.118 | Q7: 3902.134 | R7: 2607 | S7: 5184.59 | T7: 2766 | U7: 3768 | V7: 3368 | W7: 2552 | X7: 3062
A8: TOTAL | B8: =IFERROR(((E8-F8)/F8),"") -> -0.058495101 | C8: -27292.375 | D8: -32574.081 | E8: =SUM(E2:E7) -> 106836.89 | F8: =SUM(F2:F7) -> 113474.6 | G8: =SUM(G2:G7) -> 113005 | H8: =SUM(H2:H7) -> 82678.901 | I8: =SUM(I2:I7) -> 140221.2 | J8: =SUM(J2:J7) -> 88447.894 | K8: =SUM(K2:K7) -> 147270.06 | L8: =SUM(L2:L7) -> 111614 | ... X8: =SUM(X2:X7) -> 64969
A11: Pear Stocks (Ton) | B11: %YOY | C11: Moved 2026 | D11: Moved 2025 | E11: 46113 | F11: 45748 | G11: 45383 | H11: 45017 | I11: 44652 | J11: 44287 | K11: 43922 | L11: 43556 | M11: 43191 | N11: 42826 | O11: 42461 | P11: 42095 | Q11: 41730 | R11: 41365 | S11: 41000 | T11: 40634 | U11: 40269 | V11: 39904 | W11: 39539 | X11: 39173
A12: Alexandrina | B12: =IFERROR(((E12-F12)/F12),"") -> 4.8368139 | C12: -374.9167 | D12: -157.81025 | E12: 660.9485 | F12: 113.23789 | G12: 213 | H12: 490.57113 | I12: 292.33734 | J12: 838.63686 | K12: 864.41877 | L12: 612 | M12: 916 | N12: 985.78212 | O12: 372.69344 | P12: 585.4961 | Q12: 2521.9151 | R12: 62.541362 | S12: 3179.9661 | T12: 2263 | U12: 1451.4265 | V12: 894.48632 | W12: 642 | X12: 3281
A13: Blanquilla | B13: =IFERROR(((E13-F13)/F13),"") -> 0.042649347 | C13: -859.83098 | D13: -632.06017 | E13: 829.1598 | F13: 795.2432 | G13: 118 | H13: 917.33263 | I13: 405.93657 | J13: 2304.6355 | K13: 558.84919 | L13: 1653 | M13: 3346 | N13: 1542.2347 | O13: 1859.362 | P13: 4275.0407 | Q13: 3904.7341 | R13: 1873.0021 | S13: 4672.494 | T13: 7701 | U13: 6311.931 | V13: 2045.5222 | W13: 12074 | X13: 5483
A14: Conference | B14: =IFERROR(((E14-F14)/F14),"") -> 0.49688769 | C14: -6068.4239 | D14: -4448.2975 | E14: 15389.99 | F14: 10281.326 | G14: 25040 | H14: 15825.341 | I14: 27637.113 | J14: 21710.488 | K14: 26486.653 | L14: 23562 | M14: 28418 | N14: 19933.043 | O14: 27608.174 | P14: 29678.29 | Q14: 32867.327 | R14: 12547.503 | S14: 49291.279 | T14: 40262 | U14: 26033.995 | V14: 32472.783 | W14: 19524 | X14: 29727
A15: Llimonera | B15: =IFERROR(((E15-F15)/F15),"") | C15: 0 | D15: 0 | H15: 0 | I15: 0 | J15: 0 | K15: 1.1347652 | M15: 0 | N15: 0 | O15: 0 | P15: 0 | Q15: 0 | R15: 0 | S15: 0 | T15: 0 | U15: 0 | V15: 0 | W15: 0 | X15: 0
A16: Others | B16: =IFERROR(((E16-F16)/F16),"") -> -0.24625377 | C16: -330.25497 | D16: -266.48116 | E16: 228.59029 | F16: 303.27222 | G16: 210 | H16: 263.47696 | I16: 95.153095 | J16: 551.04739 | K16: 554.77601 | L16: 571 | M16: 819 | N16: 710.69494 | O16: 536.80435 | P16: 404.00697 | Q16: 1007.031 | R16: 185.12831 | S16: 1831.8214 | T16: 754 | U16: 1379.4967 | V16: 793.98003 | W16: 1851 | X16: 2391
A17: TOTAL | B17: =IFERROR(((E17-F17)/F17),"") -> 0.48860793 | C17: -7633.4265 | D17: -5504.6491 | E17: =SUM(E12:E16) -> 17108.689 | F17: =SUM(F12:F16) -> 11493.079 | G17: =SUM(G12:G16) -> 25581 | H17: =SUM(H12:H16) -> 17496.722 | I17: =SUM(I12:I16) -> 28430.54 | J17: =SUM(J12:J16) -> 25404.808 | K17: =SUM(K12:K16) -> 28465.832 | L17: =SUM(L12:L16) -> 26398 | ... X17: =SUM(X12:X16) -> 40882

Sheet Switzerland
A1: Variety (Ton) | B1: %YOY | C1: Moved 2026 | D1: Moved 2025 | E1: 46113 | F1: 45748 | G1: 45383 | H1: 45017 | I1: 44652 | J1: 44287 | K1: 43922 | L1: 43556 | M1: 43191 | N1: 42826 | O1: 42461 | P1: 42095 | Q1: 41730 | R1: 41365 | S1: 41000 | T1: 40634 | U1: 40269 | V1: 39904 | W1: 39539 | X1: 39173
A2: Boskoop | B2: =IFERROR(((E2-F2)/F2),"") -> -0.35470942 | C2: -397 | D2: -441 | E2: 322 | F2: 499 | G2: 1 | H2: 180 | I2: 5 | J2: 0 | K2: 0 | L2: 5 | M2: 0 | N2: 0 | O2: 0 | P2: 0 | Q2: 0 | R2: 1 | S2: 0 | T2: 0 | U2: 0 | V2: 22 | W2: 47 | X2: 5
A3: Braeburn | B3: =IFERROR(((E3-F3)/F3),"") -> 0.1390082 | C3: -1354 | D3: -1477 | E3: 5834 | F3: 5122 | G3: 4428 | H3: 3999 | I3: 4180 | J3: 4344 | K3: 3543 | L3: =5845+155 -> 6000 | M3: 1314 | N3: 4280 | O3: 4272 | P3: 4092 | Q3: 4612 | R3: 3844 | S3: 4250 | T3: 3159 | U3: 3252 | V3: 2311 | W3: 1764 | X3: 1242
A4: Cox Orange | B4: =IFERROR(((E4-F4)/F4),"") | C4: 0 | D4: 0 | E4: 0 | F4: 0 | G4: 0 | H4: 0 | I4: 0 | J4: 0 | K4: 0 | M4: 0 | N4: 0 | O4: 0 | P4: 0 | Q4: 0 | R4: 0 | S4: 0 | T4: 0 | U4: 0 | V4: 0 | W4: 0 | X4: 0
A5: Elstar | B5: =IFERROR(((E5-F5)/F5),"") | C5: 0 | D5: 0 | E5: 0 | F5: 0 | G5: 0 | H5: 0 | I5: 0 | J5: 0 | K5: 0 | M5: 0 | N5: 0 | O5: 0 | P5: 0 | Q5: 0 | R5: 0 | S5: 37 | T5: 0 | U5: 0 | V5: 0 | W5: 0 | X5: 0
A6: Gala | B6: =IFERROR(((E6-F6)/F6),"") -> -0.06682008 | C6: -3087 | D6: -3312 | E6: 10949 | F6: 11733 | G6: 8279 | H6: 7391 | I6: 12285 | J6: 11724 | K6: 10542 | L6: =10794+434 -> 11228 | M6: 3807 | N6: 6880 | O6: 9363 | P6: 7627 | Q6: 8538 | R6: 7726 | S6: 10932 | T6: 8194 | U6: 8556 | V6: 4808 | W6: 8099 | X6: 4572
A7: Glockenapfel | B7: =IFERROR(((E7-F7)/F7),"") -> -0.39393939 | C7: -5 | D7: -17 | E7: 20 | F7: 33 | G7: 4 | H7: 37 | I7: 41 | J7: 20 | K7: 15 | L7: =67+31 -> 98 | M7: 4 | N7: 57 | O7: 65 | P7: 28 | Q7: 85 | R7: 90 | S7: 43 | T7: 386 | U7: 50 | V7: 371 | W7: 220 | X7: 347
A8: Golden Delicious | B8: =IFERROR(((E8-F8)/F8),"") -> -0.039218443 | C8: -1250 | D8: -1163 | E8: 6835 | F8: 7114 | G8: 6001 | H8: 5688 | I8: 7047 | J8: 6282 | K8: 7079 | L8: =6788+105 -> 6893 | M8: 5526 | N8: 9466 | O8: 7619 | P8: 9069 | Q8: 7018 | R8: 9996 | S8: 9736 | T8: 11300 | U8: 12055 | V8: 12645 | W8: 12858 | X8: 13293
A9: Granny Smith | B9: =IFERROR(((E9-F9)/F9),"") -> -0.11666667 | C9: -107 | D9: -56 | E9: 106 | F9: 120 | G9: 56 | H9: 131 | I9: 286 | J9: 48 | K9: 35 | L9: 80 | M9: 38 | N9: 57 | O9: 18 | P9: 10 | Q9: 9 | R9: 29 | S9: 0 | T9: 43 | U9: 5 | V9: 64 | W9: 0 | X9: 1
A10: Idared | B10: =IFERROR(((E10-F10)/F10),"") -> -0.60311284 | C10: -30 | D10: 8 | E10: 102 | F10: 257 | G10: 94 | H10: 268 | I10: 272 | J10: 343 | K10: 104 | L10: 266 | M10: 14 | N10: 312 | O10: 750 | P10: 738 | Q10: 1245 | R10: 1153 | S10: 678 | T10: 2227 | U10: 1405 | V10: 2019 | W10: 973 | X10: 2344
A11: Jonagold | B11: =IFERROR(((E11-F11)/F11),"") -> 0.070479492 | C11: -187 | D11: -209 | E11: 1853 | F11: 1731 | G11: 730 | H11: 1426 | I11: 1180 | J11: 796 | K11: 1393 | L11: =1467+94 -> 1561 | M11: 0 | N11: 2238 | O11: 1604 | P11: 2012 | Q11: 2077 | R11: 1978 | S11: 2607 | T11: 1807 | U11: 2309 | V11: 2392 | W11: 2394 | X11: 2634
A12: Kanada Reinette | B12: =IFERROR(((E12-F12)/F12),"") -> -0.58787879 | C12: -22 | D12: 5 | E12: 68 | F12: 165 | G12: 0 | H12: 18 | I12: 0 | J12: 36 | K12: 0 | L12: 181 | M12: 0 | N12: 50 | O12: 13 | P12: 75 | Q12: 104 | R12: 15 | S12: 36 | T12: 46 | U12: 0 | V12: 10 | W12: 11 | X12: 79
A13: Maigold | B13: =IFERROR(((E13-F13)/F13),"") -> 5.1666667 | C13: -35 | D13: -11 | E13: 185 | F13: 30 | G13: 11 | H13: 59 | I13: 55 | J13: 112 | K13: 23 | L13: 269 | M13: 64 | N13: 173 | O13: 337 | P13: 596 | Q13: 572 | R13: 1120 | S13: 1419 | T13: 3192 | U13: 3445 | V13: 2879 | W13: 3816 | X13: 5457
A14: Pinova | B14: =IFERROR(((E14-F14)/F14),"") -> -0.20189274 | C14: -124 | D14: -49 | E14: 253 | F14: 317 | G14: 165 | H14: 77 | I14: 137 | J14: 243 | K14: 13 | L14: 102 | M14: 0 | N14: 111 | O14: 97 | P14: 23 | Q14: 261 | R14: 437 | S14: 598 | T14: 503 | U14: 445 | V14: 450 | W14: 376 | X14: 319
A15: Rubinette | B15: =IFERROR(((E15-F15)/F15),"") | C15: -1 | D15: -3 | E15: 0 | F15: 0 | G15: 0 | H15: 3 | I15: 0 | J15: 7 | K15: 0 | L15: 10 | M15: 0 | N15: 0 | O15: 0 | P15: 0 | Q15: 0 | R15: 0 | S15: 0 | T15: 0 | U15: 0 | V15: 0 | W15: 0 | X15: 0
A16: Topaz | B16: =IFERROR(((E16-F16)/F16),"") -> -0.36899563 | C16: -166 | D16: -130 | E16: 289 | F16: 458 | G16: 112 | H16: 299 | I16: 79 | J16: 92 | K16: 7 | L16: 260 | M16: 5 | N16: 113 | O16: 217 | P16: 172 | Q16: 562 | R16: 378 | S16: 772 | T16: 448 | U16: 565 | V16: 286 | W16: 467 | X16: 331
A17: Other new varieties³ | B17: =IFERROR(((E17-F17)/F17),"") -> 0.098309669 | C17: -3135 | D17: -1620 | E17: 8122 | F17: 7395 | G17: 4043 | H17: 5309 | I17: 6112 | J17: 5047 | K17: 4534 | L17: =6907+136 -> 7043 | M17: 2691 | N17: 4922 | O17: 5343 | P17: 6777 | Q17: 5660 | R17: 3144 | S17: 3587 | T17: 1395 | U17: =99+197+1259 -> 1555 | V17: 637 | W17: 320 | X17: 100
A18: Others | B18: =IFERROR(((E18-F18)/F18),"") -> -0.39402985 | C18: 252 | D18: -408 | E18: 2030 | F18: 3350 | G18: 1668 | H18: 2120 | I18: 1766 | J18: 2375 | K18: 1292 | L18: =219+395+428+38+2123+45 -> 3248 | M18: =48+234+101+61 -> 444 | N18: 2259 | O18: 684 | P18: 545 | Q18: 601 | R18: 243 | S18: 392 | T18: 273 | U18: 440 | V18: 301 | W18: 406 | X18: 318
A19: TOTAL | B19: =IFERROR(((E19-F19)/F19),"") -> -0.035382528 | C19: -9648 | D19: -8883 | E19: =SUM(E2:E18) -> 36968 | F19: =SUM(F2:F18) -> 38324 | G19: =SUM(G2:G18) -> 25592 | H19: =SUM(H2:H18) -> 27005 | I19: =SUM(I2:I18) -> 33445 | J19: =SUM(J2:J18) -> 31469 | K19: 28580 | L19: =SUM(L2:L18) -> 37244 | M19: =SUM(M2:M18) -> 13907 | N19: =SUM(N2:N18) -> 30918 | O19: =SUM(O2:O18) -> 30382 | P19: =SUM(P2:P18) -> 31764 | Q19: =SUM(Q2:Q18) -> 31344 | R19: =SUM(R2:R18) -> 30154 | S19: =SUM(S2:S18) -> 35087 | ... X19: =SUM(X2:X18) -> 31042
A22: Pear Stocks (Ton) | B22: %YOY | C22: Moved 2026 | D22: Moved 2025 | E22: 46113 | F22: 45748 | G22: 45383 | H22: 45017 | I22: 44652 | J22: 44287 | K22: 43922 | L22: 43556 | M22: 43191 | N22: 42826 | O22: 42461 | P22: 42095 | Q22: 41730 | R22: 41365 | S22: 41000 | T22: 40634 | U22: 40269 | V22: 39904 | W22: 39539 | X22: 39173
A23: Boscs Flaschenbirne | B23: =IFERROR(((E23-F23)/F23),"") -> -0.992966 | C23: -633 | D23: -1117 | E23: 12 | F23: 1706 | G23: 204 | H23: 62 | I23: 709 | J23: 1556 | K23: 2364 | L23: 1904 | M23: 0 | N23: 298 | O23: 233 | P23: 1422 | Q23: 715 | R23: 26 | S23: 1148 | T23: 75 | U23: 714 | V23: 0 | W23: 330 | X23: 11
A24: Conference | B24: =IFERROR(((E24-F24)/F24),"") -> -1 | C24: -2 | D24: -636 | E24: 0 | F24: 251 | G24: 1 | H24: 0 | J24: 10 | K24: 40 | L24: 24 | M24: 0 | N24: 64 | O24: 0 | P24: 47 | Q24: 2 | R24: 0 | S24: 1030 | T24: 2 | U24: 542 | V24: 0 | W24: 596 | X24: 3
A25: Gute Luise | B25: =IFERROR(((E25-F25)/F25),"") -> -0.94936709 | C25: -7 | D25: -371 | E25: 4 | F25: 79 | G25: 0 | H25: 0 | J25: 22 | K25: 15 | L25: 6 | M25: 0 | N25: 20 | O25: 88 | P25: 55 | Q25: 21 | R25: 0 | S25: 696 | T25: 0 | U25: 310 | V25: 0 | W25: 725 | X25: 0
A26: Williams | B26: =IFERROR(((E26-F26)/F26),"") | C26: 0 | D26: 0 | E26: 0 | F26: 0 | G26: 0 | H26: 0 | J26: 0 | K26: 10 | M26: 0 | N26: 0
A27: Others | B27: =IFERROR(((E27-F27)/F27),"") -> -1 | C27: -106 | D27: -225 | E27: 0 | F27: 63 | G27: 49 | H27: 1 | I27: 4 | J27: 47 | K27: 30 | L27: 80 | M27: 0 | N27: 45 | O27: 35 | P27: 97 | Q27: 12 | R27: 2 | S27: 59 | T27: 2 | U27: 67 | V27: 0 | W27: 105 | X27: 19
A28: TOTAL | B28: =IFERROR(((E28-F28)/F28),"") -> -0.99237732 | C28: -748 | D28: -2349 | E28: =SUM(E23:E27) -> 16 | F28: =SUM(F23:F27) -> 2099 | G28: =SUM(G23:G27) -> 254 | H28: =SUM(H23:H27) -> 63 | I28: =SUM(I23:I27) -> 713 | J28: =SUM(J23:J27) -> 1635 | K28: 2459 | L28: =SUM(L23:L27) -> 2014 | M28: 0 | N28: =SUM(N23:N27) -> 427 | O28: =SUM(O23:O27) -> 356 | P28: =SUM(P23:P27) -> 1621 | Q28: =SUM(Q23:Q27) -> 750 | R28: =SUM(R23:R27) -> 28 | S28: =SUM(S23:S27) -> 2933 | T28: =SUM(T23:T27) -> 79 | U28: =SUM(U23:U27) -> 1633 | ... X28: =SUM(X23:X27) -> 33

Sheet Netherlands
A1: Variety (Ton) | B1: %YOY | C1: Moved 2026 | D1: Moved 2025 | E1: 46113 | F1: 45748 | G1: 45383 | H1: 45017 | I1: 44652 | J1: 44287 | K1: 43922 | L1: 43556 | M1: 43191 | N1: 42826 | O1: 42461 | P1: 42095 | Q1: 41730 | R1: 41365 | S1: 41000 | T1: 40634 | U1: 40269 | V1: 39904 | W1: 39539 | X1: 39173
A2: Boskoop | B2: =IFERROR(((E2-F2)/F2),"") | C2: -818.09 | D2: 0 | E2: 1015 | F2: 0 | G2: 24.6 | H2: 1003 | I2: 2069 | J2: 112 | K2: 131 | L2: 913 | M2: 58 | N2: 1082 | O2: 2244 | P2: 2148 | Q2: 1000 | R2: 0 | S2: 1000 | T2: 1000 | U2: 1000 | V2: 5000 | W2: 1000 | X2: 4000
A3: Elstar | B3: =IFERROR(((E3-F3)/F3),"") -> 0.68262099 | C3: -10862.3 | D3: -9141.4 | E3: 29628.6 | F3: 17608.6 | G3: 14285.4 | H3: 20883 | I3: 28457 | J3: 10925 | K3: 32158 | L3: 16922 | M3: 12763 | N3: 28585 | O3: 32577 | P3: 36284 | Q3: 28000 | R3: 21000 | S3: 35000 | T3: 22000 | U3: 37000 | V3: 32000 | W3: 33000 | X3: 28000
A4: Golden Delicious | B4: =IFERROR(((E4-F4)/F4),"") -> -0.14614122 | C4: -313.3728 | D4: -712 | E4: 520 | F4: 609 | G4: 1563 | H4: 1913 | I4: 2346 | J4: 2752 | K4: 3307 | L4: 4511 | M4: 5054 | N4: 6566 | O4: 9155 | P4: 9508 | Q4: 11000 | R4: 9000 | S4: 9000 | T4: 8000 | U4: 10000 | V4: 12000 | W4: 11000 | X4: 12000
A5: Jonagold (incl. Jonagored) | B5: =IFERROR(((E5-F5)/F5),"") -> 0.5225064 | C5: -2486.8472 | D5: -2808 | E5: 33106.902 | F5: 21745 | G5: 21822.6 | H5: 26903 | I5: 29460 | J5: 27086 | K5: 31921 | L5: 32351 | M5: 25649 | N5: 47537 | O5: 45225 | P5: 50505 | Q5: 49000 | R5: 42000 | S5: 73000 | T5: 41000 | U5: 66000 | V5: 68000 | W5: 67000 | X5: 58000
A6: Other new varieties | B6: =IFERROR(((E6-F6)/F6),"") -> 1.1411268 | C6: -4312.56 | D6: -3059.7 | E6: 21583.2 | F6: 10080.3 | G6: 11750.7 | H6: 17670 | I6: 19471 | J6: 15354 | K6: 18241 | L6: 20060 | M6: 8478 | N6: 19933 | O6: 16061 | P6: 16145 | Q6: 12000
A7: Others | B7: =IFERROR(((E7-F7)/F7),"") -> 1.354263 | C7: -1167 | D7: -1161.8 | E7: 2750.25 | F7: 1168.2 | G7: 559.2 | H7: 995 | I7: 1893 | J7: 3222 | K7: 3485 | L7: 3814 | M7: 3911 | N7: 4015 | O7: 3067 | P7: 4023 | Q7: 5000 | R7: 12000 | S7: 14000 | T7: 13000 | U7: 11000 | V7: 3000 | W7: 1000 | X7: 3000
A8: TOTAL | B8: =IFERROR(((E8-F8)/F8),"") -> 0.73017083 | C8: -19960.17 | D8: -16882.9 | E8: =SUM(E2:E7) -> 88603.952 | F8: =SUM(F2:F7) -> 51211.1 | G8: =SUM(G2:G7) -> 50005.5 | H8: =SUM(H2:H7) -> 69367 | I8: =SUM(I2:I7) -> 83696 | J8: =SUM(J2:J7) -> 59451 | K8: =SUM(K2:K7) -> 89243 | L8: =SUM(L2:L7) -> 78571 | ... X8: =SUM(X2:X7) -> 105000
A11: Pear Stocks (Ton) | B11: %YOY | C11: Moved 2026 | D11: Moved 2025 | E11: 46113 | F11: 45748 | G11: 45383 | H11: 45017 | I11: 44652 | J11: 44287 | K11: 43922 | L11: 43556 | M11: 43191 | N11: 42826 | O11: 42461 | P11: 42095 | Q11: 41730 | R11: 41365 | S11: 41000 | T11: 40634 | U11: 40269 | V11: 39904 | W11: 39539 | X11: 39173
A12: Conference | B12: =IFERROR(((E12-F12)/F12),"") -> 0.20332161 | C12: -29966.51 | D12: -26392.5 | E12: 111684.49 | F12: 92813.5 | G12: 106714 | H12: 97084 | I12: 88411 | J12: 104075 | K12: 88793 | L12: 103813 | M12: 90947 | N12: 97997 | O12: 99846 | P12: 91241 | Q12: 80000 | R12: 42000 | S12: 75000 | T12: 59000 | U12: 64000 | V12: 22000 | W12: 41000 | X12: 47000
A13: Doyenne | B13: =IFERROR(((E13-F13)/F13),"") | C13: -540 | D13: 0 | E13: 0 | F13: 0 | G13: 0 | H13: 0 | I13: 0 | J13: 0 | L13: 0 | M13: 0 | N13: 35 | O13: 20 | P13: 274 | Q13: 200 | R13: 0 | S13: 0 | T13: 0 | U13: 0 | V13: 0 | W13: 0 | X13: 0
A14: Other | B14: =IFERROR(((E14-F14)/F14),"") -> 3.4444444 | C14: -2432 | D14: -2543 | E14: 7200 | F14: 1620 | G14: 3049.3 | H14: 2996 | I14: 3016 | J14: 2258 | K14: 2508 | L14: 3814 | M14: 1484 | N14: 1837 | O14: 1503 | P14: 748 | Q14: 4000 | R14: 0 | S14: 0 | T14: 0 | U14: 0 | V14: 0 | W14: 0 | X14: 0
A15: TOTAL | B15: =IFERROR(((E15-F15)/F15),"") -> 0.25892284 | C15: -32938.51 | D15: -28935.5 | E15: =SUM(E12:E14) -> 118884.49 | F15: =SUM(F12:F14) -> 94433.5 | G15: =SUM(G12:G14) -> 109763.3 | H15: =SUM(H12:H14) -> 100080 | I15: =SUM(I12:I14) -> 91427 | J15: =SUM(J12:J14) -> 106333 | K15: =SUM(K12:K14) -> 91301 | L15: =SUM(L12:L14) -> 107627 | ... X15: =SUM(X12:X14) -> 47000

Sheet UK
A1: Variety (Ton) | B1: %YOY | C1: Moved 2026 | D1: Moved 2025 | E1: 46113 | F1: 45748 | G1: 45383 | H1: 45017 | I1: 44652 | J1: 44287 | K1: 43922 | L1: 43556 | M1: 43191 | N1: 42826 | O1: 42461 | P1: 42095 | Q1: 41730 | R1: 41365 | S1: 41000 | T1: 40634 | U1: 40269 | V1: 39904 | W1: 39539 | X1: 39173
A2: Braeburn | B2: =IFERROR(((E2-F2)/F2),"") -> -0.12477064 | C2: -5344 | D2: -5483 | E2: 9540 | F2: 10900 | G2: 3710 | H2: 8403 | I2: 8887 | J2: 5511 | K2: 6131 | L2: 5088 | M2: 1622 | N2: 5410 | O2: 4950 | P2: 2700 | Q2: 3800 | R2: 300 | S2: 3200 | T2: 2000 | U2: 1800 | V2: 1000 | W2: 900 | X2: 0
A3: Bramley | B3: =IFERROR(((E3-F3)/F3),"") -> -0.30474569 | C3: -963 | D3: -500 | E3: 3267 | F3: 4699 | G3: 1532 | H3: 5093 | I3: 1922 | J3: 4489 | K3: 2005 | L3: 19800 | M3: 18000 | N3: 19850 | O3: 16000 | P3: 29000 | Q3: 26000 | R3: 10000 | S3: 25000 | T3: 26000 | U3: 26000 | V3: 28000 | W3: 20000 | X3: 25000
A4: Cameo | B4: =IFERROR(((E4-F4)/F4),"") -> -0.084578804 | C4: -1579 | D4: -909 | E4: 2695 | F4: 2944 | G4: 336 | H4: 2827 | I4: 1070 | J4: 2109 | K4: 647 | L4: 1314 | M4: 256 | N4: 0 | O4: 1100 | P4: 300 | Q4: 300 | R4: 0 | S4: 0 | T4: 0 | U4: 200 | V4: 0 | W4: 0 | X4: 0
A5: Cox Orange | B5: =IFERROR(((E5-F5)/F5),"") | C5: -530 | D5: -163 | E5: 313 | H5: 433 | I5: 111 | J5: 92 | K5: 142 | L5: 316 | M5: 53 | N5: 210 | O5: 1700 | P5: 0 | Q5: 1900 | R5: 100 | S5: 1400 | T5: 1000 | U5: 1200 | V5: 700 | W5: 1000 | X5: 0
A6: Gala | B6: =IFERROR(((E6-F6)/F6),"") -> 0.75756025 | C6: -8471 | D6: -9251 | E6: 34348 | F6: 19543 | G6: 12377 | H6: 25666 | I6: 16171 | J6: 10974 | K6: 14028 | L6: 10885 | M6: 6540 | N6: 5540 | O6: 10100 | P6: 1400 | Q6: 3700 | R6: 1500 | S6: 2200 | T6: 1000 | U6: 800 | V6: 100 | W6: 0 | X6: 0
A7: Jonagold | B7: =IFERROR(((E7-F7)/F7),"") | C7: 0 | D7: 0 | L7: 84 | M7: 0 | N7: 0 | O7: 0 | P7: 0 | Q7: 0 | R7: 0 | S7: 0 | T7: 0 | U7: 0 | V7: 0 | W7: 0 | X7: 0
A8: Jonagored | B8: =IFERROR(((E8-F8)/F8),"") | C8: 0 | D8: 0 | M8: 256 | N8: 0 | O8: 0 | P8: 0 | Q8: 0 | R8: 0 | S8: 0 | T8: 500 | U8: 700 | V8: 500 | W8: 0 | X8: 0
A9: Spartan | B9: =IFERROR(((E9-F9)/F9),"") | C9: 0 | D9: 0 | M9: 0 | N9: 0 | O9: 0 | P9: 0 | Q9: 0 | R9: 0 | S9: 0 | T9: 0 | U9: 0 | V9: 0 | W9: 0 | X9: 0
A10: Other new varieties | B10: =IFERROR(((E10-F10)/F10),"") -> 0.48008629 | C10: -2757 | D10: -2213 | E10: 8919 | F10: 6026 | G10: 4439 | H10: 7456 | I10: 4746 | J10: 0 | L10: 2732 | M10: 1359 | N10: 0 | O10: 3200 | P10: 2000 | Q10: 1500 | R10: 500 | S10: 300 | T10: 1000 | U10: 800 | W10: 600 | X10: 0
A11: Other | B11: =IFERROR(((E11-F11)/F11),"") -> 1.6833713 | C11: -406 | D11: -622 | E11: 1178 | F11: 439 | G11: 84 | H11: 608 | I11: 468 | J11: 511 | L11: 974 | M11: 0 | N11: 2410 | O11: 0 | P11: 0 | Q11: 300 | R11: 0 | S11: 0 | T11: 0 | U11: 0 | V11: 700 | W11: 0 | X11: 0
A12: Total | B12: =IFERROR(((E12-F12)/F12),"") -> 0.35260712 | C12: -20050 | D12: -19141 | E12: =SUM(E2:E11) -> 60260 | F12: =SUM(F2:F11) -> 44551 | G12: =SUM(G2:G11) -> 22478 | H12: =SUM(H2:H11) -> 50486 | I12: =SUM(I2:I11) -> 33375 | J12: =SUM(J2:J11) -> 23686 | K12: =SUM(K2:K11) -> 22953 | L12: =SUM(L2:L11) -> 41193 | ... O12: =SUM(O2:O11) -> 37050 | P12: 35400 | Q12: =SUM(Q2:Q11) -> 37500 | R12: =SUM(R2:R11) -> 12400 | S12: =SUM(S2:S11) -> 32100 | T12: =SUM(T2:T11) -> 31500 | U12: =SUM(U2:U11) -> 31500 | V12: =SUM(V2:V11) -> 31000 | W12: =SUM(W2:W11) -> 22500 | X12: =SUM(X2:X11) -> 25000
A15: Variety (Ton) | B15: %YOY | C15: Moved 2026 | D15: Moved 2025 | E15: 46113 | F15: 45748 | G15: 45383 | H15: 45017 | I15: 44652 | J15: 44287 | K15: 43922 | L15: 43556 | M15: 43191 | N15: 42826 | O15: 42461 | P15: 42095 | Q15: 41730 | R15: 41365 | S15: 41000 | T15: 40634 | U15: 40269 | V15: 39904 | W15: 39539 | X15: 39173
A16: Conference | B16: =IFERROR(((E16-F16)/F16),"") -> 1.0905298 | C16: -2241 | D16: -2091 | E16: 5011 | F16: 2397 | G16: 957 | H16: 2080 | I16: 1390 | J16: 1498 | K16: 113 | L16: 751 | M16: 898 | N16: 2150 | O16: 1850 | P16: 1500 | Q16: 2800 | R16: 2500 | S16: 2500 | T16: 2500 | U16: 2900 | V16: 1000 | W16: 800 | X16: 1000
A17: Doyenne du comice | B17: =IFERROR(((E17-F17)/F17),"") | C17: 0 | D17: 0 | J17: 145 | M17: 0 | N17: 0 | O17: 0 | P17: 0 | Q17: 0 | R17: 0 | S17: 0 | T17: 0 | U17: 0 | V17: 0 | W17: 0 | X17: 0
A18: Other | B18: =IFERROR(((E18-F18)/F18),"") | C18: -102 | D18: 0 | E18: 236 | I18: 3 | J18: 180 | K18: 30 | M18: 0 | N18: 0 | P18: 0 | Q18: 0 | R18: 0 | S18: 0 | T18: 0 | U18: 0 | V18: 0 | W18: 0 | X18: 0
A19: Total | B19: =IFERROR(((E19-F19)/F19),"") -> 1.1889862 | C19: -2343 | D19: -2091 | E19: =SUM(E16:E18) -> 5247 | F19: =SUM(F16:F18) -> 2397 | G19: =SUM(G16:G18) -> 957 | H19: =SUM(H16:H18) -> 2080 | I19: =SUM(I16:I18) -> 1393 | J19: =SUM(J16:J18) -> 1823 | K19: =SUM(K16:K18) -> 143 | L19: =SUM(L16:L18) -> 751 | ... O19: =SUM(O16:O18) -> 1850 | P19: 1500 | Q19: =SUM(Q16:Q18) -> 2800 | R19: =SUM(R16:R18) -> 2500 | S19: =SUM(S16:S18) -> 2500 | T19: =SUM(T16:T18) -> 2500 | U19: =SUM(U16:U18) -> 2900 | V19: =SUM(V16:V18) -> 1000 | W19: =SUM(W16:W18) -> 800 | X19: =SUM(X16:X18) -> 1000
B20: * As of 2017, the UK works with a different methodology, which is why the figures are not comparable.
